{"text_format":"1","workbook":"xlsx","n_sheets":14,"sheets":["Раздел0","Раздел1","Раздел2","Раздел3","Раздел4","Раздел5","Раздел6","Раздел7","Раздел8","Раздел9","Раздел10","Раздел11","Раздел12","Раздел13"],"not_rendered":{"charts":0,"images":0,"macros":1,"external_links":1,"defined_names":496,"comments":0,"pivot_tables":0},"unopened":[],"bounds":{"document_bytes":16777216,"sheet_cells":100000,"rows_first":2000,"rows_last":500,"rows_between":2000,"halvings":0,"cell_chars":16384,"cell_head_chars":4096},"cells_cut":0,"cells_raw":0,"read":"whole","date_system":"1900"}

{"sheet":"Раздел0","index":0,"n_rows":41,"n_cols":14,"rows_kept":41,"cut":false,"hidden":false,"merged":[[39,0,39,18],[33,1,33,3],[33,4,33,17],[34,1,37,3],[34,4,35,17],[36,4,37,7],[36,8,37,11],[36,12,37,17],[29,1,29,9],[29,10,29,11],[30,2,30,9],[30,10,30,11],[32,1,32,6],[32,7,32,17],[24,1,24,9],[24,10,24,11],[26,2,26,9],[27,2,27,9],[28,1,28,9],[28,10,28,11],[25,1,25,9],[21,2,21,9],[22,1,22,9],[22,10,22,11],[22,13,22,16],[23,1,23,9],[23,10,23,11],[14,13,14,16],[20,2,20,9],[20,10,20,11],[15,2,15,9],[15,13,15,16],[16,2,16,9],[16,13,16,16],[17,2,17,9],[17,13,17,16],[18,2,18,9],[18,13,18,16],[19,2,19,9],[19,10,19,11],[19,13,19,16],[0,0,0,18],[1,0,38,0],[1,4,1,14],[1,18,38,18],[3,4,3,14],[5,3,5,15],[7,4,7,14],[9,5,9,13],[10,5,10,13],[12,1,12,9],[12,10,12,11],[12,13,12,16],[13,1,13,9],[13,10,13,11],[14,2,14,9],[14,10,14,11]]}
[]
[null,null,null,null,"СТАТИСТИЧЕСКОЕ НАБЛЮДЕНИЕ МИНИСТЕРСТВА СПОРТА РОССИЙСКОЙ ФЕДЕРАЦИИ"]
[]
[null,null,null,null,"КОНФИДЕНЦИАЛЬНОСТЬ ГАРАНТИРУЕТСЯ ПОЛУЧАТЕЛЕМ ИНФОРМАЦИИ"]
[]
[null,null,null,"Нарушение порядка предоставления первичных статистических данных или несвоевременное предоставление этих данных, либо предоставление недостоверных первичных статистических данных влечет ответственность, установленную статьей 13.19 Кодекса Российской Федерации об административных правонарушениях от 30.12.2001 № 195-ФЗ, а также статьей 3 Закона Российской Федерации от 13.05.1992 г. № 2761-1 “Об ответственности за нарушение порядка представления государственной статистической отчетности”"]
[]
[null,null,null,null,"ВОЗМОЖНО ПРЕДОСТАВЛЕНИЕ В ЭЛЕКТРОННОМ ВИДЕ"]
[]
[null,null,null,null,null,"СВЕДЕНИЯ ПО ОРГАНИЗАЦИЯМ, ОСУЩЕСТВЛЯЮЩИМ СПОРТИВНУЮ ПОДГОТОВКУ"]
[null,null,null,null,null,"по состоянию на 31 декабря 2019 г."]
[]
[null,"Предоставляют:",null,null,null,null,null,null,null,null,"Сроки предоставления",null,null,"Форма № 5-ФК "]
[null,"юридические лица (кроме субъектов малого и среднего предпринимательства) – \nорганизации, осуществляющие спортивную подготовку, независимо от их организационно-правовых форм и форм собственности: детско-юношеские спортивные школы (ДЮСШ), спортивные школы (СШ), специализированные детско-юношеские спортивные школы олимпийского резерва (СДЮСШОР), спортивные школы олимпийского резерва (СШОР), училища (колледжи, колледжи-интернаты, техникумы) олимпийского резерва (УОР), центры спортивной подготовки (ЦСП), центры олимпийской подготовки (ЦОП):",null,null,null,null,null,null,null,null,"10 января\n"]
[null,"-","органу местного самоуправления поселения, внутригородской территории города "]
[null,null,"федерального значения,",null,null,null,null,null,null,null,null,null,null,"Письмо Минспорта России"]
[null,"-","органу местного самоуправления городского округа, муниципального района в",null,null,null,null,null,null,null,null,null,null,"от 16.12.2019 № СК-ПВ-10/11584"]
[null,null," области физической культуры и спорта,"]
[null,"-","территориальному органу исполнительной власти города федерального значения в "]
[null,null,"области физической культуры и спорта,"]
[null,"-","иным органам местного самоуправления, в ведении которых находятся"]
[null,null,"организации, осуществляющие спортивную подготовку,"]
[null,"органы местного самоуправления поселений, внутригородских территорий городов  ",null,null,null,null,null,null,null,null,"15 января",null,null,"Годовая"]
[null,"федерального значения, городских округов, муниципальных районов в области"]
[null,"физической культуры и спорта, территориальные органы исполнительной власти "]
[null,"городов федерального значения в области физической культуры и спорта, \nиные органы местного самоуправления, в ведении которых находятся организации, \nосуществляющие спортивную подготовку:"]
[null,"-","органу исполнительной власти субъекта Российской Федерации в области "]
[null,null,"физической культуры и спорта,"]
[null,"органы исполнительной власти субъектов Российской Федерации в области ",null,null,null,null,null,null,null,null,"20 января"]
[null,"физической культуры и спорта:"]
[null,"-","Министерству спорта Российской Федерации"]
[null,null," "]
[null,"Наименование отчитывающейся организации",null,null,null,null,null,"муниципальное бюджетное учреждение дополнительного образования \"Детско-юношеская спортивная школа\" Гайского городского округа Оренбургской области"]
[null,"Почтовый адрес",null,null,"462635, Оренбургская область, город Гай, улица Декабристов, дом 10а"]
[null,"Код\nформы\nпо ОКУД",null,null,"Код"]
[]
[null,null,null,null,"отчитывающейся организации по ОКПО"]
[]
[]
[]
[null,null,609,null,null,13664575]

{"sheet":"Раздел1","index":1,"n_rows":21,"n_cols":13,"rows_kept":21,"cut":false,"hidden":false,"merged":[[0,0,8,0],[0,1,0,11],[1,8,1,11],[2,2,3,2],[2,4,2,11],[0,12,8,12],[2,1,3,1],[2,3,3,3],[13,1,15,1],[13,2,15,2],[12,9,12,12],[19,1,20,1],[19,2,20,2],[16,3,16,4],[17,3,17,4],[16,1,17,1],[16,2,17,2],[19,3,19,5],[19,6,19,8],[20,3,20,5],[20,6,20,8],[12,7,12,8],[16,5,16,6],[16,7,16,8],[17,5,17,6],[17,7,17,8],[18,3,18,8],[13,3,13,7],[14,4,14,5],[14,6,14,7],[15,4,15,5],[15,6,15,7],[13,8,14,8]]}
[null,"Раздел I. Число организаций"]
[null,null,null,null,null,null,null,null,"Код по ОКЕИ: единица – 642"]
[null,"Ведомственная \nпринадлежность","№ стро-ки","Число организаций и структурных подразделений – всего","в том числе по виду организации:"]
[null,null,null,null,"ДЮСШ ","СШ","СДЮСШОР","СШОР","УОР","ЦСП","ЦОП","Другие\nорганизации"]
[null,1,2,3,4,5,6,7,8,9,10,11]
[null,"Органы управления в сфере образования","01",{"$f":"SUM(E6:L6)","v":1},1,null,null,0,0,0,0]
[null,"Органы управления в сфере физической культуры и спорта","02",{"$f":"SUM(E7:L7)","v":0}]
[null,"Другая ведомственная принадлежность","03",0,0,0,0,0,null,0,0,0]
[null,"ИТОГО","04",1,{"$f":"SUM(E6:E8)","v":1},{"$f":"SUM(F6:F8)","v":0},0,0,0,0,0,0]
[null,"Структурные подразделения по спортивной подготовке организаций сферы образования","05",{"$f":"SUM(E10:L10)","v":0}]
[null,"Структурные подразделения по реализации дополнительных общеобразовательных программ в области физической культуры и спорта организаций сферы ФКиС","06",{"$f":"SUM(E11:L11)","v":0}]
[null,"ИТОГО","07",0,{"$f":"SUM(E10:E11)","v":0},{"$f":"SUM(F10:F11)","v":0},0,0,0,0,0,0,0]
[null,null,null,null,null,null,null,"Код по ОКЕИ: единица – 642"]
[null,"Виды правовых образований","08","Публичные правовые образования",null,null,null,null,"Иные правовые образования (в том числе частные организации)"]
[null,null,null,"Российская Федерация","Субъект Российской Федерации",null,"Муниципальное образование"]
[null,null,null,null,null,null,1]
[null,"Переход на программу спортивной подготовки","09","Не перешли",null,"Частично перешли",null,"Полностью перешли"]
[null,null,null,1]
[null,"ОГРН","10",1025600682799]
[null,"Признак того, является ли отчитывающаяся организация юридическим лицом","11","Да",null,null,"Нет"]
[null,null,null,1]

{"sheet":"Раздел2","index":2,"n_rows":263,"n_cols":27,"rows_kept":263,"cut":false,"hidden":false,"merged":[[3,6,3,19],[4,19,6,19],[5,20,5,21],[5,22,5,23],[5,9,6,9],[5,10,6,10],[5,11,6,11],[5,12,6,12],[5,13,6,13],[5,14,6,14],[5,15,6,15],[4,17,6,17],[4,18,6,18],[4,16,6,16],[2,5,2,23],[1,20,1,23],[2,3,4,4],[4,11,4,15],[0,0,213,0],[2,1,5,1],[2,2,5,2],[4,6,4,10],[0,1,0,20],[5,3,6,3],[5,4,6,4],[5,6,6,6],[5,7,6,7],[5,8,6,8],[3,20,4,23],[3,5,6,5]]}
[null,"Раздел II. Численность занимающихся"]
[null,null,null,null,null,null,null,null,null,null,null,null,null,null,null,null,null,null,null,null,"Коды по ОКЕИ: человек - 792, единица - 642"]
[null,"Виды спорта","№ строки","Число отделений по видам спорта, единица",null,"Число занимающихся на 31 декабря отчетного года, человек"]
[null,null,null,null,null,"всего","Занимающиеся на этапах спортивной подготовки",null,null,null,null,null,null,null,null,null,null,null,null,null,"Обучающиеся по дололнительным общеобразовательным программам в области физической культуры и спорта"]
[null,null,null,null,null,null,"по этапам спортивной подготовки",null,null,null,null,"по возрастам",null,null,null,null,"от 5 до 18 лет (из гр. 6-10)","женщин","спортсменов, спортсменов – инструкторов","в платных группах"]
[null,null,null,"всего","в том числе олимпийские отделения",null,"спортивно-оздорови-тельный","начальной подготовки","трениро-вочный","совершен-ствования спортивного мастерства","высшего спортивного мастерства","до 5 лет","от 6 до 15 лет","от 16 до 21 года","от 22 до 30 лет","старше 30 лет",null,null,null,null,"по общеразвивающим программам",null,"по предпрофессиональным программам"]
[null,null,null,null,null,null,null,null,null,null,null,null,null,null,null,null,null,null,null,null,"всего","в платных группах (из гр. 20)","всего","в платных группах (из гр. 22)"]
[null,1,2,3,4,5,6,7,8,9,10,11,12,13,14,15,16,17,18,19,20,21,22,23]
[null,"Авиамодельный спорт","01",null,null,{"$f":"SUM(G9:K9,U9,W9)*IF(D9>0,1,0)","v":0},null,null,null,null,null,null,null,null,null,null,null,null,null,null,null,null,null,null,{"$f":"Раздел3!O8","v":0},{"$f":"Раздел3!S8","v":0}]
[null,"Автомобильный спорт","02",null,null,{"$f":"SUM(G10:K10,U10,W10)*IF(D10>0,1,0)","v":0},null,null,null,null,null,null,null,null,null,null,null,null,null,null,null,null,null,null,{"$f":"Раздел3!O9","v":0},{"$f":"Раздел3!S9","v":0}]
[null,"Автомодельный спорт","03",null,null,0,null,null,null,null,null,null,null,null,null,null,null,null,null,null,null,null,null,null,{"$f":"Раздел3!O10","v":0},{"$f":"Раздел3!S10","v":0}]
[null,"Айкидо","04",null,null,0,null,null,null,null,null,null,null,null,null,null,null,null,null,null,null,null,null,null,{"$f":"Раздел3!O11","v":0},{"$f":"Раздел3!S11","v":0}]
[null,"Айсшток","05",null,null,0,null,null,null,null,null,null,null,null,null,null,null,null,null,null,null,null,null,null,{"$f":"Раздел3!O12","v":0},{"$f":"Раздел3!S12","v":0}]
[null,"Акробатический рок-н-ролл","06",null,null,0,null,null,null,null,null,null,null,null,null,null,null,null,null,null,null,null,null,null,{"$f":"Раздел3!O13","v":0},{"$f":"Раздел3!S13","v":0}]
[null,"Альпинизм","07",null,null,0,null,null,null,null,null,null,null,null,null,null,null,null,null,null,null,null,null,null,{"$f":"Раздел3!O14","v":0},{"$f":"Раздел3!S14","v":0}]
[null,"Американский футбол","08",null,null,0,null,null,null,null,null,null,null,null,null,null,null,null,null,null,null,null,null,null,{"$f":"Раздел3!O15","v":0},{"$f":"Раздел3!S15","v":0}]
[null,"Армейский рукопашный бой","09",null,null,0,null,null,null,null,null,null,null,null,null,null,null,null,null,null,null,null,null,null,null,{"$f":"Раздел3!S16","v":0}]
[null,"Армрестлинг","10",null,null,0,null,null,null,null,null,null,null,null,null,null,null,null,null,null,null,null,null,null,{"$f":"Раздел3!O14","v":0},{"$f":"Раздел3!S17","v":0}]
[null,"Бадминтон","11",null,null,0,null,null,null,null,null,null,null,null,null,null,null,null,null,null,null,null,null,null,{"$f":"Раздел3!O15","v":0},{"$f":"Раздел3!S15","v":0}]
[null,"Баскетбол - всего","12",{"$f":"IF(SUM(D21:D22)>=1,1,0)","v":1},{"$f":"IF(SUM(E21:E22)>=1,1,0)","v":0},105,{"$f":"SUM(G21:G22)","v":0},0,0,0,0,0,0,0,0,0,0,0,0,0,60,0,45,0,{"$f":"Раздел3!O16","v":0},{"$f":"Раздел3!S16","v":0}]
[null,"в том числе:\nБаскетбол (муж.)","13",1,null,52,null,null,null,null,null,null,null,null,null,null,null,null,null,null,34,null,18,null,{"$f":"Раздел3!O17","v":0},{"$f":"Раздел3!S17","v":0}]
[null,"Баскетбол (жен.)","14",1,null,53,null,null,null,null,null,null,null,null,null,null,null,{"$f":"SUM(G22:K22)","v":0},null,null,26,null,27,null,{"$f":"Раздел3!O18","v":0},{"$f":"Раздел3!S18","v":0}]
[null,"Бейсбол","15",null,null,0,null,null,null,null,null,null,null,null,null,null,null,null,null,null,null,null,null,null,{"$f":"Раздел3!O19","v":0},{"$f":"Раздел3!S19","v":0}]
[null,"Биатлон","16",null,null,0,null,null,null,null,null,null,null,null,null,null,null,null,null,null,null,null,null,null,{"$f":"Раздел3!O20","v":0},{"$f":"Раздел3!S20","v":0}]
[null,"Бильярдный спорт","17",null,null,0,null,null,null,null,null,null,null,null,null,null,null,null,null,null,null,null,null,null,{"$f":"Раздел3!O21","v":0},{"$f":"Раздел3!S21","v":0}]
[null,"Бобслей - всего","18",{"$f":"IF(SUM(D27:D28)>=1,1,0)","v":0},{"$f":"IF(SUM(E27:E28)>=1,1,0)","v":0},0,{"$f":"SUM(G27:G28)","v":0},0,0,0,0,0,0,0,0,0,0,0,0,0,0,0,0,0,{"$f":"Раздел3!O22","v":0},{"$f":"Раздел3!S22","v":0}]
[null,"в том числе:\nБобслей","19",null,null,0,null,null,null,null,null,null,null,null,null,null,null,null,null,null,null,null,null,null,{"$f":"Раздел3!O23","v":0},{"$f":"Раздел3!S23","v":0}]
[null,"Скелетон","20",null,null,0,null,null,null,null,null,null,null,null,null,null,null,null,null,null,null,null,null,null,{"$f":"Раздел3!O24","v":0},{"$f":"Раздел3!S24","v":0}]
[null,"Бодибилдинг","21",null,null,0,null,null,null,null,null,null,null,null,null,null,null,null,null,null,null,null,null,null,{"$f":"Раздел3!O25","v":0},{"$f":"Раздел3!S25","v":0}]
[null,"Бокс","22",null,null,0,null,null,null,null,null,null,null,null,null,null,null,null,null,null,null,null,null,null,{"$f":"Раздел3!O26","v":0},{"$f":"Раздел3!S26","v":0}]
[null,"Борьба на поясах","23",null,null,0,null,null,null,null,null,null,null,null,null,null,null,null,null,null,null,null,null,null,{"$f":"Раздел3!O27","v":0},{"$f":"Раздел3!S27","v":0}]
[null,"Боулинг","24",null,null,0,null,null,null,null,null,null,null,null,null,null,null,null,null,null,null,null,null,null,{"$f":"Раздел3!O28","v":0},{"$f":"Раздел3!S28","v":0}]
[null,"Велосипедный спорт - всего","25",{"$f":"IF(SUM(D34:D37)>=1,1,0)","v":0},{"$f":"IF(SUM(E34:E37)>=1,1,0)","v":0},0,{"$f":"SUM(G34:G37)","v":0},0,0,0,0,0,0,0,0,0,0,0,0,0,0,0,0,0,{"$f":"Раздел3!O29","v":0},{"$f":"Раздел3!S29","v":0}]
[null,"в том числе:\nBMX","26",null,null,0]
[null,"Маунтинбайк","27",null,null,0]
[null,"Трек","28",null,null,0]
[null,"Шоссе","29",null,null,0]
[null,"Вертолетный спорт","30",null,null,0,null,null,null,null,null,null,null,null,null,null,null,null,null,null,null,null,null,null,{"$f":"Раздел3!O30","v":0},{"$f":"Раздел3!S30","v":0}]
[null,"Водно-моторный спорт","31",null,null,0,null,null,null,null,null,null,null,null,null,null,null,null,null,null,null,null,null,null,{"$f":"Раздел3!O31","v":0},{"$f":"Раздел3!S31","v":0}]
[null,"Водно-спасательное многоборье","32",null,null,0,null,null,null,null,null,null,null,null,null,null,null,null,null,null,null,null,null,null,{"$f":"Раздел3!O32","v":0},{"$f":"Раздел3!S32","v":0}]
[null,"Водное поло - всего ","33",{"$f":"IF(SUM(D42:D43)>=1,1,0)","v":0},{"$f":"IF(SUM(E42:E43)>=1,1,0)","v":0},0,{"$f":"SUM(G42:G43)","v":0},0,0,0,0,0,0,0,0,0,0,0,0,0,0,0,0,0,{"$f":"Раздел3!O37","v":0},{"$f":"Раздел3!S37","v":0}]
[null,"в том числе:\nВодное поло (муж.)","34",null,null,0,null,null,null,null,null,null,null,null,null,null,null,null,null,null,null,null,null,null,{"$f":"Раздел3!O38","v":0},{"$f":"Раздел3!S38","v":0}]
[null,"Водное поло (жен.)","35",null,null,0,null,null,null,null,null,null,null,null,null,null,null,{"$f":"SUM(G43:K43)","v":0},null,null,null,null,null,null,{"$f":"Раздел3!O39","v":0},{"$f":"Раздел3!S39","v":0}]
[null,"Воднолыжный спорт","36",null,null,0,null,null,null,null,null,null,null,null,null,null,null,null,null,null,null,null,null,null,{"$f":"Раздел3!O40","v":0},{"$f":"Раздел3!S40","v":0}]
[null,"Воздушно-силовая атлетика","37",null,null,0]
[null,"Военно-прикладной спорт","38",null,null,0,null,null,null,null,null,null,null,null,null,null,null,null,null,null,null,null,null,null,{"$f":"Раздел3!O41","v":0},{"$f":"Раздел3!S41","v":0}]
[null,"Военно-спортивное многоборье","39",null,null,0,null,null,null,null,null,null,null,null,null,null,null,null,null,null,null,null,null,null,{"$f":"Раздел3!O42","v":0},{"$f":"Раздел3!S42","v":0}]
[null,"Воздухоплавательный спорт","40",null,null,0]
[null,"Волейбол - всего","41",{"$f":"IF(SUM(D50:D53)>=1,1,0)","v":1},{"$f":"IF(SUM(E50:E53)>=1,1,0)","v":0},135,{"$f":"SUM(G50:G53)","v":0},0,0,0,0,0,0,0,0,0,0,0,0,0,75,0,60,0]
[null,"в том числе:\nВолейбол (муж.)","42",1,null,77,null,null,null,null,null,null,null,null,null,null,null,null,null,null,39,null,38,null,{"$f":"Раздел3!O43","v":0},{"$f":"Раздел3!S43","v":0}]
[null,"Волейбол (жен.)","43",1,null,58,null,null,null,null,null,null,null,null,null,null,null,{"$f":"SUM(G51:K51)","v":0},null,null,36,null,22,null,{"$f":"Раздел3!O44","v":0},{"$f":"Раздел3!S44","v":0}]
[null,"Пляжный волейбол (муж.)","44",null,null,0,null,null,null,null,null,null,null,null,null,null,null,null,null,null,null,null,null,null,{"$f":"Раздел3!O45","v":0},{"$f":"Раздел3!S45","v":0}]
[null,"Пляжный волейбол (жен.)","45",null,null,0,null,null,null,null,null,null,null,null,null,null,null,{"$f":"SUM(G53:K53)","v":0},null,null,null,null,null,null,{"$f":"Раздел3!O46","v":0},{"$f":"Раздел3!S46","v":0}]
[null,"Восточное боевое единоборство","46",null,null,0,null,null,null,null,null,null,null,null,null,null,null,null,null,null,null,null,null,null,{"$f":"Раздел3!O47","v":0},{"$f":"Раздел3!S47","v":0}]
[null,"Всестилевое каратэ","47",null,null,0,null,null,null,null,null,null,null,null,null,null,null,null,null,null,null,null,null,null,{"$f":"Раздел3!O48","v":0},{"$f":"Раздел3!S48","v":0}]
[null,"Гандбол - всего","48",{"$f":"IF(SUM(D57:D59)>=1,1,0)","v":0},{"$f":"IF(SUM(E57:E59)>=1,1,0)","v":0},0,{"$f":"SUM(G57:G59)","v":0},0,0,0,0,0,0,0,0,0,0,0,0,0,0,0,0,0,{"$f":"Раздел3!O49","v":0},{"$f":"Раздел3!S49","v":0}]
[null,"в том числе:\nГандбол (муж.)","49",null,null,0,null,null,null,null,null,null,null,null,null,null,null,null,null,null,null,null,null,null,{"$f":"Раздел3!O50","v":0},{"$f":"Раздел3!S50","v":0}]
[null,"Гандбол (жен.)","50",null,null,0,null,null,null,null,null,null,null,null,null,null,null,{"$f":"SUM(G58:K58)","v":0},null,null,null,null,null,null,{"$f":"Раздел3!O51","v":0},{"$f":"Раздел3!S51","v":0}]
[null,"Пляжный гандбол","51",null,null,0,null,null,null,null,null,null,null,null,null,null,null,null,null,null,null,null,null,null,{"$f":"Раздел3!O52","v":0},{"$f":"Раздел3!S52","v":0}]
[null,"Гиревой спорт","52",null,null,0,null,null,null,null,null,null,null,null,null,null,null,null,null,null,null,null,null,null,{"$f":"Раздел3!O53","v":0},{"$f":"Раздел3!S53","v":0}]
[null,"Го","53",null,null,0]
[null,"Гольф","54",null,null,0,null,null,null,null,null,null,null,null,null,null,null,null,null,null,null,null,null,null,{"$f":"Раздел3!O54","v":0},{"$f":"Раздел3!S54","v":0}]
[null,"Гонки на охотничьих лыжах","55",null,null,0,null,null,null,null,null,null,null,null,null,null,null,null,null,null,null,null,null,null,{"$f":"Раздел3!O55","v":0},{"$f":"Раздел3!S55","v":0}]
[null,"Горнолыжный спорт","56",null,null,0,null,null,null,null,null,null,null,null,null,null,null,null,null,null,null,null,null,null,{"$f":"Раздел3!O56","v":0},{"$f":"Раздел3!S56","v":0}]
[null,"Городошный спорт","57",null,null,0,null,null,null,null,null,null,null,null,null,null,null,null,null,null,null,null,null,null,{"$f":"Раздел3!O57","v":0},{"$f":"Раздел3!S57","v":0}]
[null,"Гребля на байдарках и каноэ","58",null,null,0,null,null,null,null,null,null,null,null,null,null,null,null,null,null,null,null,null,null,{"$f":"Раздел3!O58","v":0},{"$f":"Раздел3!S58","v":0}]
[null,"Гребля на шлюпках","59",null,null,0,null,null,null,null,null,null,null,null,null,null,null,null,null,null,null,null,null,null,{"$f":"Раздел3!O59","v":0},{"$f":"Раздел3!S59","v":0}]
[null,"Гребной слалом","60",null,null,0]
[null,"Гребной спорт - всего","61",{"$f":"IF(SUM(D70:D73)>=1,1,0)","v":0},{"$f":"IF(SUM(E70:E73)>=1,1,0)","v":0},0,{"$f":"SUM(G70:G73)","v":0},0,0,0,0,0,0,0,0,0,0,0,0,0,0,0,0,0,{"$f":"Раздел3!O60","v":0},{"$f":"Раздел3!S60","v":0}]
[null,"в том числе:\nАкадемическая гребля","62",null,null,0,null,null,null,null,null,null,null,null,null,null,null,null,null,null,null,null,null,null,{"$f":"Раздел3!O61","v":0},{"$f":"Раздел3!S61","v":0}]
[null,"Гребля-индор","63",null,null,0,null,null,null,null,null,null,null,null,null,null,null,null,null,null,null,null,null,null,{"$f":"Раздел3!O62","v":0},{"$f":"Раздел3!S62","v":0}]
[null,"Народная гребля","64",null,null,0,null,null,null,null,null,null,null,null,null,null,null,null,null,null,null,null,null,null,{"$f":"Раздел3!O63","v":0},{"$f":"Раздел3!S63","v":0}]
[null,"Прибрежная гребля","65",null,null,0,null,null,null,null,null,null,null,null,null,null,null,null,null,null,null,null,null,null,{"$f":"Раздел3!O64","v":0},{"$f":"Раздел3!S64","v":0}]
[null,"Гребно-парусное двоеборье","66",null,null,0,null,null,null,null,null,null,null,null,null,null,null,null,null,null,null,null,null,null,{"$f":"Раздел3!O65","v":0},{"$f":"Раздел3!S65","v":0}]
[null,"Дартс","67",null,null,{"$f":"SUM(G75:K75,U75,W75)*IF(D75>0,1,0)","v":0},null,null,null,null,null,null,null,null,null,null,null,null,null,null,null,null,null,null,{"$f":"Раздел3!O66","v":0},{"$f":"Раздел3!S66","v":0}]
[null,"Джиу-джитсу","68",null,null,0,null,null,null,null,null,null,null,null,null,null,null,null,null,null,null,null,null,null,{"$f":"Раздел3!O67","v":0},{"$f":"Раздел3!S67","v":0}]
[null,"Дзюдо","69",null,null,0,null,null,null,null,null,null,null,null,null,null,null,null,null,null,null,null,null,null,{"$f":"Раздел3!O68","v":0},{"$f":"Раздел3!S68","v":0}]
[null,"Ездовой спорт","70",null,null,0,null,null,null,null,null,null,null,null,null,null,null,null,null,null,null,null,null,null,{"$f":"Раздел3!O69","v":0},{"$f":"Раздел3!S69","v":0}]
[null,"Капоэйра","71",null,null,0,null,null,null,null,null,null,null,null,null,null,null,null,null,null,null,null,null,null,{"$f":"Раздел3!O70","v":0},{"$f":"Раздел3!S70","v":0}]
[null,"Каратэ","72",null,null,0,null,null,null,null,null,null,null,null,null,null,null,null,null,null,null,null,null,null,{"$f":"Раздел3!O71","v":0},{"$f":"Раздел3!S71","v":0}]
[null,"Кендо","73",null,null,0,null,null,null,null,null,null,null,null,null,null,null,null,null,null,null,null,null,null,{"$f":"Раздел3!O72","v":0},{"$f":"Раздел3!S72","v":0}]
[null,"Керешу","74",null,null,0,null,null,null,null,null,null,null,null,null,null,null,null,null,null,null,null,null,null,{"$f":"Раздел3!O73","v":0},{"$f":"Раздел3!S73","v":0}]
[null,"Кёрлинг - всего","75",{"$f":"IF(SUM(D84:D86)>=1,1,0)","v":0},{"$f":"IF(SUM(E84:E86)>=1,1,0)","v":0},{"$f":"SUM(G83:K83,U83,W83)*IF(D83>0,1,0)","v":0},{"$f":"SUM(G84:G86)","v":0},{"$f":"SUM(H84:H86)","v":0},0,0,0,0,0,0,0,0,0,0,0,0,0,0,0,0,{"$f":"Раздел3!O74","v":0},{"$f":"Раздел3!S74","v":0}]
[null,"в том числе:\nКерлинг (муж.)","76",null,null,0,null,null,null,null,null,null,null,null,null,null,null,null,null,null,null,null,null,null,{"$f":"Раздел3!O75","v":0},{"$f":"Раздел3!S75","v":0}]
[null,"Керлинг (жен.)","77",null,null,0,null,null,null,null,null,null,null,null,null,null,null,{"$f":"SUM(G85:K85)","v":0},null,null,null,null,null,null,{"$f":"Раздел3!O76","v":0},{"$f":"Раздел3!S76","v":0}]
[null,"Кёрлинг – смешанные пары","78",null,null,0]
[null,"Кикбоксинг","79",null,null,0,null,null,null,null,null,null,null,null,null,null,null,null,null,null,null,null,null,null,{"$f":"Раздел3!O77","v":0},{"$f":"Раздел3!S77","v":0}]
[null,"Кинологический спорт","80",null,null,0,null,null,null,null,null,null,null,null,null,null,null,null,null,null,null,null,null,null,{"$f":"Раздел3!O78","v":0},{"$f":"Раздел3!S78","v":0}]
[null,"Киокусинкай","81",1,null,30,null,null,null,null,null,null,null,null,null,null,null,null,null,null,15,null,15,null,{"$f":"Раздел3!O79","v":0},{"$f":"Раздел3!S79","v":0}]
[null,"Комплексное единоборство","82",null,null,0,null,null,null,null,null,null,null,null,null,null,null,null,null,null,null,null,null,null,{"$f":"Раздел3!O80","v":0},{"$f":"Раздел3!S80","v":0}]
[null,"Компьютерный спорт","83",null,null,0,null,null,null,null,null,null,null,null,null,null,null,null,null,null,null,null,null,null,{"$f":"Раздел3!O81","v":0},{"$f":"Раздел3!S81","v":0}]
[null,"Конный спорт","84",null,null,0,null,null,null,null,null,null,null,null,null,null,null,null,null,null,null,null,null,null,{"$f":"Раздел3!O82","v":0},{"$f":"Раздел3!S82","v":0}]
[null,"Конькобежный спорт - всего","85",{"$f":"IF(SUM(D94:D95)>=1,1,0)","v":0},{"$f":"IF(SUM(E94:E95)>=1,1,0)","v":0},0,{"$f":"SUM(G94:G95)","v":0},{"$f":"SUM(H94:H95)","v":0},0,0,0,0,0,0,0,0,0,{"$f":"SUM(R94:R95)","v":0},0,0,0,0,0,0,{"$f":"Раздел3!O83","v":0},{"$f":"Раздел3!S83","v":0}]
[null,"в том числе:\nКонькобежный спорт","86",null,null,0,null,null,null,null,null,null,null,null,null,null,null,null,null,null,null,null,null,null,{"$f":"Раздел3!O84","v":0},{"$f":"Раздел3!S84","v":0}]
[null,"Шорт-трек","87",null,null,0,null,null,null,null,null,null,null,null,null,null,null,null,null,null,null,null,null,null,{"$f":"Раздел3!O85","v":0},{"$f":"Раздел3!S85","v":0}]
[null,"Корэш","88",null,null,0,null,null,null,null,null,null,null,null,null,null,null,null,null,null,null,null,null,null,{"$f":"Раздел3!O86","v":0},{"$f":"Раздел3!S86","v":0}]
[null,"Корфбол","89",null,null,0,null,null,null,null,null,null,null,null,null,null,null,null,null,null,null,null,null,null,{"$f":"Раздел3!O87","v":0},{"$f":"Раздел3!S87","v":0}]
[null,"Кудо","90",null,null,0,null,null,null,null,null,null,null,null,null,null,null,null,null,null,null,null,null,null,{"$f":"Раздел3!O88","v":0},{"$f":"Раздел3!S88","v":0}]
[null,"Лапта","91",1,null,35,null,null,null,null,null,null,null,null,null,null,null,null,null,null,35,null,null,null,{"$f":"Раздел3!O89","v":0},{"$f":"Раздел3!S89","v":0}]
[null,"Легкая атлетика - всего","92",{"$f":"IF(SUM(D101:D107)>=1,1,0)","v":0},{"$f":"IF(SUM(E101:E107)>=1,1,0)","v":0},0,{"$f":"SUM(G101:G107)","v":0},0,0,0,0,0,0,0,0,0,0,0,0,0,0,0,0,0,{"$f":"Раздел3!O90","v":0},{"$f":"Раздел3!S90","v":0}]
[null,"в том числе:\nСпринтерский и барьерный бег","93",null,null,0,null,null,null,null,null,null,null,null,null,null,null,null,null,null,null,null,null,null,{"$f":"Раздел3!O91","v":0},{"$f":"Раздел3!S91","v":0}]
[null,"Бег на средние дистанции и бег с препятствиями","94",null,null,0,null,null,null,null,null,null,null,null,null,null,null,null,null,null,null,null,null,null,{"$f":"Раздел3!O92","v":0},{"$f":"Раздел3!S92","v":0}]
[null,"Бег на длинные и сверхдлинные дистанции","95",null,null,0,null,null,null,null,null,null,null,null,null,null,null,null,null,null,null,null,null,null,{"$f":"Раздел3!O93","v":0},{"$f":"Раздел3!S93","v":0}]
[null,"Многоборья","96",null,null,0,null,null,null,null,null,null,null,null,null,null,null,null,null,null,null,null,null,null,{"$f":"Раздел3!O94","v":0},{"$f":"Раздел3!S94","v":0}]
[null,"Прыжки","97",null,null,0,null,null,null,null,null,null,null,null,null,null,null,null,null,null,null,null,null,null,{"$f":"Раздел3!O95","v":0},{"$f":"Раздел3!S95","v":0}]
[null,"Метания","98",null,null,0,null,null,null,null,null,null,null,null,null,null,null,null,null,null,null,null,null,null,{"$f":"Раздел3!O96","v":0},{"$f":"Раздел3!S96","v":0}]
[null,"Спортивная ходьба","99",null,null,0,null,null,null,null,null,null,null,null,null,null,null,null,null,null,null,null,null,null,{"$f":"Раздел3!O97","v":0},{"$f":"Раздел3!S97","v":0}]
[null,"Лыжное двоеборье","100",null,null,0,null,null,null,null,null,null,null,null,null,null,null,null,null,null,null,null,null,null,{"$f":"Раздел3!O98","v":0},{"$f":"Раздел3!S98","v":0}]
[null,"Лыжные гонки","101",null,null,0,null,null,null,null,null,null,null,null,null,null,null,null,null,null,null,null,null,null,{"$f":"Раздел3!O99","v":0},{"$f":"Раздел3!S99","v":0}]
[null,"Мас-рестлинг","102",null,null,0,null,null,null,null,null,null,null,null,null,null,null,null,null,null,null,null,null,null,{"$f":"Раздел3!O100","v":0},{"$f":"Раздел3!S100","v":0}]
[null,"Международное военно-спортивное многоборье","103",null,null,0,null,null,null,null,null,null,null,null,null,null,null,null,null,null,null,null,null,null,{"$f":"Раздел3!O101","v":0},{"$f":"Раздел3!S101","v":0}]
[null,"Многоборье кинологов","104",null,null,0,null,null,null,null,null,null,null,null,null,null,null,null,null,null,null,null,null,null,{"$f":"Раздел3!O102","v":0},{"$f":"Раздел3!S102","v":0}]
[null,"Многоборье спасателей МЧС России","105",null,null,0,null,null,null,null,null,null,null,null,null,null,null,null,null,null,null,null,null,null,{"$f":"Раздел3!O103","v":0},{"$f":"Раздел3!S103","v":0}]
[null,"Морское многоборье","106",null,null,0,null,null,null,null,null,null,null,null,null,null,null,null,null,null,null,null,null,null,{"$f":"Раздел3!O104","v":0},{"$f":"Раздел3!S104","v":0}]
[null,"Мотоциклетный спорт","107",null,null,0,null,null,null,null,null,null,null,null,null,null,null,null,null,null,null,null,null,null,{"$f":"Раздел3!O105","v":0},{"$f":"Раздел3!S105","v":0}]
[null,"Настольный теннис","108",1,null,15,null,null,null,null,null,null,null,null,null,null,null,null,null,null,15,null,null,null,{"$f":"Раздел3!O106","v":0},{"$f":"Раздел3!S106","v":0}]
[null,"Парашютный спорт","109",null,null,0,null,null,null,null,null,null,null,null,null,null,null,null,null,null,null,null,null,null,{"$f":"Раздел3!O107","v":0},{"$f":"Раздел3!S107","v":0}]
[null,"Парусный спорт","110",null,null,0,null,null,null,null,null,null,null,null,null,null,null,null,null,null,null,null,null,null,{"$f":"Раздел3!O108","v":0},{"$f":"Раздел3!S108","v":0}]
[null,"Пауэрлифтинг","111",null,null,0,null,null,null,null,null,null,null,null,null,null,null,null,null,null,null,null,null,null,{"$f":"Раздел3!O109","v":0},{"$f":"Раздел3!S109","v":0}]
[null,"Перетягивание каната","112",null,null,0,null,null,null,null,null,null,null,null,null,null,null,null,null,null,null,null,null,null,{"$f":"Раздел3!O110","v":0},{"$f":"Раздел3!S110","v":0}]
[null,"Петанк","113",null,null,0,null,null,null,null,null,null,null,null,null,null,null,null,null,null,null,null,null,null,{"$f":"Раздел3!O111","v":0},{"$f":"Раздел3!S111","v":0}]
[null,"Плавание - всего","114",{"$f":"IF(SUM(D123:D124)>=1,1,0)","v":0},{"$f":"IF(SUM(E123:E124)>=1,1,0)","v":0},0,{"$f":"SUM(G123:G124)","v":0},0,0,0,0,0,0,0,0,0,0,0,0,0,0,0,0,0,{"$f":"Раздел3!O112","v":0},{"$f":"Раздел3!S112","v":0}]
[null,"в том числе:\nПлавание ","115",null,null,0,null,null,null,null,null,null,null,null,null,null,null,null,null,null,null,null,null,null,{"$f":"Раздел3!O113","v":0},{"$f":"Раздел3!S113","v":0}]
[null,"Открытая вода","116",null,null,0,null,null,null,null,null,null,null,null,null,null,null,null,null,null,null,null,null,null,{"$f":"Раздел3!O114","v":0},{"$f":"Раздел3!S114","v":0}]
[null,"Планерный спорт","117",null,null,0,null,null,null,null,null,null,null,null,null,null,null,null,null,null,null,null,null,null,{"$f":"Раздел3!O115","v":0},{"$f":"Раздел3!S115","v":0}]
[null,"Подводный спорт","118",null,null,0,null,null,null,null,null,null,null,null,null,null,null,null,null,null,null,null,null,null,{"$f":"Раздел3!O116","v":0},{"$f":"Раздел3!S116","v":0}]
[null,"Пожарно-спасательный спорт","119",null,null,0,null,null,null,null,null,null,null,null,null,null,null,null,null,null,null,null,null,null,{"$f":"Раздел3!O117","v":0},{"$f":"Раздел3!S117","v":0}]
[null,"Полиатлон","120",null,null,0,null,null,null,null,null,null,null,null,null,null,null,null,null,null,null,null,null,null,{"$f":"Раздел3!O118","v":0},{"$f":"Раздел3!S118","v":0}]
[null,"Практическая стрельба","121",null,null,0,null,null,null,null,null,null,null,null,null,null,null,null,null,null,null,null,null,null,{"$f":"Раздел3!O119","v":0},{"$f":"Раздел3!S119","v":0}]
[null,"Прыжки в воду - всего","122",{"$f":"IF(SUM(D131:D132)>=1,1,0)","v":0},{"$f":"IF(SUM(E131:E132)>=1,1,0)","v":0},0,{"$f":"SUM(G131:G132)","v":0},0,0,0,0,0,0,0,0,0,0,0,0,0,0,0,0,0,{"$f":"Раздел3!O120","v":0},{"$f":"Раздел3!S120","v":0}]
[null,"в том числе:\nПрыжки в воду","123",null,null,0,null,null,null,null,null,null,null,null,null,null,null,null,null,null,null,null,null,null,{"$f":"Раздел3!O121","v":0},{"$f":"Раздел3!S121","v":0}]
[null,"Прыжки в открытый водоем","124",null,null,0,null,null,null,null,null,null,null,null,null,null,null,null,null,null,null,null,null,null,{"$f":"Раздел3!O122","v":0},{"$f":"Раздел3!S122","v":0}]
[null,"Прыжки на батуте - всего","125",{"$f":"IF(SUM(D134:D137)>=1,1,0)","v":0},{"$f":"IF(SUM(E134:E137)>=1,1,0)","v":0},0,{"$f":"SUM(G134:G137)","v":0},0,0,0,0,0,0,0,0,0,0,0,0,0,0,0,0,0,{"$f":"Раздел3!O123","v":0},{"$f":"Раздел3!S123","v":0}]
[null,"в том числе:\nАкробатическая дорожка","126",null,null,0,null,null,null,null,null,null,null,null,null,null,null,null,null,null,null,null,null,null,{"$f":"Раздел3!O124","v":0},{"$f":"Раздел3!S124","v":0}]
[null,"Двойной минитрамп","127",null,null,0,null,null,null,null,null,null,null,null,null,null,null,null,null,null,null,null,null,null,{"$f":"Раздел3!O125","v":0},{"$f":"Раздел3!S125","v":0}]
[null,"Индивидуальные прыжки","128",null,null,0,null,null,null,null,null,null,null,null,null,null,null,null,null,null,null,null,null,null,{"$f":"Раздел3!O126","v":0},{"$f":"Раздел3!S126","v":0}]
[null,"Синхронные прыжки","129",null,null,0,null,null,null,null,null,null,null,null,null,null,null,null,null,null,null,null,null,null,{"$f":"Раздел3!O127","v":0},{"$f":"Раздел3!S127","v":0}]
[null,"Прыжки на лыжах с трамплина","130",null,null,0,null,null,null,null,null,null,null,null,null,null,null,null,null,null,null,null,null,null,{"$f":"Раздел3!O128","v":0},{"$f":"Раздел3!S128","v":0}]
[null,"Пулевая стрельба - всего","131",{"$f":"IF(SUM(D140:D144)>=1,1,0)","v":0},{"$f":"IF(SUM(E140:E144)>=1,1,0)","v":0},0,{"$f":"SUM(G140:G144)","v":0},0,0,0,0,0,0,0,0,0,0,0,0,0,0,0,0,0,{"$f":"Раздел3!O129","v":0},{"$f":"Раздел3!S129","v":0}]
[null,"в том числе:\nПневматическая винтовка","132",null,null,{"$f":"SUM(G140:K140,U140,W140)*IF(D140>0,1,0)","v":0},null,null,null,null,null,null,null,null,null,null,null,null,null,null,null,null,null,null,{"$f":"Раздел3!O130","v":0},{"$f":"Раздел3!S130","v":0}]
[null,"Пневматический пистолет","133",null,null,0,null,null,null,null,null,null,null,null,null,null,null,null,null,null,null,null,null,null,{"$f":"Раздел3!O131","v":0},{"$f":"Раздел3!S131","v":0}]
[null,"Малокалиберная винтовка","134",null,null,0,null,null,null,null,null,null,null,null,null,null,null,null,null,null,null,null,null,null,{"$f":"Раздел3!O132","v":0},{"$f":"Раздел3!S132","v":0}]
[null,"Малокалиберный пистолет","135",null,null,0,null,null,null,null,null,null,null,null,null,null,null,null,null,null,null,null,null,null,{"$f":"Раздел3!O133","v":0},{"$f":"Раздел3!S133","v":0}]
[null,"Движущаяся мишень","136",null,null,0,null,null,null,null,null,null,null,null,null,null,null,null,null,null,null,null,null,null,{"$f":"Раздел3!O134","v":0},{"$f":"Раздел3!S134","v":0}]
[null,"Пэйнтбол","137",null,null,0,null,null,null,null,null,null,null,null,null,null,null,null,null,null,null,null,null,null,{"$f":"Раздел3!O135","v":0},{"$f":"Раздел3!S135","v":0}]
[null,"Радиоспорт","138",null,null,0,null,null,null,null,null,null,null,null,null,null,null,null,null,null,null,null,null,null,{"$f":"Раздел3!O136","v":0},{"$f":"Раздел3!S136","v":0}]
[null,"Рафтинг","139",null,null,0,null,null,null,null,null,null,null,null,null,null,null,null,null,null,null,null,null,null,{"$f":"Раздел3!O137","v":0},{"$f":"Раздел3!S137","v":0}]
[null,"Регби - всего","140",{"$f":"IF(SUM(D149:D152)>=1,1,0)","v":0},{"$f":"IF(SUM(E149:E152)>=1,1,0)","v":0},0,{"$f":"SUM(G149:G152)","v":0},0,0,0,0,0,0,0,0,0,0,0,0,0,0,0,0,0,{"$f":"Раздел3!O138","v":0},{"$f":"Раздел3!S138","v":0}]
[null,"в том числе:\nРегби","141",null,null,0,null,null,null,null,null,null,null,null,null,null,null,null,null,null,null,null,null,null,{"$f":"Раздел3!O139","v":0},{"$f":"Раздел3!S139","v":0}]
[null,"Регби 7 (муж.)","142",null,null,0,null,null,null,null,null,null,null,null,null,null,null,null,null,null,null,null,null,null,{"$f":"Раздел3!O140","v":0},{"$f":"Раздел3!S140","v":0}]
[null,"Регби 7 (жен.)","143",null,null,0,null,null,null,null,null,null,null,null,null,null,null,{"$f":"SUM(G151:K151)","v":0},null,null,null,null,null,null,{"$f":"Раздел3!O141","v":0},{"$f":"Раздел3!S141","v":0}]
[null,"Регби - пляжное","144",null,null,0,null,null,null,null,null,null,null,null,null,null,null,null,null,null,null,null,null,null,{"$f":"Раздел3!O142","v":0},{"$f":"Раздел3!S142","v":0}]
[null,"Регбол","145",null,null,0,null,null,null,null,null,null,null,null,null,null,null,null,null,null,null,null,null,null,{"$f":"Раздел3!O143","v":0},{"$f":"Раздел3!S143","v":0}]
[null,"Роллер спорт","146",null,null,0,null,null,null,null,null,null,null,null,null,null,null,null,null,null,null,null,null,null,{"$f":"Раздел3!O144","v":0},{"$f":"Раздел3!S144","v":0}]
[null,"Рукопашный бой","147",null,null,0,null,null,null,null,null,null,null,null,null,null,null,null,null,null,null,null,null,null,{"$f":"Раздел3!O145","v":0},{"$f":"Раздел3!S145","v":0}]
[null,"Рыболовный спорт","148",null,null,0,null,null,null,null,null,null,null,null,null,null,null,null,null,null,null,null,null,null,{"$f":"Раздел3!O146","v":0},{"$f":"Раздел3!S146","v":0}]
[null,"Сават","149",null,null,0,null,null,null,null,null,null,null,null,null,null,null,null,null,null,null,null,null,null,{"$f":"Раздел3!O147","v":0},{"$f":"Раздел3!S147","v":0}]
[null,"Самбо","150",null,null,0,null,null,null,null,null,null,null,null,null,null,null,null,null,null,null,null,null,null,{"$f":"Раздел3!O148","v":0},{"$f":"Раздел3!S148","v":0}]
[null,"Самолетный спорт","151",null,null,0,null,null,null,null,null,null,null,null,null,null,null,null,null,null,null,null,null,null,{"$f":"Раздел3!O149","v":0},{"$f":"Раздел3!S149","v":0}]
[null,"Санный спорт","152",null,null,0,null,null,null,null,null,null,null,null,null,null,null,null,null,null,null,null,null,null,{"$f":"Раздел3!O150","v":0},{"$f":"Раздел3!S150","v":0}]
[null,"Северное многоборье","153",null,null,0,null,null,null,null,null,null,null,null,null,null,null,null,null,null,null,null,null,null,{"$f":"Раздел3!O151","v":0},{"$f":"Раздел3!S151","v":0}]
[null,"Серфинг","154",null,null,0,null,null,null,null,null,null,null,null,null,null,null,null,null,null,null,null,null,null,{"$f":"Раздел3!O152","v":0},{"$f":"Раздел3!S152","v":0}]
[null,"Синхронное плавание","155",null,null,0,null,null,null,null,null,null,null,null,null,null,null,null,null,null,null,null,null,null,{"$f":"Раздел3!O153","v":0},{"$f":"Раздел3!S153","v":0}]
[null,"Скалолазание","156",null,null,0,null,null,null,null,null,null,null,null,null,null,null,null,null,null,null,null,null,null,{"$f":"Раздел3!O154","v":0},{"$f":"Раздел3!S154","v":0}]
[null,"Сквош","157",null,null,0,null,null,null,null,null,null,null,null,null,null,null,null,null,null,null,null,null,null,{"$f":"Раздел3!O155","v":0},{"$f":"Раздел3!S155","v":0}]
[null,"Скейтбординг","158",null,null,0,null,null,null,null,null,null,null,null,null,null,null,null,null,null,null,null,null,null,{"$f":"Раздел3!O156","v":0},{"$f":"Раздел3!S156","v":0}]
[null,"Служебно-боевая стрельба ","159",null,null,0]
[null,"Служебно-прикладной спорт","160",null,null,0,null,null,null,null,null,null,null,null,null,null,null,null,null,null,null,null,null,null,{"$f":"Раздел3!O157","v":0},{"$f":"Раздел3!S157","v":0}]
[null,"Служебно-прикладной спорт ФСО России","161",null,null,0,null,null,null,null,null,null,null,null,null,null,null,null,null,null,null,null,null,null,{"$f":"Раздел3!O158","v":0},{"$f":"Раздел3!S158","v":0}]
[null,"Служебно-прикладной спорт ФТС России","162",null,null,0,null,null,null,null,null,null,null,null,null,null,null,null,null,null,null,null,null,null,{"$f":"Раздел3!O159","v":0},{"$f":"Раздел3!S159","v":0}]
[null,"Служебное двоеборье","163",null,null,0,null,null,null,null,null,null,null,null,null,null,null,null,null,null,null,null,null,null,{"$f":"Раздел3!O160","v":0},{"$f":"Раздел3!S160","v":0}]
[null,"Служебное единоборство","164",null,null,0,null,null,null,null,null,null,null,null,null,null,null,null,null,null,null,null,null,null,{"$f":"Раздел3!O161","v":0},{"$f":"Раздел3!S161","v":0}]
[null,"Служебное многоборье","165",null,null,0,null,null,null,null,null,null,null,null,null,null,null,null,null,null,null,null,null,null,{"$f":"Раздел3!O162","v":0},{"$f":"Раздел3!S162","v":0}]
[null,"Служебный биатлон","166",null,null,0,null,null,null,null,null,null,null,null,null,null,null,null,null,null,null,null,null,null,{"$f":"Раздел3!O163","v":0},{"$f":"Раздел3!S163","v":0}]
[null,"Спасательный спорт","167",null,null,0,null,null,null,null,null,null,null,null,null,null,null,null,null,null,null,null,null,null,{"$f":"Раздел3!O164","v":0},{"$f":"Раздел3!S164","v":0}]
[null,"Стрельба из боевого ручного стрелкового оружия","168",null,null,0,null,null,null,null,null,null,null,null,null,null,null,null,null,null,null,null,null,null,{"$f":"Раздел3!O165","v":0},{"$f":"Раздел3!S165","v":0}]
[null,"Стрельба из штатного или табельного оружия","169",null,null,0,null,null,null,null,null,null,null,null,null,null,null,null,null,null,null,null,null,null,{"$f":"Раздел3!O166","v":0},{"$f":"Раздел3!S166","v":0}]
[null,"Смешанное боевое единоборство (ММА)","170",null,null,0,null,null,null,null,null,null,null,null,null,null,null,null,null,null,null,null,null,null,{"$f":"Раздел3!O167","v":0},{"$f":"Раздел3!S167","v":0}]
[null,"Сноуборд","171",null,null,0,null,null,null,null,null,null,null,null,null,null,null,null,null,null,null,null,null,null,{"$f":"Раздел3!O168","v":0},{"$f":"Раздел3!S168","v":0}]
[null,"Современное пятиборье","172",null,null,0,null,null,null,null,null,null,null,null,null,null,null,null,null,null,null,null,null,null,{"$f":"Раздел3!O169","v":0},{"$f":"Раздел3!S169","v":0}]
[null,"Софтбол","173",null,null,0,null,null,null,null,null,null,null,null,null,null,null,null,null,null,null,null,null,null,{"$f":"Раздел3!O170","v":0},{"$f":"Раздел3!S170","v":0}]
[null,"Спорт сверхлегкой авиации","174",null,null,0,null,null,null,null,null,null,null,null,null,null,null,null,null,null,null,null,null,null,{"$f":"Раздел3!O171","v":0},{"$f":"Раздел3!S171","v":0}]
[null,"Спортивная акробатика","175",null,null,0,null,null,null,null,null,null,null,null,null,null,null,null,null,null,null,null,null,null,{"$f":"Раздел3!O172","v":0},{"$f":"Раздел3!S172","v":0}]
[null,"Спортивная аэробика","176",null,null,0,null,null,null,null,null,null,null,null,null,null,null,null,null,null,null,null,null,null,{"$f":"Раздел3!O173","v":0},{"$f":"Раздел3!S173","v":0}]
[null,"Спортивная борьба - всего","177",{"$f":"IF(SUM(D186:D190)>=1,1,0)","v":1},{"$f":"IF(SUM(E186:E190)>=1,1,0)","v":0},110,{"$f":"SUM(G186:G190)","v":0},0,0,0,0,0,0,0,0,0,0,0,0,0,58,0,52,0,{"$f":"Раздел3!O174","v":0},{"$f":"Раздел3!S174","v":0}]
[null,"в том числе:\nВольная борьба","178",1,null,110,null,null,null,null,null,null,null,null,null,null,null,null,null,null,58,null,52,null,{"$f":"Раздел3!O175","v":0},{"$f":"Раздел3!S175","v":0}]
[null,"Греко-римская борьба","179",null,null,0,null,null,null,null,null,null,null,null,null,null,null,null,null,null,null,null,null,null,{"$f":"Раздел3!O176","v":0},{"$f":"Раздел3!S176","v":0}]
[null,"Грэпплинг","180",null,null,0,null,null,null,null,null,null,null,null,null,null,null,null,null,null,null,null,null,null,{"$f":"Раздел3!O177","v":0},{"$f":"Раздел3!S177","v":0}]
[null,"Грэпплинг-ги","181",null,null,0,null,null,null,null,null,null,null,null,null,null,null,null,null,null,null,null,null,null,{"$f":"Раздел3!O178","v":0},{"$f":"Раздел3!S178","v":0}]
[null,"Панкратион","182",null,null,0,null,null,null,null,null,null,null,null,null,null,null,null,null,null,null,null,null,null,{"$f":"Раздел3!O179","v":0},{"$f":"Раздел3!S179","v":0}]
[null,"Спортивная гимнастика","183",null,null,0,null,null,null,null,null,null,null,null,null,null,null,null,null,null,null,null,null,null,{"$f":"Раздел3!O180","v":0},{"$f":"Раздел3!S180","v":0}]
[null,"Спортивная йога","184",null,null,0,null,null,null,null,null,null,null,null,null,null,null,null,null,null,null,null,null,null,{"$f":"Раздел3!O181","v":0},{"$f":"Раздел3!S181","v":0}]
[null,"Спортивно-прикладное собаководство","185",null,null,0,null,null,null,null,null,null,null,null,null,null,null,null,null,null,null,null,null,null,{"$f":"Раздел3!O182","v":0},{"$f":"Раздел3!S182","v":0}]
[null,"Спортивное ориентирование","186",null,null,0,null,null,null,null,null,null,null,null,null,null,null,null,null,null,null,null,null,null,{"$f":"Раздел3!O183","v":0},{"$f":"Раздел3!S183","v":0}]
[null,"Спортивный бридж","187",null,null,0,null,null,null,null,null,null,null,null,null,null,null,null,null,null,null,null,null,null,{"$f":"Раздел3!O184","v":0},{"$f":"Раздел3!S184","v":0}]
[null,"Спортивный туризм","188",null,null,0,null,null,null,null,null,null,null,null,null,null,null,null,null,null,null,null,null,null,{"$f":"Раздел3!O185","v":0},{"$f":"Раздел3!S185","v":0}]
[null,"Стендовая стрельба - всего","189",{"$f":"IF(SUM(D198:D201)>=1,1,0)","v":0},{"$f":"IF(SUM(E198:E201)>=1,1,0)","v":0},0,{"$f":"SUM(G198:G201)","v":0},0,0,0,0,0,0,0,0,0,0,0,0,0,0,0,0,0,{"$f":"Раздел3!O186","v":0},{"$f":"Раздел3!S186","v":0}]
[null,"в том числе:\nТрап","190",null,null,0,null,null,null,null,null,null,null,null,null,null,null,null,null,null,null,null,null,null,{"$f":"Раздел3!O187","v":0},{"$f":"Раздел3!S187","v":0}]
[null,"Скит","191",null,null,0,null,null,null,null,null,null,null,null,null,null,null,null,null,null,null,null,null,null,{"$f":"Раздел3!O188","v":0},{"$f":"Раздел3!S188","v":0}]
[null,"Дубль-трап","192",null,null,0,null,null,null,null,null,null,null,null,null,null,null,null,null,null,null,null,null,null,{"$f":"Раздел3!O189","v":0},{"$f":"Раздел3!S189","v":0}]
[null,"Спортинг","193",null,null,0,null,null,null,null,null,null,null,null,null,null,null,null,null,null,null,null,null,null,{"$f":"Раздел3!O190","v":0},{"$f":"Раздел3!S190","v":0}]
[null,"Страйкбол","194",null,null,0]
[null,"Стрельба из арбалета","195",null,null,0,null,null,null,null,null,null,null,null,null,null,null,null,null,null,null,null,null,null,{"$f":"Раздел3!O191","v":0},{"$f":"Раздел3!S191","v":0}]
[null,"Стрельба из лука - всего","196",{"$f":"IF(SUM(D205:D207)>=1,1,0)","v":0},{"$f":"IF(SUM(E205:E207)>=1,1,0)","v":0},0,{"$f":"SUM(G205:G207)","v":0},0,0,0,0,0,0,0,0,0,0,0,0,0,0,0,0,0,{"$f":"Раздел3!O192","v":0},{"$f":"Раздел3!S192","v":0}]
[null,"в том числе:\nКлассический лук","197",null,null,0,null,null,null,null,null,null,null,null,null,null,null,null,null,null,null,null,null,null,{"$f":"Раздел3!O193","v":0},{"$f":"Раздел3!S193","v":0}]
[null,"   Блочный лук","198",null,null,{"$f":"SUM(G206:K206,U206,W206)*IF(D206>0,1,0)","v":0},null,null,null,null,null,null,null,null,null,null,null,null,null,null,null,null,null,null,{"$f":"Раздел3!O194","v":0},{"$f":"Раздел3!S194","v":0}]
[null,"   Ачери ","199",null,null,0,null,null,null,null,null,null,null,null,null,null,null,null,null,null,null,null,null,null,{"$f":"Раздел3!O195","v":0},{"$f":"Раздел3!S195","v":0}]
[null,"Судомодельный спорт","200",null,null,0,null,null,null,null,null,null,null,null,null,null,null,null,null,null,null,null,null,null,{"$f":"Раздел3!O196","v":0},{"$f":"Раздел3!S196","v":0}]
[null,"Сумо","201",null,null,0,null,null,null,null,null,null,null,null,null,null,null,null,null,null,null,null,null,null,{"$f":"Раздел3!O197","v":0},{"$f":"Раздел3!S197","v":0}]
[null,"Таврели","202",null,null,0]
[null,"Тайский бокс","203",null,null,0,null,null,null,null,null,null,null,null,null,null,null,null,null,null,null,null,null,null,{"$f":"Раздел3!O198","v":0},{"$f":"Раздел3!S198","v":0}]
[null,"Танцевальный спорт","204",null,null,0,null,null,null,null,null,null,null,null,null,null,null,null,null,null,null,null,null,null,{"$f":"Раздел3!O199","v":0},{"$f":"Раздел3!S199","v":0}]
[null,"Теннис","205",null,null,0,null,null,null,null,null,null,null,null,null,null,null,null,null,null,null,null,null,null,{"$f":"Раздел3!O200","v":0},{"$f":"Раздел3!S200","v":0}]
[null,"Триатлон","206",null,null,0,null,null,null,null,null,null,null,null,null,null,null,null,null,null,null,null,null,null,{"$f":"Раздел3!O201","v":0},{"$f":"Раздел3!S201","v":0}]
[null,"Тхэквондо - всего","207",{"$f":"IF(SUM(D216:D217)>=1,1,0)","v":0},{"$f":"IF(SUM(E216:E217)>=1,1,0)","v":0},0,{"$f":"SUM(G216:G217)","v":0},0,0,0,0,0,0,0,0,0,0,0,0,0,0,0,0,0,{"$f":"Раздел3!O202","v":0},{"$f":"Раздел3!S202","v":0}]
[null,"в том числе:\nТхэквондо (ВТФ)","208",null,null,0,null,null,null,null,null,null,null,null,null,null,null,null,null,null,null,null,null,null,{"$f":"Раздел3!O203","v":0},{"$f":"Раздел3!S203","v":0}]
[null,"Тхэквондо (ГТФ, МФТ)","209",null,null,0,null,null,null,null,null,null,null,null,null,null,null,null,null,null,null,null,null,null,{"$f":"Раздел3!O204","v":0},{"$f":"Раздел3!S204","v":0}]
[null,"Тхэквондо ИТФ","210",null,null,0]
[null,"Тяжелая атлетика","211",null,null,0,null,null,null,null,null,null,null,null,null,null,null,null,null,null,null,null,null,null,{"$f":"Раздел3!O205","v":0},{"$f":"Раздел3!S205","v":0}]
[null,"Универсальный бой","212",null,null,0,null,null,null,null,null,null,null,null,null,null,null,null,null,null,null,null,null,null,{"$f":"Раздел3!O206","v":0},{"$f":"Раздел3!S206","v":0}]
[null,"Ушу","213",null,null,0,null,null,null,null,null,null,null,null,null,null,null,null,null,null,null,null,null,null,{"$f":"Раздел3!O207","v":0},{"$f":"Раздел3!S207","v":0}]
[null,"Фехтование - всего","214",{"$f":"IF(SUM(D223:D226)>=1,1,0)","v":0},{"$f":"IF(SUM(E223:E226)>=1,1,0)","v":0},0,{"$f":"SUM(G223:G226)","v":0},0,0,0,0,0,0,0,0,0,0,0,0,0,0,0,0,0,{"$f":"Раздел3!O208","v":0},{"$f":"Раздел3!S208","v":0}]
[null,"в том числе:\nРапира","215",null,null,0,null,null,null,null,null,null,null,null,null,null,null,null,null,null,null,null,null,null,{"$f":"Раздел3!O209","v":0},{"$f":"Раздел3!S209","v":0}]
[null,"Сабля","216",null,null,0,null,null,null,null,null,null,null,null,null,null,null,null,null,null,null,null,null,null,{"$f":"Раздел3!O210","v":0},{"$f":"Раздел3!S210","v":0}]
[null,"Шпага","217",null,null,0,null,null,null,null,null,null,null,null,null,null,null,null,null,null,null,null,null,null,{"$f":"Раздел3!O211","v":0},{"$f":"Раздел3!S211","v":0}]
[null,"Арт-фехтование","218",null,null,0,null,null,null,null,null,null,null,null,null,null,null,null,null,null,null,null,null,null,{"$f":"Раздел3!O212","v":0},{"$f":"Раздел3!S212","v":0},{"$f":"Раздел10!D16","v":0}]
[null,"Фигурное катание на коньках","219",null,null,0,null,null,null,null,null,null,null,null,null,null,null,null,null,null,null,null,null,null,{"$f":"Раздел3!O213","v":0},{"$f":"Раздел3!S213","v":0}]
[null,"Фитнес-аэробика","220",null,null,0,null,null,null,null,null,null,null,null,null,null,null,null,null,null,null,null,null,null,{"$f":"Раздел3!O214","v":0},{"$f":"Раздел3!S214","v":0}]
[null,"Флаинг диск","221",null,null,0,null,null,null,null,null,null,null,null,null,null,null,null,null,null,null,null,null,null,{"$f":"Раздел3!O215","v":0},{"$f":"Раздел3!S215","v":0}]
[null,"Флорбол","222",null,null,0,null,null,null,null,null,null,null,null,null,null,null,null,null,null,null,null,null,null,{"$f":"Раздел3!O216","v":0},{"$f":"Раздел3!S216","v":0}]
[null,"Фристайл - всего","223",{"$f":"IF(SUM(D232:D237)>=1,1,0)","v":0},{"$f":"IF(SUM(E232:E237)>=1,1,0)","v":0},0,{"$f":"SUM(G232:G237)","v":0},0,0,0,0,0,0,0,0,0,0,0,0,0,0,0,0,0,{"$f":"Раздел3!O217","v":0},{"$f":"Раздел3!S217","v":0}]
[null,"в том числе:\nАкробатика","224",null,null,0,null,null,null,null,null,null,null,null,null,null,null,null,null,null,null,null,null,null,{"$f":"Раздел3!O218","v":0},{"$f":"Раздел3!S218","v":0}]
[null,"Биг-эйр","225",null,null,0]
[null,"Могул","226",null,null,0,null,null,null,null,null,null,null,null,null,null,null,null,null,null,null,null,null,null,{"$f":"Раздел3!O219","v":0},{"$f":"Раздел3!S219","v":0}]
[null,"Ски-кросс","227",null,null,0,null,null,null,null,null,null,null,null,null,null,null,null,null,null,null,null,null,null,{"$f":"Раздел3!O220","v":0},{"$f":"Раздел3!S220","v":0}]
[null,"Хаф-пайп","228",null,null,0,null,null,null,null,null,null,null,null,null,null,null,null,null,null,null,null,null,null,{"$f":"Раздел3!O221","v":0},{"$f":"Раздел3!S221","v":0}]
[null,"Слоуп-стайл","229",null,null,0,null,null,null,null,null,null,null,null,null,null,null,null,null,null,null,null,null,null,{"$f":"Раздел3!O222","v":0},{"$f":"Раздел3!S222","v":0}]
[null,"Функциональное многоборье","230",null,null,0,null,null,null,null,null,null,null,null,null,null,null,null,null,null,null,null,null,null,{"$f":"Раздел3!O223","v":0},{"$f":"Раздел3!S223","v":0}]
[null,"Футбол - всего","231",{"$f":"IF(SUM(D240:D243)>=1,1,0)","v":1},{"$f":"IF(SUM(E240:E243)>=1,1,0)","v":0},30,{"$f":"SUM(G240:G243)","v":0},{"$f":"SUM(H240:H243)","v":0},{"$f":"SUM(I240:I243)","v":0},0,0,0,0,0,0,0,0,0,0,0,30,0,0,0,{"$f":"Раздел3!O224","v":0},{"$f":"Раздел3!S224","v":0}]
[null,"в том числе:\nФутбол (муж.)","232",1,null,30,null,null,null,null,null,null,null,null,null,null,null,null,null,null,30,null,null,null,{"$f":"Раздел3!O225","v":0},{"$f":"Раздел3!S225","v":0}]
[null,"Футбол (жен.)","233",null,null,0,null,null,null,null,null,null,null,null,null,null,null,{"$f":"SUM(G241:K241)","v":0},null,null,null,null,null,null,{"$f":"Раздел3!O226","v":0},{"$f":"Раздел3!S226","v":0}]
[null,"Мини-футбол (футзал)","234",null,null,0,null,null,null,null,null,null,null,null,null,null,null,null,null,null,null,null,null,null,{"$f":"Раздел3!O227","v":0},{"$f":"Раздел3!S227","v":0}]
[null,"Пляжный футбол","235",null,null,0,null,null,null,null,null,null,null,null,null,null,null,null,null,null,null,null,null,null,{"$f":"Раздел3!O228","v":0},{"$f":"Раздел3!S228","v":0}]
[null,"Футгольф","236",null,null,0]
[null,"Хапкидо","237",null,null,0]
[null,"Хапсагай","238",null,null,0,null,null,null,null,null,null,null,null,null,null,null,null,null,null,null,null,null,null,{"$f":"Раздел3!O229","v":0},{"$f":"Раздел3!S229","v":0}]
[null,"Хоккей - всего","239",{"$f":"IF(SUM(D248:D249)>=1,1,0)","v":0},{"$f":"IF(SUM(E248:E249)>=1,1,0)","v":0},0,{"$f":"SUM(G248:G249)","v":0},0,0,0,0,0,0,0,0,0,0,0,0,0,0,0,0,0,{"$f":"Раздел3!O230","v":0},{"$f":"Раздел3!S230","v":0}]
[null,"в том числе:\nХоккей (муж.)","240",null,null,0,null,null,null,null,null,null,null,null,null,null,null,null,null,null,null,null,null,null,{"$f":"Раздел3!O231","v":0},{"$f":"Раздел3!S231","v":0}]
[null,"Хоккей (жен.)","241",null,null,0,null,null,null,null,null,null,null,null,null,null,null,{"$f":"SUM(G249:K249)","v":0},null,null,null,null,null,null,{"$f":"Раздел3!O232","v":0},{"$f":"Раздел3!S232","v":0}]
[null,"Хоккей на траве - всего","242",{"$f":"IF(SUM(D251:D253)>=1,1,0)","v":0},{"$f":"IF(SUM(E251:E253)>=1,1,0)","v":0},0,{"$f":"SUM(G251:G253)","v":0},0,0,0,0,0,0,0,0,0,0,0,0,0,0,0,0,0]
[null,"в том числе:\nХоккей на траве (муж.)","243",null,null,0]
[null,"Хоккей на траве (жен.)","244",null,null,0,null,null,null,null,null,null,null,null,null,null,null,{"$f":"SUM(G252:K252)","v":0}]
[null,"Индорхоккей","245",null,null,0]
[null,"Хоккей с мячом","246",null,null,0]
[null,"Художественная гимнастика","247",null,null,0]
[null,"Хуреш","248",null,null,0]
[null,"Чир спорт","249",null,null,0]
[null,"Шахматы","250",1,null,220,null,null,null,null,null,null,null,null,null,null,null,null,null,null,190,null,30]
[null,"Шашки","251",null,null,0]
[null,"Шодсанлат","252",null,null,0]
[null,"Эстетическая гимнастика","253",null,null,0]
[null,"Якутские национальные прыжки","254",null,null,0]
[null,"ИТОГО","255",{"$f":"SUM(D9:D20,D23:D26,D29:D33,D44:D49,D54:D56,D38:D41,D60:D69,D74:D83,D87:D93,D96:D100,D108:D116,D117:D122,D125:D130,D133,D138:D139,D145:D148,D153:D161,D162:D176,D177:D185,D191:D197,D202:D204,D208:D215,D218:D222,D227:D231,D238:D239,D244:D247,D250,D254:D262)","v":8},{"$f":"SUM(E9:E20,E23:E26,E29:E33,E44:E49,E54:E56,E38:E41,E60:E69,E74:E83,E87:E93,E96:E100,E108:E116,E117:E122,E125:E130,E133,E138:E139,E145:E148,E153:E161,E162:E176,E177:E185,E191:E197,E202:E204,E208:E215,E218:E222,E227:E231,E238:E239,E244:E247,E250,E254:E262)","v":0},680,{"$f":"SUM(G9:G20,G23:G26,G29:G33,G44:G49,G54:G56,G38:G41,G60:G69,G74:G83,G87:G93,G96:G100,G108:G116,G117:G122,G125:G130,G133,G138:G139,G145:G148,G153:G161,G162:G176,G177:G185,G191:G197,G202:G204,G208:G215,G218:G222,G227:G231,G238:G239,G244:G247,G250,G254:G262)","v":0},{"$f":"SUM(H9:H20,H23:H26,H29:H33,H44:H49,H54:H56,H38:H41,H60:H69,H74:H83,H87:H93,H96:H100,H108:H116,H117:H122,H125:H130,H133,H138:H139,H145:H148,H153:H161,H162:H176,H177:H185,H191:H197,H202:H204,H208:H215,H218:H222,H227:H231,H238:H239,H244:H247,H250,H254:H262)","v":0},0,0,0,0,0,0,0,0,0,0,0,0,478,0,202,0,{"$f":"SUM(H263:K263,U263,W263)","v":680}]

{"sheet":"Раздел3","index":3,"n_rows":262,"n_cols":61,"rows_kept":262,"cut":false,"hidden":false,"merged":[[2,33,5,33],[3,3,5,3],[2,20,2,24],[2,25,2,29],[3,20,5,20],[3,25,5,25],[2,31,5,31],[2,32,5,32],[0,30,122,30],[3,21,4,24],[3,26,4,29],[3,4,3,19],[4,4,5,4],[4,5,4,9],[4,10,4,14],[0,0,122,0],[0,1,0,29],[2,1,5,1],[2,2,5,2],[1,25,1,29],[2,3,2,19],[4,15,4,19]]}
[null,"Раздел III. Численность занимающихся по программам спортивной подготовки"]
[null,null,null,null,null,null,null,null,null,null,null,null,null,null,null,null,null,null,null,null,null,null,null,null,null,"Код по ОКЕИ: человек – 792"]
[null,"Виды спорта","№ строки","Число занимающихся по программам спортивной подготовки на 31 декабря отчетного года (из гр. 7-10 раздела II)",null,null,null,null,null,null,null,null,null,null,null,null,null,null,null,null,"Число занимающихся, зачисленных на программы \nспортивной подготовки в отчетном году",null,null,null,null,"Число занимающихся, отчисленных с программ \nспортивной подготовки в отчетном году",null,null,null,null,null,null,"Раздел2 графа3\nЧисло отделений","Раздел2 графа5\nЧисло отделений"]
[null,null,null,"всего","в том числе по этапам и годам подготовки",null,null,null,null,null,null,null,null,null,null,null,null,null,null,null,"всего","в том числе по этапам подготовки",null,null,null,"всего","в том числе по этапам подготовки"]
[null,null,null,null,"начальной подготовки","тренировочный",null,null,null,null,"совершенствования спортивного мастерства",null,null,null,null,"высшего спортивного мастерства"]
[null,null,null,null,null,1,2,3,4,5,1,2,3,4,"более 4",1,2,3,4,"более 4",null,"начальной подготовки","трениро-вочный","совершен-ствования спортивного мастерства","высшего спортивного мастерства",null,"начальной подготовки","трениро-вочный","совершен-ствования спортивного мастерства","высшего спортивного мастерства",null,null,null,null,"2-7","2-8","2-9","2-10"]
[null,1,2,3,4,5,6,7,8,9,10,11,12,13,14,15,16,17,18,19,20,21,22,23,24,25,26,27,28,29]
[null,"Авиамодельный спорт","01",{"$f":"SUM(E8:T8)","v":0},{"$f":"Раздел2!H9","v":0},null,null,null,null,null,null,null,null,null,null,null,null,null,null,null,{"$f":"SUM(V8:Y8)","v":0},null,null,null,null,{"$f":"SUM(AA8:AD8)","v":0},null,null,null,null,null,null,{"$f":"Раздел2!F9","v":0},{"$f":"Раздел2!F9","v":0},{"$f":"Раздел2!H9","v":0},{"$f":"Раздел2!I9","v":0},{"$f":"Раздел2!J9","v":0},{"$f":"Раздел2!K9","v":0},null,null,0,{"$f":"Раздел1!D18","v":1},{"$f":"Раздел1!D18","v":1},null,null,null,{"$f":"Раздел2!D9","v":0},null,null,null,null,null,null,null,null,null,null,null,null,null,{"$f":"Раздел1!D18","v":1}]
[null,"Автомобильный спорт","02",{"$f":"SUM(E9:T9)","v":0},{"$f":"Раздел2!H10","v":0},null,null,null,null,null,null,null,null,null,null,null,null,null,null,null,{"$f":"SUM(V9:Y9)","v":0},null,null,null,null,{"$f":"SUM(AA9:AD9)","v":0},null,null,null,null,null,null,{"$f":"Раздел2!F10","v":0},{"$f":"Раздел2!F10","v":0},{"$f":"Раздел2!H10","v":0},{"$f":"Раздел2!I10","v":0},{"$f":"Раздел2!J10","v":0},{"$f":"Раздел2!K10","v":0},null,null,null,{"$f":"Раздел1!F18","v":0},{"$f":"Раздел1!F18","v":0},null,null,null,{"$f":"Раздел2!D10","v":0}]
[null,"Автомодельный спорт","03",0,{"$f":"Раздел2!H11","v":0},null,null,null,null,null,null,null,null,null,null,null,null,null,null,null,0,null,null,null,null,0,null,null,null,null,null,null,{"$f":"Раздел2!F11","v":0},{"$f":"Раздел2!F12","v":0},{"$f":"Раздел2!H12","v":0},{"$f":"Раздел2!I11","v":0},{"$f":"Раздел2!J11","v":0},{"$f":"Раздел2!K11","v":0},null,null,null,{"$f":"Раздел1!H18","v":0},{"$f":"Раздел1!H18","v":0},null,null,null,{"$f":"Раздел2!D11","v":0}]
[null,"Айкидо","04",0,{"$f":"Раздел2!H12","v":0},null,null,null,null,null,null,null,null,null,null,null,null,null,null,null,0,null,null,null,null,0,null,null,null,null,null,null,{"$f":"Раздел2!F12","v":0},{"$f":"Раздел2!F14","v":0},{"$f":"Раздел2!H14","v":0},{"$f":"Раздел2!I12","v":0},{"$f":"Раздел2!J12","v":0},{"$f":"Раздел2!K12","v":0},null,null,null,null,null,null,null,null,{"$f":"Раздел2!D12","v":0}]
[null,"Айсшток","05",0,{"$f":"Раздел2!H13","v":0},null,null,null,null,null,null,null,null,null,null,null,null,null,null,null,0,null,null,null,null,0,null,null,null,null,null,null,{"$f":"Раздел2!F13","v":0},{"$f":"Раздел2!F15","v":0},{"$f":"Раздел2!H15","v":0},{"$f":"Раздел2!I13","v":0},{"$f":"Раздел2!J13","v":0},{"$f":"Раздел2!K13","v":0},null,null,null,null,null,null,null,null,{"$f":"Раздел2!D13","v":0}]
[null,"Акробатический рок-н-ролл","06",0,{"$f":"Раздел2!H14","v":0},null,null,null,null,null,null,null,null,null,null,null,null,null,null,null,0,null,null,null,null,0,null,null,null,null,null,null,{"$f":"Раздел2!F14","v":0},{"$f":"Раздел2!F16","v":0},{"$f":"Раздел2!H16","v":0},{"$f":"Раздел2!I14","v":0},{"$f":"Раздел2!J14","v":0},{"$f":"Раздел2!K14","v":0},null,null,null,null,null,null,null,null,{"$f":"Раздел2!D14","v":0}]
[null,"Альпинизм","07",0,{"$f":"Раздел2!H15","v":0},null,null,null,null,null,null,null,null,null,null,null,null,null,null,null,0,null,null,null,null,0,null,null,null,null,null,null,{"$f":"Раздел2!F15","v":0},{"$f":"Раздел2!F18","v":0},{"$f":"Раздел2!H18","v":0},{"$f":"Раздел2!I15","v":0},{"$f":"Раздел2!J15","v":0},{"$f":"Раздел2!K15","v":0},null,null,null,null,null,null,null,null,{"$f":"Раздел2!D15","v":0}]
[null,"Американский футбол","08",0,{"$f":"Раздел2!H16","v":0},null,null,null,null,null,null,null,null,null,null,null,null,null,null,null,0,null,null,null,null,0,null,null,null,null,null,null,{"$f":"Раздел2!F16","v":0},{"$f":"Раздел2!F19","v":0},{"$f":"Раздел2!H19","v":0},{"$f":"Раздел2!I16","v":0},{"$f":"Раздел2!J16","v":0},{"$f":"Раздел2!K16","v":0},null,null,null,null,null,null,null,null,{"$f":"Раздел2!D16","v":0}]
[null,"Армейский рукопашный бой","09",0,{"$f":"Раздел2!H17","v":0},null,null,null,null,null,null,null,null,null,null,null,null,null,null,null,0,null,null,null,null,0,null,null,null,null,null,null,{"$f":"Раздел2!F17","v":0},{"$f":"Раздел2!F20","v":105},{"$f":"Раздел2!H20","v":0},{"$f":"Раздел2!I17","v":0},{"$f":"Раздел2!J17","v":0},{"$f":"Раздел2!K17","v":0},null,null,null,null,null,null,null,null,{"$f":"Раздел2!D17","v":0}]
[null,"Армрестлинг","10",0,{"$f":"Раздел2!H18","v":0},null,null,null,null,null,null,null,null,null,null,null,null,null,null,null,0,null,null,null,null,0,null,null,null,null,null,null,{"$f":"Раздел2!F18","v":0},{"$f":"Раздел2!F21","v":52},{"$f":"Раздел2!H21","v":0},{"$f":"Раздел2!I18","v":0},{"$f":"Раздел2!J18","v":0},{"$f":"Раздел2!K18","v":0},null,null,null,null,null,null,null,null,{"$f":"Раздел2!D18","v":0}]
[null,"Бадминтон","11",0,{"$f":"Раздел2!H19","v":0},null,null,null,null,null,null,null,null,null,null,null,null,null,null,null,0,null,null,null,null,0,null,null,null,null,null,null,{"$f":"Раздел2!F19","v":0},{"$f":"Раздел2!F22","v":53},{"$f":"Раздел2!H22","v":0},{"$f":"Раздел2!I19","v":0},{"$f":"Раздел2!J19","v":0},{"$f":"Раздел2!K19","v":0},null,null,null,null,null,null,null,null,{"$f":"Раздел2!D19","v":0}]
[null,"Баскетбол - всего","12",0,{"$f":"Раздел2!H20","v":0},{"$f":"SUM(F20:F21)","v":0},{"$f":"SUM(G20:G21)","v":0},0,0,0,0,0,0,0,0,0,0,0,0,0,0,0,0,0,0,0,0,0,0,0,null,null,{"$f":"Раздел2!F20","v":105},{"$f":"Раздел2!F23","v":0},{"$f":"Раздел2!H23","v":0},{"$f":"Раздел2!I20","v":0},{"$f":"Раздел2!J20","v":0},{"$f":"Раздел2!K20","v":0},null,null,null,null,null,null,null,null,{"$f":"Раздел2!D20","v":1}]
[null,"в том числе:\nБаскетбол (муж.)","13",0,{"$f":"Раздел2!H21","v":0},null,null,null,null,null,null,null,null,null,null,null,null,null,null,null,0,null,null,null,null,0,null,null,null,null,null,null,{"$f":"Раздел2!F21","v":52},{"$f":"Раздел2!F24","v":0},{"$f":"Раздел2!H24","v":0},{"$f":"Раздел2!I21","v":0},{"$f":"Раздел2!J21","v":0},{"$f":"Раздел2!K21","v":0},null,null,null,null,null,null,null,null,{"$f":"Раздел2!D21","v":1}]
[null,"Баскетбол (жен.)","14",0,{"$f":"Раздел2!H22","v":0},null,null,null,null,null,null,null,null,null,null,null,null,null,null,null,0,null,null,null,null,0,null,null,null,null,null,null,{"$f":"Раздел2!F22","v":53},{"$f":"Раздел2!F25","v":0},{"$f":"Раздел2!H25","v":0},{"$f":"Раздел2!I22","v":0},{"$f":"Раздел2!J22","v":0},{"$f":"Раздел2!K22","v":0},null,null,null,null,null,null,null,null,{"$f":"Раздел2!D22","v":1}]
[null,"Бейсбол","15",0,{"$f":"Раздел2!H23","v":0},null,null,null,null,null,null,null,null,null,null,null,null,null,null,null,0,null,null,null,null,0,null,null,null,null,null,null,{"$f":"Раздел2!F23","v":0},{"$f":"Раздел2!F26","v":0},{"$f":"Раздел2!H26","v":0},{"$f":"Раздел2!I23","v":0},{"$f":"Раздел2!J23","v":0},{"$f":"Раздел2!K23","v":0},null,null,null,null,null,null,null,null,{"$f":"Раздел2!D23","v":0}]
[null,"Биатлон","16",0,{"$f":"Раздел2!H24","v":0},null,null,null,null,null,null,null,null,null,null,null,null,null,null,null,0,null,null,null,null,0,null,null,null,null,null,null,{"$f":"Раздел2!F24","v":0},{"$f":"Раздел2!F27","v":0},{"$f":"Раздел2!H27","v":0},{"$f":"Раздел2!I24","v":0},{"$f":"Раздел2!J24","v":0},{"$f":"Раздел2!K24","v":0},null,null,null,null,null,null,null,null,{"$f":"Раздел2!D24","v":0}]
[null,"Бильярдный спорт","17",0,{"$f":"Раздел2!H25","v":0},null,null,null,null,null,null,null,null,null,null,null,null,null,null,null,0,null,null,null,null,0,null,null,null,null,null,null,{"$f":"Раздел2!F25","v":0},{"$f":"Раздел2!F28","v":0},{"$f":"Раздел2!H28","v":0},{"$f":"Раздел2!I25","v":0},{"$f":"Раздел2!J25","v":0},{"$f":"Раздел2!K25","v":0},null,null,null,null,null,null,null,null,{"$f":"Раздел2!D25","v":0}]
[null,"Бобслей - всего","18",0,{"$f":"Раздел2!H26","v":0},{"$f":"SUM(F26:F27)","v":0},{"$f":"SUM(G26:G27)","v":0},0,0,0,0,0,0,0,0,0,0,0,0,0,0,0,0,0,0,0,0,0,0,0,null,null,{"$f":"Раздел2!F26","v":0},{"$f":"Раздел2!F29","v":0},{"$f":"Раздел2!H29","v":0},{"$f":"Раздел2!I26","v":0},{"$f":"Раздел2!J26","v":0},{"$f":"Раздел2!K26","v":0},null,null,null,null,null,null,null,null,{"$f":"Раздел2!D26","v":0}]
[null,"в том числе:\nБобслей","19",0,{"$f":"Раздел2!H27","v":0},null,null,null,null,null,null,null,null,null,null,null,null,null,null,null,0,null,null,null,null,0,null,null,null,null,null,null,{"$f":"Раздел2!F27","v":0},{"$f":"Раздел2!F30","v":0},{"$f":"Раздел2!H30","v":0},{"$f":"Раздел2!I27","v":0},{"$f":"Раздел2!J27","v":0},{"$f":"Раздел2!K27","v":0},null,null,null,null,null,null,null,null,{"$f":"Раздел2!D27","v":0}]
[null,"Скелетон","20",0,{"$f":"Раздел2!H28","v":0},null,null,null,null,null,null,null,null,null,null,null,null,null,null,null,0,null,null,null,null,0,null,null,null,null,null,null,{"$f":"Раздел2!F28","v":0},{"$f":"Раздел2!F31","v":0},{"$f":"Раздел2!H31","v":0},{"$f":"Раздел2!I28","v":0},{"$f":"Раздел2!J28","v":0},{"$f":"Раздел2!K28","v":0},null,null,null,null,null,null,null,null,{"$f":"Раздел2!D28","v":0}]
[null,"Бодибилдинг","21",0,{"$f":"Раздел2!H29","v":0},null,null,null,null,null,null,null,null,null,null,null,null,null,null,null,0,null,null,null,null,0,null,null,null,null,null,null,{"$f":"Раздел2!F29","v":0},{"$f":"Раздел2!F32","v":0},{"$f":"Раздел2!H32","v":0},{"$f":"Раздел2!I29","v":0},{"$f":"Раздел2!J29","v":0},{"$f":"Раздел2!K29","v":0},null,null,null,null,null,null,null,null,{"$f":"Раздел2!D29","v":0}]
[null,"Бокс","22",0,{"$f":"Раздел2!H30","v":0},null,null,null,null,null,null,null,null,null,null,null,null,null,null,null,0,null,null,null,null,0,null,null,null,null,null,null,{"$f":"Раздел2!F30","v":0},{"$f":"Раздел2!F33","v":0},{"$f":"Раздел2!H33","v":0},{"$f":"Раздел2!I30","v":0},{"$f":"Раздел2!J30","v":0},{"$f":"Раздел2!K30","v":0},null,null,null,null,null,null,null,null,{"$f":"Раздел2!D30","v":0}]
[null,"Борьба на поясах","23",0,{"$f":"Раздел2!H31","v":0},null,null,null,null,null,null,null,null,null,null,null,null,null,null,null,0,null,null,null,null,0,null,null,null,null,null,null,{"$f":"Раздел2!F31","v":0},{"$f":"Раздел2!F38","v":0},{"$f":"Раздел2!H38","v":0},{"$f":"Раздел2!I31","v":0},{"$f":"Раздел2!J31","v":0},{"$f":"Раздел2!K31","v":0},null,null,null,null,null,null,null,null,{"$f":"Раздел2!D31","v":0}]
[null,"Боулинг","24",0,{"$f":"Раздел2!H32","v":0},null,null,null,null,null,null,null,null,null,null,null,null,null,null,null,0,null,null,null,null,0,null,null,null,null,null,null,{"$f":"Раздел2!F32","v":0},{"$f":"Раздел2!F39","v":0},{"$f":"Раздел2!H39","v":0},{"$f":"Раздел2!I32","v":0},{"$f":"Раздел2!J32","v":0},{"$f":"Раздел2!K32","v":0},null,null,null,null,null,null,null,null,{"$f":"Раздел2!D32","v":0}]
[null,"Велосипедный спорт - всего","25",0,{"$f":"Раздел2!H33","v":0},{"$f":"SUM(F33:F36)","v":0},{"$f":"SUM(G33:G36)","v":0},0,0,0,0,0,0,0,0,0,0,0,0,0,0,0,0,0,0,0,0,0,0,0,null,null,{"$f":"Раздел2!F33","v":0},{"$f":"Раздел2!F40","v":0},{"$f":"Раздел2!H40","v":0},{"$f":"Раздел2!I33","v":0},{"$f":"Раздел2!J33","v":0},{"$f":"Раздел2!K33","v":0},null,null,null,null,null,null,null,null,{"$f":"Раздел2!D33","v":0}]
[null,"в том числе:\nBMX","26",0,{"$f":"Раздел2!H34","v":0},null,null,null,null,null,null,null,null,null,null,null,null,null,null,null,0,null,null,null,null,0,null,null,null,null,null,null,{"$f":"Раздел2!F34","v":0},null,null,{"$f":"Раздел2!I34","v":0},{"$f":"Раздел2!J34","v":0},{"$f":"Раздел2!K34","v":0},null,null,null,null,null,null,null,null,{"$f":"Раздел2!D34","v":0}]
[null,"Маунтинбайк","27",0,{"$f":"Раздел2!H35","v":0},null,null,null,null,null,null,null,null,null,null,null,null,null,null,null,0,null,null,null,null,0,null,null,null,null,null,null,{"$f":"Раздел2!F35","v":0},null,null,{"$f":"Раздел2!I35","v":0},{"$f":"Раздел2!J35","v":0},{"$f":"Раздел2!K35","v":0},null,null,null,null,null,null,null,null,{"$f":"Раздел2!D35","v":0}]
[null,"Трек","28",0,{"$f":"Раздел2!H36","v":0},null,null,null,null,null,null,null,null,null,null,null,null,null,null,null,0,null,null,null,null,0,null,null,null,null,null,null,{"$f":"Раздел2!F36","v":0},null,null,{"$f":"Раздел2!I36","v":0},{"$f":"Раздел2!J36","v":0},{"$f":"Раздел2!K36","v":0},null,null,null,null,null,null,null,null,{"$f":"Раздел2!D36","v":0}]
[null,"Шоссе","29",0,{"$f":"Раздел2!H37","v":0},null,null,null,null,null,null,null,null,null,null,null,null,null,null,null,0,null,null,null,null,0,null,null,null,null,null,null,{"$f":"Раздел2!F37","v":0},null,null,{"$f":"Раздел2!I37","v":0},{"$f":"Раздел2!J37","v":0},{"$f":"Раздел2!K37","v":0},null,null,null,null,null,null,null,null,{"$f":"Раздел2!D37","v":0}]
[null,"Вертолетный спорт","30",0,{"$f":"Раздел2!H38","v":0},null,null,null,null,null,null,null,null,null,null,null,null,null,null,null,0,null,null,null,null,0,null,null,null,null,null,null,{"$f":"Раздел2!F38","v":0},{"$f":"Раздел2!F41","v":0},{"$f":"Раздел2!H41","v":0},{"$f":"Раздел2!I38","v":0},{"$f":"Раздел2!J38","v":0},{"$f":"Раздел2!K38","v":0},null,null,null,null,null,null,null,null,{"$f":"Раздел2!D38","v":0}]
[null,"Водно-моторный спорт","31",0,{"$f":"Раздел2!H39","v":0},null,null,null,null,null,null,null,null,null,null,null,null,null,null,null,0,null,null,null,null,0,null,null,null,null,null,null,{"$f":"Раздел2!F39","v":0},{"$f":"Раздел2!F42","v":0},{"$f":"Раздел2!H42","v":0},{"$f":"Раздел2!I39","v":0},{"$f":"Раздел2!J39","v":0},{"$f":"Раздел2!K39","v":0},null,null,null,null,null,null,null,null,{"$f":"Раздел2!D39","v":0}]
[null,"Водно-спасательное многоборье","32",0,{"$f":"Раздел2!H40","v":0},null,null,null,null,null,null,null,null,null,null,null,null,null,null,null,0,null,null,null,null,0,null,null,null,null,null,null,{"$f":"Раздел2!F40","v":0},{"$f":"Раздел2!F43","v":0},{"$f":"Раздел2!H43","v":0},{"$f":"Раздел2!I40","v":0},{"$f":"Раздел2!J40","v":0},{"$f":"Раздел2!K40","v":0},null,null,null,null,null,null,null,null,{"$f":"Раздел2!D40","v":0}]
[null,"Водное поло - всего ","33",0,{"$f":"Раздел2!H41","v":0},{"$f":"SUM(F41:F42)","v":0},{"$f":"SUM(G41:G42)","v":0},0,0,0,0,0,0,0,0,0,0,0,0,0,0,0,0,0,0,0,0,0,0,0,null,null,{"$f":"Раздел2!F41","v":0},{"$f":"Раздел2!F44","v":0},{"$f":"Раздел2!H44","v":0},{"$f":"Раздел2!I41","v":0},{"$f":"Раздел2!J41","v":0},{"$f":"Раздел2!K41","v":0},null,null,null,null,null,null,null,null,{"$f":"Раздел2!D41","v":0}]
[null,"в том числе:\nВодное поло (муж.)","34",0,{"$f":"Раздел2!H42","v":0},null,null,null,null,null,null,null,null,null,null,null,null,null,null,null,0,null,null,null,null,0,null,null,null,null,null,null,{"$f":"Раздел2!F42","v":0},{"$f":"Раздел2!F46","v":0},{"$f":"Раздел2!H46","v":0},{"$f":"Раздел2!I42","v":0},{"$f":"Раздел2!J42","v":0},{"$f":"Раздел2!K42","v":0},null,null,null,null,null,null,null,null,{"$f":"Раздел2!D42","v":0}]
[null,"Водное поло (жен.)","35",0,{"$f":"Раздел2!H43","v":0},null,null,null,null,null,null,null,null,null,null,null,null,null,null,null,0,null,null,null,null,0,null,null,null,null,null,null,{"$f":"Раздел2!F43","v":0},{"$f":"Раздел2!F47","v":0},{"$f":"Раздел2!H47","v":0},{"$f":"Раздел2!I43","v":0},{"$f":"Раздел2!J43","v":0},{"$f":"Раздел2!K43","v":0},null,null,null,null,null,null,null,null,{"$f":"Раздел2!D43","v":0}]
[null,"Воднолыжный спорт","36",0,{"$f":"Раздел2!H44","v":0},null,null,null,null,null,null,null,null,null,null,null,null,null,null,null,0,null,null,null,null,0,null,null,null,null,null,null,{"$f":"Раздел2!F44","v":0},{"$f":"Раздел2!F50","v":77},{"$f":"Раздел2!H50","v":0},{"$f":"Раздел2!I44","v":0},{"$f":"Раздел2!J44","v":0},{"$f":"Раздел2!K44","v":0},null,null,null,null,null,null,null,null,{"$f":"Раздел2!D44","v":0}]
[null,"Воздушно-силовая атлетика","37",0,{"$f":"Раздел2!H45","v":0},null,null,null,null,null,null,null,null,null,null,null,null,null,null,null,0,null,null,null,null,0,null,null,null,null,null,null,{"$f":"Раздел2!F45","v":0},{"$f":"Раздел2!F51","v":58},{"$f":"Раздел2!H51","v":0},{"$f":"Раздел2!I45","v":0},{"$f":"Раздел2!J45","v":0},{"$f":"Раздел2!K45","v":0},null,null,null,null,null,null,null,null,{"$f":"Раздел2!D46","v":0}]
[null,"Военно-прикладной спорт","38",0,{"$f":"Раздел2!H46","v":0},null,null,null,null,null,null,null,null,null,null,null,null,null,null,null,0,null,null,null,null,0,null,null,null,null,null,null,{"$f":"Раздел2!F46","v":0},{"$f":"Раздел2!F52","v":0},{"$f":"Раздел2!H52","v":0},{"$f":"Раздел2!I46","v":0},{"$f":"Раздел2!J46","v":0},{"$f":"Раздел2!K46","v":0},null,null,null,null,null,null,null,null,{"$f":"Раздел2!D47","v":0}]
[null,"Военно-спортивное многоборье","39",0,{"$f":"Раздел2!H47","v":0},null,null,null,null,null,null,null,null,null,null,null,null,null,null,null,0,null,null,null,null,0,null,null,null,null,null,null,{"$f":"Раздел2!F47","v":0},{"$f":"Раздел2!F53","v":0},{"$f":"Раздел2!H53","v":0},{"$f":"Раздел2!I47","v":0},{"$f":"Раздел2!J47","v":0},{"$f":"Раздел2!K47","v":0},null,null,null,null,null,null,null,null,{"$f":"Раздел2!D48","v":0}]
[null,"Воздухоплавательный спорт","40",0,{"$f":"Раздел2!H48","v":0},null,null,null,null,null,null,null,null,null,null,null,null,null,null,null,0,null,null,null,null,0,null,null,null,null,null,null,{"$f":"Раздел2!F48","v":0},{"$f":"Раздел2!F54","v":0},{"$f":"Раздел2!H54","v":0},{"$f":"Раздел2!I48","v":0},{"$f":"Раздел2!J48","v":0},{"$f":"Раздел2!K48","v":0},null,null,null,null,null,null,null,null,{"$f":"Раздел2!D49","v":1}]
[null,"Волейбол - всего","41",0,{"$f":"Раздел2!H49","v":0},{"$f":"SUM(F49:F52)","v":0},{"$f":"SUM(G49:G52)","v":0},0,0,0,0,0,0,0,0,0,0,0,0,0,0,0,0,0,0,0,0,0,0,0,null,null,{"$f":"Раздел2!F49","v":135},{"$f":"Раздел2!F55","v":0},{"$f":"Раздел2!H55","v":0},{"$f":"Раздел2!I49","v":0},{"$f":"Раздел2!J49","v":0},{"$f":"Раздел2!K49","v":0},null,null,null,null,null,null,null,null,{"$f":"Раздел2!D50","v":1}]
[null,"в том числе:\nВолейбол (муж.)","42",0,{"$f":"Раздел2!H50","v":0},null,null,null,null,null,null,null,null,null,null,null,null,null,null,null,0,null,null,null,null,0,null,null,null,null,null,null,{"$f":"Раздел2!F50","v":77},{"$f":"Раздел2!F56","v":0},{"$f":"Раздел2!H56","v":0},{"$f":"Раздел2!I50","v":0},{"$f":"Раздел2!J50","v":0},{"$f":"Раздел2!K50","v":0},null,null,null,null,null,null,null,null,{"$f":"Раздел2!D51","v":1}]
[null,"Волейбол (жен.)","43",0,{"$f":"Раздел2!H51","v":0},null,null,null,null,null,null,null,null,null,null,null,null,null,null,null,0,null,null,null,null,0,null,null,null,null,null,null,{"$f":"Раздел2!F51","v":58},{"$f":"Раздел2!F57","v":0},{"$f":"Раздел2!H57","v":0},{"$f":"Раздел2!I51","v":0},{"$f":"Раздел2!J51","v":0},{"$f":"Раздел2!K51","v":0},null,null,null,null,null,null,null,null,{"$f":"Раздел2!D52","v":0}]
[null,"Пляжный волейбол (муж.)","44",0,{"$f":"Раздел2!H52","v":0},null,null,null,null,null,null,null,null,null,null,null,null,null,null,null,0,null,null,null,null,0,null,null,null,null,null,null,{"$f":"Раздел2!F52","v":0},{"$f":"Раздел2!F58","v":0},{"$f":"Раздел2!H58","v":0},{"$f":"Раздел2!I52","v":0},{"$f":"Раздел2!J52","v":0},{"$f":"Раздел2!K52","v":0},null,null,null,null,null,null,null,null,{"$f":"Раздел2!D53","v":0}]
[null,"Пляжный волейбол (жен.)","45",0,{"$f":"Раздел2!H53","v":0},null,null,null,null,null,null,null,null,null,null,null,null,null,null,null,0,null,null,null,null,0,null,null,null,null,null,null,{"$f":"Раздел2!F53","v":0},{"$f":"Раздел2!F59","v":0},{"$f":"Раздел2!H59","v":0},{"$f":"Раздел2!I53","v":0},{"$f":"Раздел2!J53","v":0},{"$f":"Раздел2!K53","v":0},null,null,null,null,null,null,null,null,{"$f":"Раздел2!D54","v":0}]
[null,"Восточное боевое единоборство","46",0,{"$f":"Раздел2!H54","v":0},null,null,null,null,null,null,null,null,null,null,null,null,null,null,null,0,null,null,null,null,0,null,null,null,null,null,null,{"$f":"Раздел2!F54","v":0},{"$f":"Раздел2!F60","v":0},{"$f":"Раздел2!H60","v":0},{"$f":"Раздел2!I54","v":0},{"$f":"Раздел2!J54","v":0},{"$f":"Раздел2!K54","v":0},null,null,null,null,null,null,null,null,{"$f":"Раздел2!D55","v":0}]
[null,"Всестилевое каратэ","47",0,{"$f":"Раздел2!H55","v":0},null,null,null,null,null,null,null,null,null,null,null,null,null,null,null,0,null,null,null,null,0,null,null,null,null,null,null,{"$f":"Раздел2!F55","v":0},{"$f":"Раздел2!F62","v":0},{"$f":"Раздел2!H62","v":0},{"$f":"Раздел2!I55","v":0},{"$f":"Раздел2!J55","v":0},{"$f":"Раздел2!K55","v":0},null,null,null,null,null,null,null,null,{"$f":"Раздел2!D56","v":0}]
[null,"Гандбол - всего","48",0,{"$f":"Раздел2!H56","v":0},{"$f":"SUM(F56:F58)","v":0},{"$f":"SUM(G56:G58)","v":0},0,0,0,0,0,0,0,0,0,0,0,0,0,0,0,0,0,0,0,0,0,0,0,null,null,{"$f":"Раздел2!F56","v":0},{"$f":"Раздел2!F63","v":0},{"$f":"Раздел2!H63","v":0},{"$f":"Раздел2!I56","v":0},{"$f":"Раздел2!J56","v":0},{"$f":"Раздел2!K56","v":0},null,null,null,null,null,null,null,null,{"$f":"Раздел2!D57","v":0}]
[null,"в том числе:\nГандбол (муж.)","49",0,{"$f":"Раздел2!H57","v":0},null,null,null,null,null,null,null,null,null,null,null,null,null,null,null,0,null,null,null,null,0,null,null,null,null,null,null,{"$f":"Раздел2!F57","v":0},{"$f":"Раздел2!F64","v":0},{"$f":"Раздел2!H64","v":0},{"$f":"Раздел2!I57","v":0},{"$f":"Раздел2!J57","v":0},{"$f":"Раздел2!K57","v":0},null,null,null,null,null,null,null,null,{"$f":"Раздел2!D58","v":0}]
[null,"Гандбол (жен.)","50",0,{"$f":"Раздел2!H58","v":0},null,null,null,null,null,null,null,null,null,null,null,null,null,null,null,0,null,null,null,null,0,null,null,null,null,null,null,{"$f":"Раздел2!F58","v":0},{"$f":"Раздел2!F65","v":0},{"$f":"Раздел2!H65","v":0},{"$f":"Раздел2!I58","v":0},{"$f":"Раздел2!J58","v":0},{"$f":"Раздел2!K58","v":0},null,null,null,null,null,null,null,null,{"$f":"Раздел2!D59","v":0}]
[null,"Пляжный гандбол","51",0,{"$f":"Раздел2!H59","v":0},null,null,null,null,null,null,null,null,null,null,null,null,null,null,null,0,null,null,null,null,0,null,null,null,null,null,null,{"$f":"Раздел2!F59","v":0},{"$f":"Раздел2!F66","v":0},{"$f":"Раздел2!H66","v":0},{"$f":"Раздел2!I59","v":0},{"$f":"Раздел2!J59","v":0},{"$f":"Раздел2!K59","v":0},null,null,null,null,null,null,null,null,{"$f":"Раздел2!D60","v":0}]
[null,"Гиревой спорт","52",0,{"$f":"Раздел2!H60","v":0},null,null,null,null,null,null,null,null,null,null,null,null,null,null,null,0,null,null,null,null,0,null,null,null,null,null,null,{"$f":"Раздел2!F60","v":0},{"$f":"Раздел2!F67","v":0},{"$f":"Раздел2!H67","v":0},{"$f":"Раздел2!I60","v":0},{"$f":"Раздел2!J60","v":0},{"$f":"Раздел2!K60","v":0},null,null,null,null,null,null,null,null,{"$f":"Раздел2!D61","v":0}]
[null,"Го","53",0,{"$f":"Раздел2!H61","v":0},null,null,null,null,null,null,null,null,null,null,null,null,null,null,null,0,null,null,null,null,0,null,null,null,null,null,null,{"$f":"Раздел2!F61","v":0},{"$f":"Раздел2!F69","v":0},{"$f":"Раздел2!H69","v":0},{"$f":"Раздел2!I61","v":0},{"$f":"Раздел2!J61","v":0},{"$f":"Раздел2!K61","v":0},null,null,null,null,null,null,null,null,{"$f":"Раздел2!D62","v":0}]
[null,"Гольф","54",0,{"$f":"Раздел2!H62","v":0},null,null,null,null,null,null,null,null,null,null,null,null,null,null,null,0,null,null,null,null,0,null,null,null,null,null,null,{"$f":"Раздел2!F62","v":0},{"$f":"Раздел2!F70","v":0},{"$f":"Раздел2!H70","v":0},{"$f":"Раздел2!I62","v":0},{"$f":"Раздел2!J62","v":0},{"$f":"Раздел2!K62","v":0},null,null,null,null,null,null,null,null,{"$f":"Раздел2!D63","v":0}]
[null,"Гонки на охотничьих лыжах","55",0,{"$f":"Раздел2!H63","v":0},null,null,null,null,null,null,null,null,null,null,null,null,null,null,null,0,null,null,null,null,0,null,null,null,null,null,null,{"$f":"Раздел2!F63","v":0},{"$f":"Раздел2!F71","v":0},{"$f":"Раздел2!H71","v":0},{"$f":"Раздел2!I63","v":0},{"$f":"Раздел2!J63","v":0},{"$f":"Раздел2!K63","v":0},null,null,null,null,null,null,null,null,{"$f":"Раздел2!D64","v":0}]
[null,"Горнолыжный спорт","56",0,{"$f":"Раздел2!H64","v":0},null,null,null,null,null,null,null,null,null,null,null,null,null,null,null,0,null,null,null,null,0,null,null,null,null,null,null,{"$f":"Раздел2!F64","v":0},{"$f":"Раздел2!F72","v":0},{"$f":"Раздел2!H72","v":0},{"$f":"Раздел2!I64","v":0},{"$f":"Раздел2!J64","v":0},{"$f":"Раздел2!K64","v":0},null,null,null,null,null,null,null,null,{"$f":"Раздел2!D65","v":0}]
[null,"Городошный спорт","57",0,{"$f":"Раздел2!H65","v":0},null,null,null,null,null,null,null,null,null,null,null,null,null,null,null,0,null,null,null,null,0,null,null,null,null,null,null,{"$f":"Раздел2!F65","v":0},{"$f":"Раздел2!F73","v":0},{"$f":"Раздел2!H73","v":0},{"$f":"Раздел2!I65","v":0},{"$f":"Раздел2!J65","v":0},{"$f":"Раздел2!K65","v":0},null,null,null,null,null,null,null,null,{"$f":"Раздел2!D66","v":0}]
[null,"Гребля на байдарках и каноэ","58",0,{"$f":"Раздел2!H66","v":0},null,null,null,null,null,null,null,null,null,null,null,null,null,null,null,0,null,null,null,null,0,null,null,null,null,null,null,{"$f":"Раздел2!F66","v":0},{"$f":"Раздел2!F74","v":0},{"$f":"Раздел2!H74","v":0},{"$f":"Раздел2!I66","v":0},{"$f":"Раздел2!J66","v":0},{"$f":"Раздел2!K66","v":0},null,null,null,null,null,null,null,null,{"$f":"Раздел2!D67","v":0}]
[null,"Гребля на шлюпках","59",0,{"$f":"Раздел2!H67","v":0},null,null,null,null,null,null,null,null,null,null,null,null,null,null,null,0,null,null,null,null,0,null,null,null,null,null,null,{"$f":"Раздел2!F67","v":0},{"$f":"Раздел2!F75","v":0},{"$f":"Раздел2!H75","v":0},{"$f":"Раздел2!I67","v":0},{"$f":"Раздел2!J67","v":0},{"$f":"Раздел2!K67","v":0},null,null,null,null,null,null,null,null,{"$f":"Раздел2!D68","v":0}]
[null,"Гребной слалом","60",0,{"$f":"Раздел2!H68","v":0},null,null,null,null,null,null,null,null,null,null,null,null,null,null,null,0,null,null,null,null,0,null,null,null,null,null,null,{"$f":"Раздел2!F68","v":0},{"$f":"Раздел2!F76","v":0},{"$f":"Раздел2!H76","v":0},{"$f":"Раздел2!I68","v":0},{"$f":"Раздел2!J68","v":0},{"$f":"Раздел2!K68","v":0},null,null,null,null,null,null,null,null,{"$f":"Раздел2!D69","v":0}]
[null,"Гребной спорт - всего","61",0,{"$f":"Раздел2!H69","v":0},{"$f":"SUM(F69:F72)","v":0},{"$f":"SUM(G69:G72)","v":0},0,0,0,0,0,0,0,0,0,0,0,0,0,0,0,0,0,0,0,0,0,0,0,null,null,{"$f":"Раздел2!F69","v":0},{"$f":"Раздел2!F77","v":0},{"$f":"Раздел2!H77","v":0},{"$f":"Раздел2!I69","v":0},{"$f":"Раздел2!J69","v":0},{"$f":"Раздел2!K69","v":0},null,null,null,null,null,null,null,null,{"$f":"Раздел2!D70","v":0}]
[null,"в том числе:\nАкадемическая гребля","62",0,{"$f":"Раздел2!H70","v":0},null,null,null,null,null,null,null,null,null,null,null,null,null,null,null,0,null,null,null,null,0,null,null,null,null,null,null,{"$f":"Раздел2!F70","v":0},{"$f":"Раздел2!F78","v":0},{"$f":"Раздел2!H78","v":0},{"$f":"Раздел2!I70","v":0},{"$f":"Раздел2!J70","v":0},{"$f":"Раздел2!K70","v":0},null,null,null,null,null,null,null,null,{"$f":"Раздел2!D71","v":0}]
[null,"Гребля-индор","63",0,{"$f":"Раздел2!H71","v":0},null,null,null,null,null,null,null,null,null,null,null,null,null,null,null,0,null,null,null,null,0,null,null,null,null,null,null,{"$f":"Раздел2!F71","v":0},{"$f":"Раздел2!F79","v":0},{"$f":"Раздел2!H79","v":0},{"$f":"Раздел2!I71","v":0},{"$f":"Раздел2!J71","v":0},{"$f":"Раздел2!K71","v":0},null,null,null,null,null,null,null,null,{"$f":"Раздел2!D72","v":0}]
[null,"Народная гребля","64",0,{"$f":"Раздел2!H72","v":0},null,null,null,null,null,null,null,null,null,null,null,null,null,null,null,0,null,null,null,null,0,null,null,null,null,null,null,{"$f":"Раздел2!F72","v":0},{"$f":"Раздел2!F80","v":0},{"$f":"Раздел2!H80","v":0},{"$f":"Раздел2!I72","v":0},{"$f":"Раздел2!J72","v":0},{"$f":"Раздел2!K72","v":0},null,null,null,null,null,null,null,null,{"$f":"Раздел2!D73","v":0}]
[null,"Прибрежная гребля","65",0,{"$f":"Раздел2!H73","v":0},null,null,null,null,null,null,null,null,null,null,null,null,null,null,null,0,null,null,null,null,0,null,null,null,null,null,null,{"$f":"Раздел2!F73","v":0},{"$f":"Раздел2!F81","v":0},{"$f":"Раздел2!H81","v":0},{"$f":"Раздел2!I73","v":0},{"$f":"Раздел2!J73","v":0},{"$f":"Раздел2!K73","v":0},null,null,null,null,null,null,null,null,{"$f":"Раздел2!D74","v":0}]
[null,"Гребно-парусное двоеборье","66",{"$f":"SUM(E73:T73)","v":0},{"$f":"Раздел2!H74","v":0},null,null,null,null,null,null,null,null,null,null,null,null,null,null,null,{"$f":"SUM(V73:Y73)","v":0},null,null,null,null,{"$f":"SUM(AA73:AD73)","v":0},null,null,null,null,null,null,{"$f":"Раздел2!F74","v":0},{"$f":"Раздел2!F82","v":0},{"$f":"Раздел2!H82","v":0},{"$f":"Раздел2!I74","v":0},{"$f":"Раздел2!J74","v":0},{"$f":"Раздел2!K74","v":0},null,null,null,null,null,null,null,null,{"$f":"Раздел2!D75","v":0}]
[null,"Дартс","67",0,{"$f":"Раздел2!H75","v":0},null,null,null,null,null,null,null,null,null,null,null,null,null,null,null,0,null,null,null,null,0,null,null,null,null,null,null,{"$f":"Раздел2!F75","v":0},{"$f":"Раздел2!F83","v":0},{"$f":"Раздел2!H83","v":0},{"$f":"Раздел2!I75","v":0},{"$f":"Раздел2!J75","v":0},{"$f":"Раздел2!K75","v":0},null,null,null,null,null,null,null,null,{"$f":"Раздел2!D76","v":0}]
[null,"Джиу-джитсу","68",0,{"$f":"Раздел2!H76","v":0},null,null,null,null,null,null,null,null,null,null,null,null,null,null,null,0,null,null,null,null,0,null,null,null,null,null,null,{"$f":"Раздел2!F76","v":0},{"$f":"Раздел2!F84","v":0},{"$f":"Раздел2!H84","v":0},{"$f":"Раздел2!I76","v":0},{"$f":"Раздел2!J76","v":0},{"$f":"Раздел2!K76","v":0},null,null,null,null,null,null,null,null,{"$f":"Раздел2!D77","v":0}]
[null,"Дзюдо","69",0,{"$f":"Раздел2!H77","v":0},null,null,null,null,null,null,null,null,null,null,null,null,null,null,null,0,null,null,null,null,0,null,null,null,null,null,null,{"$f":"Раздел2!F77","v":0},{"$f":"Раздел2!F85","v":0},{"$f":"Раздел2!H85","v":0},{"$f":"Раздел2!I77","v":0},{"$f":"Раздел2!J77","v":0},{"$f":"Раздел2!K77","v":0},null,null,null,null,null,null,null,null,{"$f":"Раздел2!D78","v":0}]
[null,"Ездовой спорт","70",0,{"$f":"Раздел2!H78","v":0},null,null,null,null,null,null,null,null,null,null,null,null,null,null,null,0,null,null,null,null,0,null,null,null,null,null,null,{"$f":"Раздел2!F78","v":0},{"$f":"Раздел2!F87","v":0},{"$f":"Раздел2!H87","v":0},{"$f":"Раздел2!I78","v":0},{"$f":"Раздел2!J78","v":0},{"$f":"Раздел2!K78","v":0},null,null,null,null,null,null,null,null,{"$f":"Раздел2!D79","v":0}]
[null,"Капоэйра","71",0,{"$f":"Раздел2!H79","v":0},null,null,null,null,null,null,null,null,null,null,null,null,null,null,null,0,null,null,null,null,0,null,null,null,null,null,null,{"$f":"Раздел2!F79","v":0},{"$f":"Раздел2!F88","v":0},{"$f":"Раздел2!H88","v":0},{"$f":"Раздел2!I79","v":0},{"$f":"Раздел2!J79","v":0},{"$f":"Раздел2!K79","v":0},null,null,null,null,null,null,null,null,{"$f":"Раздел2!D80","v":0}]
[null,"Каратэ","72",0,{"$f":"Раздел2!H80","v":0},null,null,null,null,null,null,null,null,null,null,null,null,null,null,null,0,null,null,null,null,0,null,null,null,null,null,null,{"$f":"Раздел2!F80","v":0},{"$f":"Раздел2!F89","v":30},{"$f":"Раздел2!H89","v":0},{"$f":"Раздел2!I80","v":0},{"$f":"Раздел2!J80","v":0},{"$f":"Раздел2!K80","v":0},null,null,null,null,null,null,null,null,{"$f":"Раздел2!D81","v":0}]
[null,"Кендо","73",0,{"$f":"Раздел2!H81","v":0},null,null,null,null,null,null,null,null,null,null,null,null,null,null,null,0,null,null,null,null,0,null,null,null,null,null,null,{"$f":"Раздел2!F81","v":0},{"$f":"Раздел2!F90","v":0},{"$f":"Раздел2!H90","v":0},{"$f":"Раздел2!I81","v":0},{"$f":"Раздел2!J81","v":0},{"$f":"Раздел2!K81","v":0},null,null,null,null,null,null,null,null,{"$f":"Раздел2!D82","v":0}]
[null,"Керешу","74",0,{"$f":"Раздел2!H82","v":0},null,null,null,null,null,null,null,null,null,null,null,null,null,null,null,0,null,null,null,null,0,null,null,null,null,null,null,{"$f":"Раздел2!F82","v":0},{"$f":"Раздел2!F91","v":0},{"$f":"Раздел2!H91","v":0},{"$f":"Раздел2!I82","v":0},{"$f":"Раздел2!J82","v":0},{"$f":"Раздел2!K82","v":0},null,null,null,null,null,null,null,null,{"$f":"Раздел2!D83","v":0}]
[null,"Кёрлинг - всего","75",0,{"$f":"Раздел2!H83","v":0},{"$f":"SUM(F83:F85)","v":0},{"$f":"SUM(G83:G85)","v":0},0,0,0,0,0,0,0,0,0,0,0,0,0,0,0,0,0,0,0,0,0,0,0,null,null,{"$f":"Раздел2!F83","v":0},{"$f":"Раздел2!F92","v":0},{"$f":"Раздел2!H92","v":0},{"$f":"Раздел2!I83","v":0},{"$f":"Раздел2!J83","v":0},{"$f":"Раздел2!K83","v":0},null,null,null,null,null,null,null,null,{"$f":"Раздел2!D84","v":0}]
[null,"в том числе:\nКерлинг (муж.)","76",0,{"$f":"Раздел2!H84","v":0},null,null,null,null,null,null,null,null,null,null,null,null,null,null,null,0,null,null,null,null,0,null,null,null,null,null,null,{"$f":"Раздел2!F84","v":0},{"$f":"Раздел2!F93","v":0},{"$f":"Раздел2!H93","v":0},{"$f":"Раздел2!I84","v":0},{"$f":"Раздел2!J84","v":0},{"$f":"Раздел2!K84","v":0},null,null,null,null,null,null,null,null,{"$f":"Раздел2!D85","v":0}]
[null,"Керлинг (жен.)","77",0,{"$f":"Раздел2!H85","v":0},null,null,null,null,null,null,null,null,null,null,null,null,null,null,null,0,null,null,null,null,0,null,null,null,null,null,null,{"$f":"Раздел2!F85","v":0},{"$f":"Раздел2!F94","v":0},{"$f":"Раздел2!H94","v":0},{"$f":"Раздел2!I85","v":0},{"$f":"Раздел2!J85","v":0},{"$f":"Раздел2!K85","v":0},null,null,null,null,null,null,null,null,{"$f":"Раздел2!D87","v":0}]
[null,"Кёрлинг – смешанные пары","78",0,{"$f":"Раздел2!H86","v":0},null,null,null,null,null,null,null,null,null,null,null,null,null,null,null,0,null,null,null,null,0,null,null,null,null,null,null,{"$f":"Раздел2!F86","v":0},{"$f":"Раздел2!F95","v":0},{"$f":"Раздел2!H95","v":0},{"$f":"Раздел2!I86","v":0},{"$f":"Раздел2!J86","v":0},{"$f":"Раздел2!K86","v":0},null,null,null,null,null,null,null,null,{"$f":"Раздел2!D88","v":0}]
[null,"Кикбоксинг","79",0,{"$f":"Раздел2!H87","v":0},null,null,null,null,null,null,null,null,null,null,null,null,null,null,null,0,null,null,null,null,0,null,null,null,null,null,null,{"$f":"Раздел2!F87","v":0},{"$f":"Раздел2!F96","v":0},{"$f":"Раздел2!H96","v":0},{"$f":"Раздел2!I87","v":0},{"$f":"Раздел2!J87","v":0},{"$f":"Раздел2!K87","v":0},null,null,null,null,null,null,null,null,{"$f":"Раздел2!D89","v":1}]
[null,"Кинологический спорт","80",0,{"$f":"Раздел2!H88","v":0},null,null,null,null,null,null,null,null,null,null,null,null,null,null,null,0,null,null,null,null,0,null,null,null,null,null,null,{"$f":"Раздел2!F88","v":0},{"$f":"Раздел2!F97","v":0},{"$f":"Раздел2!H97","v":0},{"$f":"Раздел2!I88","v":0},{"$f":"Раздел2!J88","v":0},{"$f":"Раздел2!K88","v":0},null,null,null,null,null,null,null,null,{"$f":"Раздел2!D90","v":0}]
[null,"Киокусинкай","81",0,{"$f":"Раздел2!H89","v":0},null,null,null,null,null,null,null,null,null,null,null,null,null,null,null,0,null,null,null,null,0,null,null,null,null,null,null,{"$f":"Раздел2!F89","v":30},{"$f":"Раздел2!F98","v":0},{"$f":"Раздел2!H98","v":0},{"$f":"Раздел2!I89","v":0},{"$f":"Раздел2!J89","v":0},{"$f":"Раздел2!K89","v":0},null,null,null,null,null,null,null,null,{"$f":"Раздел2!D91","v":0}]
[null,"Комплексное единоборство","82",0,{"$f":"Раздел2!H90","v":0},null,null,null,null,null,null,null,null,null,null,null,null,null,null,null,0,null,null,null,null,0,null,null,null,null,null,null,{"$f":"Раздел2!F90","v":0},{"$f":"Раздел2!F99","v":35},{"$f":"Раздел2!H99","v":0},{"$f":"Раздел2!I90","v":0},{"$f":"Раздел2!J90","v":0},{"$f":"Раздел2!K90","v":0},null,null,null,null,null,null,null,null,{"$f":"Раздел2!D92","v":0}]
[null,"Компьютерный спорт","83",0,{"$f":"Раздел2!H91","v":0},null,null,null,null,null,null,null,null,null,null,null,null,null,null,null,0,null,null,null,null,0,null,null,null,null,null,null,{"$f":"Раздел2!F91","v":0},{"$f":"Раздел2!F100","v":0},{"$f":"Раздел2!H100","v":0},{"$f":"Раздел2!I91","v":0},{"$f":"Раздел2!J91","v":0},{"$f":"Раздел2!K91","v":0},null,null,null,null,null,null,null,null,{"$f":"Раздел2!D93","v":0}]
[null,"Конный спорт","84",0,{"$f":"Раздел2!H92","v":0},null,null,null,null,null,null,null,null,null,null,null,null,null,null,null,0,null,null,null,null,0,null,null,null,null,null,null,{"$f":"Раздел2!F92","v":0},{"$f":"Раздел2!F101","v":0},{"$f":"Раздел2!H101","v":0},{"$f":"Раздел2!I92","v":0},{"$f":"Раздел2!J92","v":0},{"$f":"Раздел2!K92","v":0},null,null,null,null,null,null,null,null,{"$f":"Раздел2!D94","v":0}]
[null,"Конькобежный спорт - всего","85",0,{"$f":"Раздел2!H93","v":0},{"$f":"SUM(F93:F94)","v":0},{"$f":"SUM(G93:G94)","v":0},0,0,0,0,0,0,0,0,0,0,0,0,0,0,0,0,0,0,0,0,0,0,0,null,null,{"$f":"Раздел2!F93","v":0},{"$f":"Раздел2!F102","v":0},{"$f":"Раздел2!H102","v":0},{"$f":"Раздел2!I93","v":0},{"$f":"Раздел2!J93","v":0},{"$f":"Раздел2!K93","v":0},null,null,null,null,null,null,null,null,{"$f":"Раздел2!D95","v":0}]
[null,"в том числе:\nКонькобежный спорт","86",0,{"$f":"Раздел2!H94","v":0},null,null,null,null,null,null,null,null,null,null,null,null,null,null,null,0,null,null,null,null,0,null,null,null,null,null,null,{"$f":"Раздел2!F94","v":0},{"$f":"Раздел2!F103","v":0},{"$f":"Раздел2!H103","v":0},{"$f":"Раздел2!I94","v":0},{"$f":"Раздел2!J94","v":0},{"$f":"Раздел2!K94","v":0},null,null,null,null,null,null,null,null,{"$f":"Раздел2!D96","v":0}]
[null,"Шорт-трек","87",0,{"$f":"Раздел2!H95","v":0},null,null,null,null,null,null,null,null,null,null,null,null,null,null,null,0,null,null,null,null,0,null,null,null,null,null,null,{"$f":"Раздел2!F95","v":0},{"$f":"Раздел2!F104","v":0},{"$f":"Раздел2!H104","v":0},{"$f":"Раздел2!I95","v":0},{"$f":"Раздел2!J95","v":0},{"$f":"Раздел2!K95","v":0},null,null,null,null,null,null,null,null,{"$f":"Раздел2!D97","v":0}]
[null,"Корэш","88",0,{"$f":"Раздел2!H96","v":0},null,null,null,null,null,null,null,null,null,null,null,null,null,null,null,0,null,null,null,null,0,null,null,null,null,null,null,{"$f":"Раздел2!F96","v":0},{"$f":"Раздел2!F105","v":0},{"$f":"Раздел2!H105","v":0},{"$f":"Раздел2!I96","v":0},{"$f":"Раздел2!J96","v":0},{"$f":"Раздел2!K96","v":0},null,null,null,null,null,null,null,null,{"$f":"Раздел2!D98","v":0}]
[null,"Корфбол","89",0,{"$f":"Раздел2!H97","v":0},null,null,null,null,null,null,null,null,null,null,null,null,null,null,null,0,null,null,null,null,0,null,null,null,null,null,null,{"$f":"Раздел2!F97","v":0},{"$f":"Раздел2!F106","v":0},{"$f":"Раздел2!H106","v":0},{"$f":"Раздел2!I97","v":0},{"$f":"Раздел2!J97","v":0},{"$f":"Раздел2!K97","v":0},null,null,null,null,null,null,null,null,{"$f":"Раздел2!D99","v":1}]
[null,"Кудо","90",0,{"$f":"Раздел2!H98","v":0},null,null,null,null,null,null,null,null,null,null,null,null,null,null,null,0,null,null,null,null,0,null,null,null,null,null,null,{"$f":"Раздел2!F98","v":0},{"$f":"Раздел2!F107","v":0},{"$f":"Раздел2!H107","v":0},{"$f":"Раздел2!I98","v":0},{"$f":"Раздел2!J98","v":0},{"$f":"Раздел2!K98","v":0},null,null,null,null,null,null,null,null,{"$f":"Раздел2!D100","v":0}]
[null,"Лапта","91",0,{"$f":"Раздел2!H99","v":0},null,null,null,null,null,null,null,null,null,null,null,null,null,null,null,0,null,null,null,null,0,null,null,null,null,null,null,{"$f":"Раздел2!F99","v":35},{"$f":"Раздел2!F108","v":0},{"$f":"Раздел2!H108","v":0},{"$f":"Раздел2!I99","v":0},{"$f":"Раздел2!J99","v":0},{"$f":"Раздел2!K99","v":0},null,null,null,null,null,null,null,null,{"$f":"Раздел2!D101","v":0}]
[null,"Легкая атлетика - всего","92",0,{"$f":"Раздел2!H100","v":0},{"$f":"SUM(F100:F106)","v":0},{"$f":"SUM(G100:G106)","v":0},0,0,0,0,0,0,0,0,0,0,0,0,0,0,0,0,0,0,0,0,0,0,0,null,null,{"$f":"Раздел2!F100","v":0},{"$f":"Раздел2!F109","v":0},{"$f":"Раздел2!H109","v":0},{"$f":"Раздел2!I100","v":0},{"$f":"Раздел2!J100","v":0},{"$f":"Раздел2!K100","v":0},null,null,null,null,null,null,null,null,{"$f":"Раздел2!D102","v":0}]
[null,"в том числе:\nСпринтерский и барьерный бег","93",0,{"$f":"Раздел2!H101","v":0},null,null,null,null,null,null,null,null,null,null,null,null,null,null,null,0,null,null,null,null,0,null,null,null,null,null,null,{"$f":"Раздел2!F101","v":0},{"$f":"Раздел2!F110","v":0},{"$f":"Раздел2!H110","v":0},{"$f":"Раздел2!I101","v":0},{"$f":"Раздел2!J101","v":0},{"$f":"Раздел2!K101","v":0},null,null,null,null,null,null,null,null,{"$f":"Раздел2!D103","v":0}]
[null,"Бег на средние дистанции и бег с препятствиями","94",0,{"$f":"Раздел2!H102","v":0},null,null,null,null,null,null,null,null,null,null,null,null,null,null,null,0,null,null,null,null,0,null,null,null,null,null,null,{"$f":"Раздел2!F102","v":0},{"$f":"Раздел2!F111","v":0},{"$f":"Раздел2!H111","v":0},{"$f":"Раздел2!I102","v":0},{"$f":"Раздел2!J102","v":0},{"$f":"Раздел2!K102","v":0},null,null,null,null,null,null,null,null,{"$f":"Раздел2!D104","v":0}]
[null,"Бег на длинные и сверхдлинные дистанции","95",0,{"$f":"Раздел2!H103","v":0},null,null,null,null,null,null,null,null,null,null,null,null,null,null,null,0,null,null,null,null,0,null,null,null,null,null,null,{"$f":"Раздел2!F103","v":0},{"$f":"Раздел2!F112","v":0},{"$f":"Раздел2!H112","v":0},{"$f":"Раздел2!I103","v":0},{"$f":"Раздел2!J103","v":0},{"$f":"Раздел2!K103","v":0},null,null,null,null,null,null,null,null,{"$f":"Раздел2!D105","v":0}]
[null,"Многоборья","96",0,{"$f":"Раздел2!H104","v":0},null,null,null,null,null,null,null,null,null,null,null,null,null,null,null,0,null,null,null,null,0,null,null,null,null,null,null,{"$f":"Раздел2!F104","v":0},{"$f":"Раздел2!F113","v":0},{"$f":"Раздел2!H113","v":0},{"$f":"Раздел2!I104","v":0},{"$f":"Раздел2!J104","v":0},{"$f":"Раздел2!K104","v":0},null,null,null,null,null,null,null,null,{"$f":"Раздел2!D106","v":0}]
[null,"Прыжки","97",0,{"$f":"Раздел2!H105","v":0},null,null,null,null,null,null,null,null,null,null,null,null,null,null,null,0,null,null,null,null,0,null,null,null,null,null,null,{"$f":"Раздел2!F105","v":0},{"$f":"Раздел2!F114","v":0},{"$f":"Раздел2!H114","v":0},{"$f":"Раздел2!I105","v":0},{"$f":"Раздел2!J105","v":0},{"$f":"Раздел2!K105","v":0},null,null,null,null,null,null,null,null,{"$f":"Раздел2!D107","v":0}]
[null,"Метания","98",0,{"$f":"Раздел2!H106","v":0},null,null,null,null,null,null,null,null,null,null,null,null,null,null,null,0,null,null,null,null,0,null,null,null,null,null,null,{"$f":"Раздел2!F106","v":0},{"$f":"Раздел2!F115","v":0},{"$f":"Раздел2!H115","v":0},{"$f":"Раздел2!I106","v":0},{"$f":"Раздел2!J106","v":0},{"$f":"Раздел2!K106","v":0},null,null,null,null,null,null,null,null,{"$f":"Раздел2!D108","v":0}]
[null,"Спортивная ходьба","99",0,{"$f":"Раздел2!H107","v":0},null,null,null,null,null,null,null,null,null,null,null,null,null,null,null,0,null,null,null,null,0,null,null,null,null,null,null,{"$f":"Раздел2!F107","v":0},{"$f":"Раздел2!F116","v":15},{"$f":"Раздел2!H116","v":0},{"$f":"Раздел2!I107","v":0},{"$f":"Раздел2!J107","v":0},{"$f":"Раздел2!K107","v":0},null,null,null,null,null,null,null,null,{"$f":"Раздел2!D109","v":0}]
[null,"Лыжное двоеборье","100",0,{"$f":"Раздел2!H108","v":0},null,null,null,null,null,null,null,null,null,null,null,null,null,null,null,0,null,null,null,null,0,null,null,null,null,null,null,{"$f":"Раздел2!F108","v":0},{"$f":"Раздел2!F117","v":0},{"$f":"Раздел2!H117","v":0},{"$f":"Раздел2!I108","v":0},{"$f":"Раздел2!J108","v":0},{"$f":"Раздел2!K108","v":0},null,null,null,null,null,null,null,null,{"$f":"Раздел2!D110","v":0}]
[null,"Лыжные гонки","101",0,{"$f":"Раздел2!H109","v":0},null,null,null,null,null,null,null,null,null,null,null,null,null,null,null,0,null,null,null,null,0,null,null,null,null,null,null,{"$f":"Раздел2!F109","v":0},{"$f":"Раздел2!F118","v":0},{"$f":"Раздел2!H118","v":0},{"$f":"Раздел2!I109","v":0},{"$f":"Раздел2!J109","v":0},{"$f":"Раздел2!K109","v":0},null,null,null,null,null,null,null,null,{"$f":"Раздел2!D111","v":0}]
[null,"Мас-рестлинг","102",0,{"$f":"Раздел2!H110","v":0},null,null,null,null,null,null,null,null,null,null,null,null,null,null,null,0,null,null,null,null,0,null,null,null,null,null,null,{"$f":"Раздел2!F110","v":0},{"$f":"Раздел2!F119","v":0},{"$f":"Раздел2!H119","v":0},{"$f":"Раздел2!I110","v":0},{"$f":"Раздел2!J110","v":0},{"$f":"Раздел2!K110","v":0},null,null,null,null,null,null,null,null,{"$f":"Раздел2!D112","v":0}]
[null,"Международное военно-спортивное многоборье","103",0,{"$f":"Раздел2!H111","v":0},null,null,null,null,null,null,null,null,null,null,null,null,null,null,null,0,null,null,null,null,0,null,null,null,null,null,null,{"$f":"Раздел2!F111","v":0},{"$f":"Раздел2!F120","v":0},{"$f":"Раздел2!H120","v":0},{"$f":"Раздел2!I111","v":0},{"$f":"Раздел2!J111","v":0},{"$f":"Раздел2!K111","v":0},null,null,null,null,null,null,null,null,{"$f":"Раздел2!D113","v":0}]
[null,"Многоборье кинологов","104",0,{"$f":"Раздел2!H112","v":0},null,null,null,null,null,null,null,null,null,null,null,null,null,null,null,0,null,null,null,null,0,null,null,null,null,null,null,{"$f":"Раздел2!F112","v":0},{"$f":"Раздел2!F121","v":0},{"$f":"Раздел2!H121","v":0},{"$f":"Раздел2!I112","v":0},{"$f":"Раздел2!J112","v":0},{"$f":"Раздел2!K112","v":0},null,null,null,null,null,null,null,null,{"$f":"Раздел2!D114","v":0}]
[null,"Многоборье спасателей МЧС России","105",0,{"$f":"Раздел2!H113","v":0},null,null,null,null,null,null,null,null,null,null,null,null,null,null,null,0,null,null,null,null,0,null,null,null,null,null,null,{"$f":"Раздел2!F113","v":0},{"$f":"Раздел2!F122","v":0},{"$f":"Раздел2!H122","v":0},{"$f":"Раздел2!I113","v":0},{"$f":"Раздел2!J113","v":0},{"$f":"Раздел2!K113","v":0},null,null,null,null,null,null,null,null,{"$f":"Раздел2!D115","v":0}]
[null,"Морское многоборье","106",0,{"$f":"Раздел2!H114","v":0},null,null,null,null,null,null,null,null,null,null,null,null,null,null,null,0,null,null,null,null,0,null,null,null,null,null,null,{"$f":"Раздел2!F114","v":0},{"$f":"Раздел2!F123","v":0},{"$f":"Раздел2!H123","v":0},{"$f":"Раздел2!I114","v":0},{"$f":"Раздел2!J114","v":0},{"$f":"Раздел2!K114","v":0},null,null,null,null,null,null,null,null,{"$f":"Раздел2!D116","v":1}]
[null,"Мотоциклетный спорт","107",0,{"$f":"Раздел2!H115","v":0},null,null,null,null,null,null,null,null,null,null,null,null,null,null,null,0,null,null,null,null,0,null,null,null,null,null,null,{"$f":"Раздел2!F115","v":0},{"$f":"Раздел2!F124","v":0},{"$f":"Раздел2!H124","v":0},{"$f":"Раздел2!I115","v":0},{"$f":"Раздел2!J115","v":0},{"$f":"Раздел2!K115","v":0},null,null,null,null,null,null,null,null,{"$f":"Раздел2!D117","v":0}]
[null,"Настольный теннис","108",0,{"$f":"Раздел2!H116","v":0},null,null,null,null,null,null,null,null,null,null,null,null,null,null,null,0,null,null,null,null,0,null,null,null,null,null,null,{"$f":"Раздел2!F116","v":15},{"$f":"Раздел2!F125","v":0},{"$f":"Раздел2!H125","v":0},{"$f":"Раздел2!I116","v":0},{"$f":"Раздел2!J116","v":0},{"$f":"Раздел2!K116","v":0},null,null,null,null,null,null,null,null,{"$f":"Раздел2!D118","v":0}]
[null,"Парашютный спорт","109",0,{"$f":"Раздел2!H117","v":0},null,null,null,null,null,null,null,null,null,null,null,null,null,null,null,0,null,null,null,null,0,null,null,null,null,null,null,{"$f":"Раздел2!F117","v":0},{"$f":"Раздел2!F126","v":0},{"$f":"Раздел2!H126","v":0},{"$f":"Раздел2!I117","v":0},{"$f":"Раздел2!J117","v":0},{"$f":"Раздел2!K117","v":0},null,null,null,null,null,null,null,null,{"$f":"Раздел2!D119","v":0}]
[null,"Парусный спорт","110",0,{"$f":"Раздел2!H118","v":0},null,null,null,null,null,null,null,null,null,null,null,null,null,null,null,0,null,null,null,null,0,null,null,null,null,null,null,{"$f":"Раздел2!F118","v":0},{"$f":"Раздел2!F127","v":0},{"$f":"Раздел2!H127","v":0},{"$f":"Раздел2!I118","v":0},{"$f":"Раздел2!J118","v":0},{"$f":"Раздел2!K118","v":0},null,null,null,null,null,null,null,null,{"$f":"Раздел2!D120","v":0}]
[null,"Пауэрлифтинг","111",0,{"$f":"Раздел2!H119","v":0},null,null,null,null,null,null,null,null,null,null,null,null,null,null,null,0,null,null,null,null,0,null,null,null,null,null,null,{"$f":"Раздел2!F119","v":0},{"$f":"Раздел2!F128","v":0},{"$f":"Раздел2!H128","v":0},{"$f":"Раздел2!I119","v":0},{"$f":"Раздел2!J119","v":0},{"$f":"Раздел2!K119","v":0},null,null,null,null,null,null,null,null,{"$f":"Раздел2!D121","v":0}]
[null,"Перетягивание каната","112",0,{"$f":"Раздел2!H120","v":0},null,null,null,null,null,null,null,null,null,null,null,null,null,null,null,0,null,null,null,null,0,null,null,null,null,null,null,{"$f":"Раздел2!F120","v":0},{"$f":"Раздел2!F129","v":0},{"$f":"Раздел2!H129","v":0},{"$f":"Раздел2!I120","v":0},{"$f":"Раздел2!J120","v":0},{"$f":"Раздел2!K120","v":0},null,null,null,null,null,null,null,null,{"$f":"Раздел2!D122","v":0}]
[null,"Петанк","113",0,{"$f":"Раздел2!H121","v":0},null,null,null,null,null,null,null,null,null,null,null,null,null,null,null,0,null,null,null,null,0,null,null,null,null,null,null,{"$f":"Раздел2!F121","v":0},{"$f":"Раздел2!F130","v":0},{"$f":"Раздел2!H130","v":0},{"$f":"Раздел2!I121","v":0},{"$f":"Раздел2!J121","v":0},{"$f":"Раздел2!K121","v":0},null,null,null,null,null,null,null,null,{"$f":"Раздел2!D123","v":0}]
[null,"Плавание - всего","114",0,{"$f":"Раздел2!H122","v":0},{"$f":"SUM(F122:F123)","v":0},{"$f":"SUM(G122:G123)","v":0},0,0,0,0,0,0,0,0,0,0,0,0,0,0,0,0,0,0,0,0,0,0,0,null,null,{"$f":"Раздел2!F122","v":0},{"$f":"Раздел2!F131","v":0},{"$f":"Раздел2!H131","v":0},{"$f":"Раздел2!I122","v":0},{"$f":"Раздел2!J122","v":0},{"$f":"Раздел2!K122","v":0},null,null,null,null,null,null,null,null,{"$f":"Раздел2!D124","v":0}]
[null,"в том числе:\nПлавание ","115",0,{"$f":"Раздел2!H123","v":0},null,null,null,null,null,null,null,null,null,null,null,null,null,null,null,0,null,null,null,null,0,null,null,null,null,null,null,{"$f":"Раздел2!F123","v":0},{"$f":"Раздел2!F132","v":0},{"$f":"Раздел2!H132","v":0},{"$f":"Раздел2!I123","v":0},{"$f":"Раздел2!J123","v":0},{"$f":"Раздел2!K123","v":0},null,null,null,null,null,null,null,null,{"$f":"Раздел2!D125","v":0}]
[null,"Открытая вода","116",0,{"$f":"Раздел2!H124","v":0},null,null,null,null,null,null,null,null,null,null,null,null,null,null,null,0,null,null,null,null,0,null,null,null,null,null,null,{"$f":"Раздел2!F124","v":0},{"$f":"Раздел2!F133","v":0},{"$f":"Раздел2!H133","v":0},{"$f":"Раздел2!I124","v":0},{"$f":"Раздел2!J124","v":0},{"$f":"Раздел2!K124","v":0},null,null,null,null,null,null,null,null,{"$f":"Раздел2!D126","v":0}]
[null,"Планерный спорт","117",0,{"$f":"Раздел2!H125","v":0},null,null,null,null,null,null,null,null,null,null,null,null,null,null,null,0,null,null,null,null,0,null,null,null,null,null,null,{"$f":"Раздел2!F125","v":0},{"$f":"Раздел2!F134","v":0},{"$f":"Раздел2!H134","v":0},{"$f":"Раздел2!I125","v":0},{"$f":"Раздел2!J125","v":0},{"$f":"Раздел2!K125","v":0},null,null,null,null,null,null,null,null,{"$f":"Раздел2!D127","v":0}]
[null,"Подводный спорт","118",0,{"$f":"Раздел2!H126","v":0},null,null,null,null,null,null,null,null,null,null,null,null,null,null,null,0,null,null,null,null,0,null,null,null,null,null,null,{"$f":"Раздел2!F126","v":0},{"$f":"Раздел2!F135","v":0},{"$f":"Раздел2!H135","v":0},{"$f":"Раздел2!I126","v":0},{"$f":"Раздел2!J126","v":0},{"$f":"Раздел2!K126","v":0},null,null,null,null,null,null,null,null,{"$f":"Раздел2!D128","v":0}]
[null,"Пожарно-спасательный спорт","119",0,{"$f":"Раздел2!H127","v":0},null,null,null,null,null,null,null,null,null,null,null,null,null,null,null,0,null,null,null,null,0,null,null,null,null,null,null,{"$f":"Раздел2!F127","v":0},{"$f":"Раздел2!F136","v":0},{"$f":"Раздел2!H136","v":0},{"$f":"Раздел2!I127","v":0},{"$f":"Раздел2!J127","v":0},{"$f":"Раздел2!K127","v":0},null,null,null,null,null,null,null,null,{"$f":"Раздел2!D129","v":0}]
[null,"Полиатлон","120",0,{"$f":"Раздел2!H128","v":0},null,null,null,null,null,null,null,null,null,null,null,null,null,null,null,0,null,null,null,null,0,null,null,null,null,null,null,{"$f":"Раздел2!F128","v":0},{"$f":"Раздел2!F137","v":0},{"$f":"Раздел2!H137","v":0},{"$f":"Раздел2!I128","v":0},{"$f":"Раздел2!J128","v":0},{"$f":"Раздел2!K128","v":0},null,null,null,null,null,null,null,null,{"$f":"Раздел2!D130","v":0}]
[null,"Практическая стрельба","121",0,{"$f":"Раздел2!H129","v":0},null,null,null,null,null,null,null,null,null,null,null,null,null,null,null,0,null,null,null,null,0,null,null,null,null,null,null,{"$f":"Раздел2!F129","v":0},{"$f":"Раздел2!F138","v":0},{"$f":"Раздел2!H138","v":0},{"$f":"Раздел2!I129","v":0},{"$f":"Раздел2!J129","v":0},{"$f":"Раздел2!K129","v":0},null,null,null,null,null,null,null,null,{"$f":"Раздел2!D131","v":0}]
[null,"Прыжки в воду - всего","122",0,{"$f":"Раздел2!H130","v":0},{"$f":"SUM(F130:F131)","v":0},{"$f":"SUM(G130:G131)","v":0},0,0,0,0,0,0,0,0,0,0,0,0,0,0,0,0,0,0,0,0,0,0,0,null,null,{"$f":"Раздел2!F130","v":0},{"$f":"Раздел2!F139","v":0},{"$f":"Раздел2!H139","v":0},{"$f":"Раздел2!I130","v":0},{"$f":"Раздел2!J130","v":0},{"$f":"Раздел2!K130","v":0},null,null,null,null,null,null,null,null,{"$f":"Раздел2!D132","v":0}]
[null,"в том числе:\nПрыжки в воду","123",0,{"$f":"Раздел2!H131","v":0},null,null,null,null,null,null,null,null,null,null,null,null,null,null,null,0,null,null,null,null,0,null,null,null,null,null,null,{"$f":"Раздел2!F131","v":0},{"$f":"Раздел2!F140","v":0},{"$f":"Раздел2!H140","v":0},{"$f":"Раздел2!I131","v":0},{"$f":"Раздел2!J131","v":0},{"$f":"Раздел2!K131","v":0},null,null,null,null,null,null,null,null,{"$f":"Раздел2!D133","v":0}]
[null,"Прыжки в открытый водоем","124",0,{"$f":"Раздел2!H132","v":0},null,null,null,null,null,null,null,null,null,null,null,null,null,null,null,0,null,null,null,null,0,null,null,null,null,null,null,{"$f":"Раздел2!F132","v":0},{"$f":"Раздел2!F141","v":0},{"$f":"Раздел2!H141","v":0},{"$f":"Раздел2!I132","v":0},{"$f":"Раздел2!J132","v":0},{"$f":"Раздел2!K132","v":0},null,null,null,null,null,null,null,null,{"$f":"Раздел2!D134","v":0}]
[null,"Прыжки на батуте - всего","125",0,{"$f":"Раздел2!H133","v":0},{"$f":"SUM(F133:F136)","v":0},{"$f":"SUM(G133:G136)","v":0},0,0,0,0,0,0,0,0,0,0,0,0,0,0,0,0,0,0,0,0,0,0,0,null,null,{"$f":"Раздел2!F133","v":0},{"$f":"Раздел2!F142","v":0},{"$f":"Раздел2!H142","v":0},{"$f":"Раздел2!I133","v":0},{"$f":"Раздел2!J133","v":0},{"$f":"Раздел2!K133","v":0},null,null,null,null,null,null,null,null,{"$f":"Раздел2!D135","v":0}]
[null,"в том числе:\nАкробатическая дорожка","126",0,{"$f":"Раздел2!H134","v":0},null,null,null,null,null,null,null,null,null,null,null,null,null,null,null,0,null,null,null,null,0,null,null,null,null,null,null,{"$f":"Раздел2!F134","v":0},{"$f":"Раздел2!F143","v":0},{"$f":"Раздел2!H143","v":0},{"$f":"Раздел2!I134","v":0},{"$f":"Раздел2!J134","v":0},{"$f":"Раздел2!K134","v":0},null,null,null,null,null,null,null,null,{"$f":"Раздел2!D136","v":0}]
[null,"Двойной минитрамп","127",0,{"$f":"Раздел2!H135","v":0},null,null,null,null,null,null,null,null,null,null,null,null,null,null,null,0,null,null,null,null,0,null,null,null,null,null,null,{"$f":"Раздел2!F135","v":0},{"$f":"Раздел2!F144","v":0},{"$f":"Раздел2!H144","v":0},{"$f":"Раздел2!I135","v":0},{"$f":"Раздел2!J135","v":0},{"$f":"Раздел2!K135","v":0},null,null,null,null,null,null,null,null,{"$f":"Раздел2!D137","v":0}]
[null,"Индивидуальные прыжки","128",0,{"$f":"Раздел2!H136","v":0},null,null,null,null,null,null,null,null,null,null,null,null,null,null,null,0,null,null,null,null,0,null,null,null,null,null,null,{"$f":"Раздел2!F136","v":0},{"$f":"Раздел2!F145","v":0},{"$f":"Раздел2!H145","v":0},{"$f":"Раздел2!I136","v":0},{"$f":"Раздел2!J136","v":0},{"$f":"Раздел2!K136","v":0},null,null,null,null,null,null,null,null,{"$f":"Раздел2!D138","v":0}]
[null,"Синхронные прыжки","129",0,{"$f":"Раздел2!H137","v":0},null,null,null,null,null,null,null,null,null,null,null,null,null,null,null,0,null,null,null,null,0,null,null,null,null,null,null,{"$f":"Раздел2!F137","v":0},{"$f":"Раздел2!F146","v":0},{"$f":"Раздел2!H146","v":0},{"$f":"Раздел2!I137","v":0},{"$f":"Раздел2!J137","v":0},{"$f":"Раздел2!K137","v":0},null,null,null,null,null,null,null,null,{"$f":"Раздел2!D139","v":0}]
[null,"Прыжки на лыжах с трамплина","130",{"$f":"SUM(E137:T137)","v":0},{"$f":"Раздел2!H138","v":0},null,null,null,null,null,null,null,null,null,null,null,null,null,null,null,{"$f":"SUM(V137:Y137)","v":0},null,null,null,null,{"$f":"SUM(AA137:AD137)","v":0},null,null,null,null,null,null,{"$f":"Раздел2!F138","v":0},{"$f":"Раздел2!F147","v":0},{"$f":"Раздел2!H147","v":0},{"$f":"Раздел2!I138","v":0},{"$f":"Раздел2!J138","v":0},{"$f":"Раздел2!K138","v":0},null,null,null,null,null,null,null,null,{"$f":"Раздел2!D140","v":0}]
[null,"Пулевая стрельба - всего","131",0,{"$f":"Раздел2!H139","v":0},{"$f":"SUM(F139:F143)","v":0},{"$f":"SUM(G139:G143)","v":0},0,0,0,0,0,0,0,0,0,0,0,0,0,0,0,0,0,0,0,0,0,0,0,null,null,{"$f":"Раздел2!F139","v":0},{"$f":"Раздел2!F148","v":0},{"$f":"Раздел2!H148","v":0},{"$f":"Раздел2!I139","v":0},{"$f":"Раздел2!J139","v":0},{"$f":"Раздел2!K139","v":0},null,null,null,null,null,null,null,null,{"$f":"Раздел2!D141","v":0}]
[null,"в том числе:\nПневматическая винтовка","132",0,{"$f":"Раздел2!H140","v":0},null,null,null,null,null,null,null,null,null,null,null,null,null,null,null,0,null,null,null,null,0,null,null,null,null,null,null,{"$f":"Раздел2!F140","v":0},{"$f":"Раздел2!F149","v":0},{"$f":"Раздел2!H149","v":0},{"$f":"Раздел2!I140","v":0},{"$f":"Раздел2!J140","v":0},{"$f":"Раздел2!K140","v":0},null,null,null,null,null,null,null,null,{"$f":"Раздел2!D142","v":0}]
[null,"Пневматический пистолет","133",0,{"$f":"Раздел2!H141","v":0},null,null,null,null,null,null,null,null,null,null,null,null,null,null,null,0,null,null,null,null,0,null,null,null,null,null,null,{"$f":"Раздел2!F141","v":0},{"$f":"Раздел2!F150","v":0},{"$f":"Раздел2!H150","v":0},{"$f":"Раздел2!I141","v":0},{"$f":"Раздел2!J141","v":0},{"$f":"Раздел2!K141","v":0},null,null,null,null,null,null,null,null,{"$f":"Раздел2!D143","v":0}]
[null,"Малокалиберная винтовка","134",0,{"$f":"Раздел2!H142","v":0},null,null,null,null,null,null,null,null,null,null,null,null,null,null,null,0,null,null,null,null,0,null,null,null,null,null,null,{"$f":"Раздел2!F142","v":0},{"$f":"Раздел2!F151","v":0},{"$f":"Раздел2!H151","v":0},{"$f":"Раздел2!I142","v":0},{"$f":"Раздел2!J142","v":0},{"$f":"Раздел2!K142","v":0},null,null,null,null,null,null,null,null,{"$f":"Раздел2!D144","v":0}]
[null,"Малокалиберный пистолет","135",0,{"$f":"Раздел2!H143","v":0},null,null,null,null,null,null,null,null,null,null,null,null,null,null,null,0,null,null,null,null,0,null,null,null,null,null,null,{"$f":"Раздел2!F143","v":0},{"$f":"Раздел2!F152","v":0},{"$f":"Раздел2!H152","v":0},{"$f":"Раздел2!I143","v":0},{"$f":"Раздел2!J143","v":0},{"$f":"Раздел2!K143","v":0},null,null,null,null,null,null,null,null,{"$f":"Раздел2!D145","v":0}]
[null,"Движущаяся мишень","136",0,{"$f":"Раздел2!H144","v":0},null,null,null,null,null,null,null,null,null,null,null,null,null,null,null,0,null,null,null,null,0,null,null,null,null,null,null,{"$f":"Раздел2!F144","v":0},{"$f":"Раздел2!F153","v":0},{"$f":"Раздел2!H153","v":0},{"$f":"Раздел2!I144","v":0},{"$f":"Раздел2!J144","v":0},{"$f":"Раздел2!K144","v":0},null,null,null,null,null,null,null,null,{"$f":"Раздел2!D146","v":0}]
[null,"Пэйнтбол","137",0,{"$f":"Раздел2!H145","v":0},null,null,null,null,null,null,null,null,null,null,null,null,null,null,null,0,null,null,null,null,0,null,null,null,null,null,null,{"$f":"Раздел2!F145","v":0},{"$f":"Раздел2!F154","v":0},{"$f":"Раздел2!H154","v":0},{"$f":"Раздел2!I145","v":0},{"$f":"Раздел2!J145","v":0},{"$f":"Раздел2!K145","v":0},null,null,null,null,null,null,null,null,{"$f":"Раздел2!D147","v":0}]
[null,"Радиоспорт","138",0,{"$f":"Раздел2!H146","v":0},null,null,null,null,null,null,null,null,null,null,null,null,null,null,null,0,null,null,null,null,0,null,null,null,null,null,null,{"$f":"Раздел2!F146","v":0},{"$f":"Раздел2!F155","v":0},{"$f":"Раздел2!H155","v":0},{"$f":"Раздел2!I146","v":0},{"$f":"Раздел2!J146","v":0},{"$f":"Раздел2!K146","v":0},null,null,null,null,null,null,null,null,{"$f":"Раздел2!D148","v":0}]
[null,"Рафтинг","139",0,{"$f":"Раздел2!H147","v":0},null,null,null,null,null,null,null,null,null,null,null,null,null,null,null,0,null,null,null,null,0,null,null,null,null,null,null,{"$f":"Раздел2!F147","v":0},{"$f":"Раздел2!F156","v":0},{"$f":"Раздел2!H156","v":0},{"$f":"Раздел2!I147","v":0},{"$f":"Раздел2!J147","v":0},{"$f":"Раздел2!K147","v":0},null,null,null,null,null,null,null,null,{"$f":"Раздел2!D149","v":0}]
[null,"Регби - всего","140",0,{"$f":"Раздел2!H148","v":0},{"$f":"SUM(F148:F151)","v":0},{"$f":"SUM(G148:G151)","v":0},0,0,0,0,0,0,0,0,0,0,0,0,0,0,0,0,0,0,0,0,0,0,0,null,null,{"$f":"Раздел2!F148","v":0},{"$f":"Раздел2!F157","v":0},{"$f":"Раздел2!H157","v":0},{"$f":"Раздел2!I148","v":0},{"$f":"Раздел2!J148","v":0},{"$f":"Раздел2!K148","v":0},null,null,null,null,null,null,null,null,{"$f":"Раздел2!D150","v":0}]
[null,"в том числе:\nРегби","141",0,{"$f":"Раздел2!H149","v":0},null,null,null,null,null,null,null,null,null,null,null,null,null,null,null,0,null,null,null,null,0,null,null,null,null,null,null,{"$f":"Раздел2!F149","v":0},{"$f":"Раздел2!F158","v":0},{"$f":"Раздел2!H158","v":0},{"$f":"Раздел2!I149","v":0},{"$f":"Раздел2!J149","v":0},{"$f":"Раздел2!K149","v":0},null,null,null,null,null,null,null,null,{"$f":"Раздел2!D151","v":0}]
[null,"Регби 7 (муж.)","142",0,{"$f":"Раздел2!H150","v":0},null,null,null,null,null,null,null,null,null,null,null,null,null,null,null,0,null,null,null,null,0,null,null,null,null,null,null,{"$f":"Раздел2!F150","v":0},{"$f":"Раздел2!F159","v":0},{"$f":"Раздел2!H159","v":0},{"$f":"Раздел2!I150","v":0},{"$f":"Раздел2!J150","v":0},{"$f":"Раздел2!K150","v":0},null,null,null,null,null,null,null,null,{"$f":"Раздел2!D152","v":0}]
[null,"Регби 7 (жен.)","143",0,{"$f":"Раздел2!H151","v":0},null,null,null,null,null,null,null,null,null,null,null,null,null,null,null,0,null,null,null,null,0,null,null,null,null,null,null,{"$f":"Раздел2!F151","v":0},{"$f":"Раздел2!F160","v":0},{"$f":"Раздел2!H160","v":0},{"$f":"Раздел2!I151","v":0},{"$f":"Раздел2!J151","v":0},{"$f":"Раздел2!K151","v":0},null,null,null,null,null,null,null,null,{"$f":"Раздел2!D153","v":0}]
[null,"Регби - пляжное","144",0,{"$f":"Раздел2!H152","v":0},null,null,null,null,null,null,null,null,null,null,null,null,null,null,null,0,null,null,null,null,0,null,null,null,null,null,null,{"$f":"Раздел2!F152","v":0},{"$f":"Раздел2!F161","v":0},{"$f":"Раздел2!H161","v":0},{"$f":"Раздел2!I152","v":0},{"$f":"Раздел2!J152","v":0},{"$f":"Раздел2!K152","v":0},null,null,null,null,null,null,null,null,{"$f":"Раздел2!D154","v":0}]
[null,"Регбол","145",0,{"$f":"Раздел2!H153","v":0},null,null,null,null,null,null,null,null,null,null,null,null,null,null,null,0,null,null,null,null,0,null,null,null,null,null,null,{"$f":"Раздел2!F153","v":0},{"$f":"Раздел2!F162","v":0},{"$f":"Раздел2!H162","v":0},{"$f":"Раздел2!I153","v":0},{"$f":"Раздел2!J153","v":0},{"$f":"Раздел2!K153","v":0},null,null,null,null,null,null,null,null,{"$f":"Раздел2!D155","v":0}]
[null,"Роллер спорт","146",0,{"$f":"Раздел2!H154","v":0},null,null,null,null,null,null,null,null,null,null,null,null,null,null,null,0,null,null,null,null,0,null,null,null,null,null,null,{"$f":"Раздел2!F154","v":0},{"$f":"Раздел2!F163","v":0},{"$f":"Раздел2!H163","v":0},{"$f":"Раздел2!I154","v":0},{"$f":"Раздел2!J154","v":0},{"$f":"Раздел2!K154","v":0},null,null,null,null,null,null,null,null,{"$f":"Раздел2!D156","v":0}]
[null,"Рукопашный бой","147",0,{"$f":"Раздел2!H155","v":0},null,null,null,null,null,null,null,null,null,null,null,null,null,null,null,0,null,null,null,null,0,null,null,null,null,null,null,{"$f":"Раздел2!F155","v":0},{"$f":"Раздел2!F164","v":0},{"$f":"Раздел2!H164","v":0},{"$f":"Раздел2!I155","v":0},{"$f":"Раздел2!J155","v":0},{"$f":"Раздел2!K155","v":0},null,null,null,null,null,null,null,null,{"$f":"Раздел2!D157","v":0}]
[null,"Рыболовный спорт","148",0,{"$f":"Раздел2!H156","v":0},null,null,null,null,null,null,null,null,null,null,null,null,null,null,null,0,null,null,null,null,0,null,null,null,null,null,null,{"$f":"Раздел2!F156","v":0},{"$f":"Раздел2!F165","v":0},{"$f":"Раздел2!H165","v":0},{"$f":"Раздел2!I156","v":0},{"$f":"Раздел2!J156","v":0},{"$f":"Раздел2!K156","v":0},null,null,null,null,null,null,null,null,{"$f":"Раздел2!D158","v":0}]
[null,"Сават","149",0,{"$f":"Раздел2!H157","v":0},null,null,null,null,null,null,null,null,null,null,null,null,null,null,null,0,null,null,null,null,0,null,null,null,null,null,null,{"$f":"Раздел2!F157","v":0},{"$f":"Раздел2!F166","v":0},{"$f":"Раздел2!H166","v":0},{"$f":"Раздел2!I157","v":0},{"$f":"Раздел2!J157","v":0},{"$f":"Раздел2!K157","v":0},null,null,null,null,null,null,null,null,{"$f":"Раздел2!D159","v":0}]
[null,"Самбо","150",0,{"$f":"Раздел2!H158","v":0},null,null,null,null,null,null,null,null,null,null,null,null,null,null,null,0,null,null,null,null,0,null,null,null,null,null,null,{"$f":"Раздел2!F158","v":0},{"$f":"Раздел2!F168","v":0},{"$f":"Раздел2!H168","v":0},{"$f":"Раздел2!I158","v":0},{"$f":"Раздел2!J158","v":0},{"$f":"Раздел2!K158","v":0},null,null,null,null,null,null,null,null,{"$f":"Раздел2!D160","v":0}]
[null,"Самолетный спорт","151",0,{"$f":"Раздел2!H159","v":0},null,null,null,null,null,null,null,null,null,null,null,null,null,null,null,0,null,null,null,null,0,null,null,null,null,null,null,{"$f":"Раздел2!F159","v":0},{"$f":"Раздел2!F169","v":0},{"$f":"Раздел2!H169","v":0},{"$f":"Раздел2!I159","v":0},{"$f":"Раздел2!J159","v":0},{"$f":"Раздел2!K159","v":0},null,null,null,null,null,null,null,null,{"$f":"Раздел2!D161","v":0}]
[null,"Санный спорт","152",0,{"$f":"Раздел2!H160","v":0},null,null,null,null,null,null,null,null,null,null,null,null,null,null,null,0,null,null,null,null,0,null,null,null,null,null,null,{"$f":"Раздел2!F160","v":0},{"$f":"Раздел2!F170","v":0},{"$f":"Раздел2!H170","v":0},{"$f":"Раздел2!I160","v":0},{"$f":"Раздел2!J160","v":0},{"$f":"Раздел2!K160","v":0},null,null,null,null,null,null,null,null,{"$f":"Раздел2!D162","v":0}]
[null,"Северное многоборье","153",0,{"$f":"Раздел2!H161","v":0},null,null,null,null,null,null,null,null,null,null,null,null,null,null,null,0,null,null,null,null,0,null,null,null,null,null,null,{"$f":"Раздел2!F161","v":0},{"$f":"Раздел2!F171","v":0},{"$f":"Раздел2!H171","v":0},{"$f":"Раздел2!I161","v":0},{"$f":"Раздел2!J161","v":0},{"$f":"Раздел2!K161","v":0},null,null,null,null,null,null,null,null,{"$f":"Раздел2!D163","v":0}]
[null,"Серфинг","154",0,{"$f":"Раздел2!H162","v":0},null,null,null,null,null,null,null,null,null,null,null,null,null,null,null,0,null,null,null,null,0,null,null,null,null,null,null,{"$f":"Раздел2!F162","v":0},{"$f":"Раздел2!F172","v":0},{"$f":"Раздел2!H172","v":0},{"$f":"Раздел2!I162","v":0},{"$f":"Раздел2!J162","v":0},{"$f":"Раздел2!K162","v":0},null,null,null,null,null,null,null,null,{"$f":"Раздел2!D164","v":0}]
[null,"Синхронное плавание","155",0,{"$f":"Раздел2!H163","v":0},null,null,null,null,null,null,null,null,null,null,null,null,null,null,null,0,null,null,null,null,0,null,null,null,null,null,null,{"$f":"Раздел2!F163","v":0},{"$f":"Раздел2!F173","v":0},{"$f":"Раздел2!H173","v":0},{"$f":"Раздел2!I163","v":0},{"$f":"Раздел2!J163","v":0},{"$f":"Раздел2!K163","v":0},null,null,null,null,null,null,null,null,{"$f":"Раздел2!D165","v":0}]
[null,"Скалолазание","156",0,{"$f":"Раздел2!H164","v":0},null,null,null,null,null,null,null,null,null,null,null,null,null,null,null,0,null,null,null,null,0,null,null,null,null,null,null,{"$f":"Раздел2!F164","v":0},{"$f":"Раздел2!F174","v":0},{"$f":"Раздел2!H174","v":0},{"$f":"Раздел2!I164","v":0},{"$f":"Раздел2!J164","v":0},{"$f":"Раздел2!K164","v":0},null,null,null,null,null,null,null,null,{"$f":"Раздел2!D166","v":0}]
[null,"Сквош","157",0,{"$f":"Раздел2!H165","v":0},null,null,null,null,null,null,null,null,null,null,null,null,null,null,null,0,null,null,null,null,0,null,null,null,null,null,null,{"$f":"Раздел2!F165","v":0},{"$f":"Раздел2!F175","v":0},{"$f":"Раздел2!H175","v":0},{"$f":"Раздел2!I165","v":0},{"$f":"Раздел2!J165","v":0},{"$f":"Раздел2!K165","v":0},null,null,null,null,null,null,null,null,{"$f":"Раздел2!D168","v":0}]
[null,"Скейтбординг","158",0,{"$f":"Раздел2!H166","v":0},null,null,null,null,null,null,null,null,null,null,null,null,null,null,null,0,null,null,null,null,0,null,null,null,null,null,null,{"$f":"Раздел2!F166","v":0},{"$f":"Раздел2!F176","v":0},{"$f":"Раздел2!H176","v":0},{"$f":"Раздел2!I166","v":0},{"$f":"Раздел2!J166","v":0},{"$f":"Раздел2!K166","v":0},null,null,null,null,null,null,null,null,{"$f":"Раздел2!D169","v":0}]
[null,"Служебно-боевая стрельба ","159",0,{"$f":"Раздел2!H167","v":0},null,null,null,null,null,null,null,null,null,null,null,null,null,null,null,0,null,null,null,null,0,null,null,null,null,null,null,{"$f":"Раздел2!F167","v":0},{"$f":"Раздел2!F177","v":0},{"$f":"Раздел2!H177","v":0},{"$f":"Раздел2!I167","v":0},{"$f":"Раздел2!J167","v":0},{"$f":"Раздел2!K167","v":0},null,null,null,null,null,null,null,null,{"$f":"Раздел2!D170","v":0}]
[null,"Служебно-прикладной спорт","160",0,{"$f":"Раздел2!H168","v":0},null,null,null,null,null,null,null,null,null,null,null,null,null,null,null,0,null,null,null,null,0,null,null,null,null,null,null,{"$f":"Раздел2!F168","v":0},{"$f":"Раздел2!F178","v":0},{"$f":"Раздел2!H178","v":0},{"$f":"Раздел2!I168","v":0},{"$f":"Раздел2!J168","v":0},{"$f":"Раздел2!K168","v":0},null,null,null,null,null,null,null,null,{"$f":"Раздел2!D171","v":0}]
[null,"Служебно-прикладной спорт ФСО России","161",0,{"$f":"Раздел2!H169","v":0},null,null,null,null,null,null,null,null,null,null,null,null,null,null,null,0,null,null,null,null,0,null,null,null,null,null,null,{"$f":"Раздел2!F169","v":0},{"$f":"Раздел2!F179","v":0},{"$f":"Раздел2!H179","v":0},{"$f":"Раздел2!I169","v":0},{"$f":"Раздел2!J169","v":0},{"$f":"Раздел2!K169","v":0},null,null,null,null,null,null,null,null,{"$f":"Раздел2!D172","v":0}]
[null,"Служебно-прикладной спорт ФТС России","162",0,{"$f":"Раздел2!H170","v":0},null,null,null,null,null,null,null,null,null,null,null,null,null,null,null,0,null,null,null,null,0,null,null,null,null,null,null,{"$f":"Раздел2!F170","v":0},{"$f":"Раздел2!F180","v":0},{"$f":"Раздел2!H180","v":0},{"$f":"Раздел2!I170","v":0},{"$f":"Раздел2!J170","v":0},{"$f":"Раздел2!K170","v":0},null,null,null,null,null,null,null,null,{"$f":"Раздел2!D173","v":0}]
[null,"Служебное двоеборье","163",0,{"$f":"Раздел2!H171","v":0},null,null,null,null,null,null,null,null,null,null,null,null,null,null,null,0,null,null,null,null,0,null,null,null,null,null,null,{"$f":"Раздел2!F171","v":0},{"$f":"Раздел2!F181","v":0},{"$f":"Раздел2!H181","v":0},{"$f":"Раздел2!I171","v":0},{"$f":"Раздел2!J171","v":0},{"$f":"Раздел2!K171","v":0},null,null,null,null,null,null,null,null,{"$f":"Раздел2!D174","v":0}]
[null,"Служебное единоборство","164",0,{"$f":"Раздел2!H172","v":0},null,null,null,null,null,null,null,null,null,null,null,null,null,null,null,0,null,null,null,null,0,null,null,null,null,null,null,{"$f":"Раздел2!F172","v":0},{"$f":"Раздел2!F182","v":0},{"$f":"Раздел2!H182","v":0},{"$f":"Раздел2!I172","v":0},{"$f":"Раздел2!J172","v":0},{"$f":"Раздел2!K172","v":0},null,null,null,null,null,null,null,null,{"$f":"Раздел2!D175","v":0}]
[null,"Служебное многоборье","165",0,{"$f":"Раздел2!H173","v":0},null,null,null,null,null,null,null,null,null,null,null,null,null,null,null,0,null,null,null,null,0,null,null,null,null,null,null,{"$f":"Раздел2!F173","v":0},{"$f":"Раздел2!F183","v":0},{"$f":"Раздел2!H183","v":0},{"$f":"Раздел2!I173","v":0},{"$f":"Раздел2!J173","v":0},{"$f":"Раздел2!K173","v":0},null,null,null,null,null,null,null,null,{"$f":"Раздел2!D176","v":0}]
[null,"Служебный биатлон","166",0,{"$f":"Раздел2!H174","v":0},null,null,null,null,null,null,null,null,null,null,null,null,null,null,null,0,null,null,null,null,0,null,null,null,null,null,null,{"$f":"Раздел2!F174","v":0},{"$f":"Раздел2!F184","v":0},{"$f":"Раздел2!H184","v":0},{"$f":"Раздел2!I174","v":0},{"$f":"Раздел2!J174","v":0},{"$f":"Раздел2!K174","v":0},null,null,null,null,null,null,null,null,{"$f":"Раздел2!D177","v":0}]
[null,"Спасательный спорт","167",0,{"$f":"Раздел2!H175","v":0},null,null,null,null,null,null,null,null,null,null,null,null,null,null,null,0,null,null,null,null,0,null,null,null,null,null,null,{"$f":"Раздел2!F175","v":0},{"$f":"Раздел2!F185","v":110},{"$f":"Раздел2!H185","v":0},{"$f":"Раздел2!I175","v":0},{"$f":"Раздел2!J175","v":0},{"$f":"Раздел2!K175","v":0},null,null,null,null,null,null,null,null,{"$f":"Раздел2!D178","v":0}]
[null,"Стрельба из боевого ручного стрелкового оружия","168",0,{"$f":"Раздел2!H176","v":0},null,null,null,null,null,null,null,null,null,null,null,null,null,null,null,0,null,null,null,null,0,null,null,null,null,null,null,{"$f":"Раздел2!F176","v":0},{"$f":"Раздел2!F186","v":110},{"$f":"Раздел2!H186","v":0},{"$f":"Раздел2!I176","v":0},{"$f":"Раздел2!J176","v":0},{"$f":"Раздел2!K176","v":0},null,null,null,null,null,null,null,null,{"$f":"Раздел2!D179","v":0}]
[null,"Стрельба из штатного или табельного оружия","169",0,{"$f":"Раздел2!H177","v":0},null,null,null,null,null,null,null,null,null,null,null,null,null,null,null,0,null,null,null,null,0,null,null,null,null,null,null,{"$f":"Раздел2!F177","v":0},{"$f":"Раздел2!F187","v":0},{"$f":"Раздел2!H187","v":0},{"$f":"Раздел2!I177","v":0},{"$f":"Раздел2!J177","v":0},{"$f":"Раздел2!K177","v":0},null,null,null,null,null,null,null,null,{"$f":"Раздел2!D180","v":0}]
[null,"Смешанное боевое единоборство (ММА)","170",0,{"$f":"Раздел2!H178","v":0},null,null,null,null,null,null,null,null,null,null,null,null,null,null,null,0,null,null,null,null,0,null,null,null,null,null,null,{"$f":"Раздел2!F178","v":0},{"$f":"Раздел2!F188","v":0},{"$f":"Раздел2!H188","v":0},{"$f":"Раздел2!I178","v":0},{"$f":"Раздел2!J178","v":0},{"$f":"Раздел2!K178","v":0},null,null,null,null,null,null,null,null,{"$f":"Раздел2!D181","v":0}]
[null,"Сноуборд","171",0,{"$f":"Раздел2!H179","v":0},null,null,null,null,null,null,null,null,null,null,null,null,null,null,null,0,null,null,null,null,0,null,null,null,null,null,null,{"$f":"Раздел2!F179","v":0},{"$f":"Раздел2!F189","v":0},{"$f":"Раздел2!H189","v":0},{"$f":"Раздел2!I179","v":0},{"$f":"Раздел2!J179","v":0},{"$f":"Раздел2!K179","v":0},null,null,null,null,null,null,null,null,{"$f":"Раздел2!D182","v":0}]
[null,"Современное пятиборье","172",0,{"$f":"Раздел2!H180","v":0},null,null,null,null,null,null,null,null,null,null,null,null,null,null,null,0,null,null,null,null,0,null,null,null,null,null,null,{"$f":"Раздел2!F180","v":0},{"$f":"Раздел2!F190","v":0},{"$f":"Раздел2!H190","v":0},{"$f":"Раздел2!I180","v":0},{"$f":"Раздел2!J180","v":0},{"$f":"Раздел2!K180","v":0},null,null,null,null,null,null,null,null,{"$f":"Раздел2!D183","v":0}]
[null,"Софтбол","173",0,{"$f":"Раздел2!H181","v":0},null,null,null,null,null,null,null,null,null,null,null,null,null,null,null,0,null,null,null,null,0,null,null,null,null,null,null,{"$f":"Раздел2!F181","v":0},{"$f":"Раздел2!F191","v":0},{"$f":"Раздел2!H191","v":0},{"$f":"Раздел2!I181","v":0},{"$f":"Раздел2!J181","v":0},{"$f":"Раздел2!K181","v":0},null,null,null,null,null,null,null,null,{"$f":"Раздел2!D184","v":0}]
[null,"Спорт сверхлегкой авиации","174",0,{"$f":"Раздел2!H182","v":0},null,null,null,null,null,null,null,null,null,null,null,null,null,null,null,0,null,null,null,null,0,null,null,null,null,null,null,{"$f":"Раздел2!F182","v":0},{"$f":"Раздел2!F192","v":0},{"$f":"Раздел2!H192","v":0},{"$f":"Раздел2!I182","v":0},{"$f":"Раздел2!J182","v":0},{"$f":"Раздел2!K182","v":0},null,null,null,null,null,null,null,null,{"$f":"Раздел2!D185","v":1}]
[null,"Спортивная акробатика","175",0,{"$f":"Раздел2!H183","v":0},null,null,null,null,null,null,null,null,null,null,null,null,null,null,null,0,null,null,null,null,0,null,null,null,null,null,null,{"$f":"Раздел2!F183","v":0},{"$f":"Раздел2!F193","v":0},{"$f":"Раздел2!H193","v":0},{"$f":"Раздел2!I183","v":0},{"$f":"Раздел2!J183","v":0},{"$f":"Раздел2!K183","v":0},null,null,null,null,null,null,null,null,{"$f":"Раздел2!D186","v":1}]
[null,"Спортивная аэробика","176",0,{"$f":"Раздел2!H184","v":0},null,null,null,null,null,null,null,null,null,null,null,null,null,null,null,0,null,null,null,null,0,null,null,null,null,null,null,{"$f":"Раздел2!F184","v":0},{"$f":"Раздел2!F194","v":0},{"$f":"Раздел2!H194","v":0},{"$f":"Раздел2!I184","v":0},{"$f":"Раздел2!J184","v":0},{"$f":"Раздел2!K184","v":0},null,null,null,null,null,null,null,null,{"$f":"Раздел2!D187","v":0}]
[null,"Спортивная борьба - всего","177",0,{"$f":"Раздел2!H185","v":0},{"$f":"SUM(F185:F189)","v":0},{"$f":"SUM(G185:G189)","v":0},0,0,0,0,0,0,0,0,0,0,0,0,0,0,0,0,0,0,0,0,0,0,0,null,null,{"$f":"Раздел2!F185","v":110},{"$f":"Раздел2!F195","v":0},{"$f":"Раздел2!H195","v":0},{"$f":"Раздел2!I185","v":0},{"$f":"Раздел2!J185","v":0},{"$f":"Раздел2!K185","v":0},null,null,null,null,null,null,null,null,{"$f":"Раздел2!D188","v":0}]
[null,"в том числе:\nВольная борьба","178",0,{"$f":"Раздел2!H186","v":0},null,null,null,null,null,null,null,null,null,null,null,null,null,null,null,0,null,null,null,null,0,null,null,null,null,null,null,{"$f":"Раздел2!F186","v":110},{"$f":"Раздел2!F196","v":0},{"$f":"Раздел2!H196","v":0},{"$f":"Раздел2!I186","v":0},{"$f":"Раздел2!J186","v":0},{"$f":"Раздел2!K186","v":0},null,null,null,null,null,null,null,null,{"$f":"Раздел2!D189","v":0}]
[null,"Греко-римская борьба","179",0,{"$f":"Раздел2!H187","v":0},null,null,null,null,null,null,null,null,null,null,null,null,null,null,null,0,null,null,null,null,0,null,null,null,null,null,null,{"$f":"Раздел2!F187","v":0},{"$f":"Раздел2!F197","v":0},{"$f":"Раздел2!H197","v":0},{"$f":"Раздел2!I187","v":0},{"$f":"Раздел2!J187","v":0},{"$f":"Раздел2!K187","v":0},null,null,null,null,null,null,null,null,{"$f":"Раздел2!D190","v":0}]
[null,"Грэпплинг","180",0,{"$f":"Раздел2!H188","v":0},null,null,null,null,null,null,null,null,null,null,null,null,null,null,null,0,null,null,null,null,0,null,null,null,null,null,null,{"$f":"Раздел2!F188","v":0},{"$f":"Раздел2!F198","v":0},{"$f":"Раздел2!H198","v":0},{"$f":"Раздел2!I188","v":0},{"$f":"Раздел2!J188","v":0},{"$f":"Раздел2!K188","v":0},null,null,null,null,null,null,null,null,{"$f":"Раздел2!D191","v":0}]
[null,"Грэпплинг-ги","181",0,{"$f":"Раздел2!H189","v":0},null,null,null,null,null,null,null,null,null,null,null,null,null,null,null,0,null,null,null,null,0,null,null,null,null,null,null,{"$f":"Раздел2!F189","v":0},{"$f":"Раздел2!F199","v":0},{"$f":"Раздел2!H199","v":0},{"$f":"Раздел2!I189","v":0},{"$f":"Раздел2!J189","v":0},{"$f":"Раздел2!K189","v":0},null,null,null,null,null,null,null,null,{"$f":"Раздел2!D192","v":0}]
[null,"Панкратион","182",0,{"$f":"Раздел2!H190","v":0},null,null,null,null,null,null,null,null,null,null,null,null,null,null,null,0,null,null,null,null,0,null,null,null,null,null,null,{"$f":"Раздел2!F190","v":0},{"$f":"Раздел2!F200","v":0},{"$f":"Раздел2!H200","v":0},{"$f":"Раздел2!I190","v":0},{"$f":"Раздел2!J190","v":0},{"$f":"Раздел2!K190","v":0},null,null,null,null,null,null,null,null,{"$f":"Раздел2!D193","v":0}]
[null,"Спортивная гимнастика","183",0,{"$f":"Раздел2!H191","v":0},null,null,null,null,null,null,null,null,null,null,null,null,null,null,null,0,null,null,null,null,0,null,null,null,null,null,null,{"$f":"Раздел2!F191","v":0},{"$f":"Раздел2!F201","v":0},{"$f":"Раздел2!H201","v":0},{"$f":"Раздел2!I191","v":0},{"$f":"Раздел2!J191","v":0},{"$f":"Раздел2!K191","v":0},null,null,null,null,null,null,null,null,{"$f":"Раздел2!D194","v":0}]
[null,"Спортивная йога","184",0,{"$f":"Раздел2!H192","v":0},null,null,null,null,null,null,null,null,null,null,null,null,null,null,null,0,null,null,null,null,0,null,null,null,null,null,null,{"$f":"Раздел2!F192","v":0},{"$f":"Раздел2!F203","v":0},{"$f":"Раздел2!H203","v":0},{"$f":"Раздел2!I192","v":0},{"$f":"Раздел2!J192","v":0},{"$f":"Раздел2!K192","v":0},null,null,null,null,null,null,null,null,{"$f":"Раздел2!D195","v":0}]
[null,"Спортивно-прикладное собаководство","185",0,{"$f":"Раздел2!H193","v":0},null,null,null,null,null,null,null,null,null,null,null,null,null,null,null,0,null,null,null,null,0,null,null,null,null,null,null,{"$f":"Раздел2!F193","v":0},{"$f":"Раздел2!F204","v":0},{"$f":"Раздел2!H204","v":0},{"$f":"Раздел2!I193","v":0},{"$f":"Раздел2!J193","v":0},{"$f":"Раздел2!K193","v":0},null,null,null,null,null,null,null,null,{"$f":"Раздел2!D196","v":0}]
[null,"Спортивное ориентирование","186",0,{"$f":"Раздел2!H194","v":0},null,null,null,null,null,null,null,null,null,null,null,null,null,null,null,0,null,null,null,null,0,null,null,null,null,null,null,{"$f":"Раздел2!F194","v":0},{"$f":"Раздел2!F205","v":0},{"$f":"Раздел2!H205","v":0},{"$f":"Раздел2!I194","v":0},{"$f":"Раздел2!J194","v":0},{"$f":"Раздел2!K194","v":0},null,null,null,null,null,null,null,null,{"$f":"Раздел2!D197","v":0}]
[null,"Спортивный бридж","187",0,{"$f":"Раздел2!H195","v":0},null,null,null,null,null,null,null,null,null,null,null,null,null,null,null,0,null,null,null,null,0,null,null,null,null,null,null,{"$f":"Раздел2!F195","v":0},{"$f":"Раздел2!F206","v":0},{"$f":"Раздел2!H206","v":0},{"$f":"Раздел2!I195","v":0},{"$f":"Раздел2!J195","v":0},{"$f":"Раздел2!K195","v":0},null,null,null,null,null,null,null,null,{"$f":"Раздел2!D198","v":0}]
[null,"Спортивный туризм","188",0,{"$f":"Раздел2!H196","v":0},null,null,null,null,null,null,null,null,null,null,null,null,null,null,null,0,null,null,null,null,0,null,null,null,null,null,null,{"$f":"Раздел2!F196","v":0},{"$f":"Раздел2!F207","v":0},{"$f":"Раздел2!H207","v":0},{"$f":"Раздел2!I196","v":0},{"$f":"Раздел2!J196","v":0},{"$f":"Раздел2!K196","v":0},null,null,null,null,null,null,null,null,{"$f":"Раздел2!D199","v":0}]
[null,"Стендовая стрельба - всего","189",0,{"$f":"Раздел2!H197","v":0},{"$f":"SUM(F197:F200)","v":0},{"$f":"SUM(G197:G200)","v":0},0,0,0,0,0,0,0,0,0,0,0,0,0,0,0,0,0,0,0,0,0,0,0,null,null,{"$f":"Раздел2!F197","v":0},{"$f":"Раздел2!F208","v":0},{"$f":"Раздел2!H208","v":0},{"$f":"Раздел2!I197","v":0},{"$f":"Раздел2!J197","v":0},{"$f":"Раздел2!K197","v":0},null,null,null,null,null,null,null,null,{"$f":"Раздел2!D200","v":0}]
[null,"в том числе:\nТрап","190",0,{"$f":"Раздел2!H198","v":0},null,null,null,null,null,null,null,null,null,null,null,null,null,null,null,0,null,null,null,null,0,null,null,null,null,null,null,{"$f":"Раздел2!F198","v":0},{"$f":"Раздел2!F209","v":0},{"$f":"Раздел2!H209","v":0},{"$f":"Раздел2!I198","v":0},{"$f":"Раздел2!J198","v":0},{"$f":"Раздел2!K198","v":0},null,null,null,null,null,null,null,null,{"$f":"Раздел2!D201","v":0}]
[null,"Скит","191",0,{"$f":"Раздел2!H199","v":0},null,null,null,null,null,null,null,null,null,null,null,null,null,null,null,0,null,null,null,null,0,null,null,null,null,null,null,{"$f":"Раздел2!F199","v":0},{"$f":"Раздел2!F211","v":0},{"$f":"Раздел2!H211","v":0},{"$f":"Раздел2!I199","v":0},{"$f":"Раздел2!J199","v":0},{"$f":"Раздел2!K199","v":0},null,null,null,null,null,null,null,null,{"$f":"Раздел2!D203","v":0}]
[null,"Дубль-трап","192",0,{"$f":"Раздел2!H200","v":0},null,null,null,null,null,null,null,null,null,null,null,null,null,null,null,0,null,null,null,null,0,null,null,null,null,null,null,{"$f":"Раздел2!F200","v":0},{"$f":"Раздел2!F212","v":0},{"$f":"Раздел2!H212","v":0},{"$f":"Раздел2!I200","v":0},{"$f":"Раздел2!J200","v":0},{"$f":"Раздел2!K200","v":0},null,null,null,null,null,null,null,null,{"$f":"Раздел2!D204","v":0}]
[null,"Спортинг","193",0,{"$f":"Раздел2!H201","v":0},null,null,null,null,null,null,null,null,null,null,null,null,null,null,null,0,null,null,null,null,0,null,null,null,null,null,null,{"$f":"Раздел2!F201","v":0},{"$f":"Раздел2!F213","v":0},{"$f":"Раздел2!H213","v":0},{"$f":"Раздел2!I201","v":0},{"$f":"Раздел2!J201","v":0},{"$f":"Раздел2!K201","v":0},null,null,null,null,null,null,null,null,{"$f":"Раздел2!D205","v":0}]
[null,"Страйкбол","194",{"$f":"SUM(E201:T201)","v":0},{"$f":"Раздел2!H202","v":0},null,null,null,null,null,null,null,null,null,null,null,null,null,null,null,{"$f":"SUM(V201:Y201)","v":0},null,null,null,null,{"$f":"SUM(AA201:AD201)","v":0},null,null,null,null,null,null,{"$f":"Раздел2!F202","v":0},{"$f":"Раздел2!F214","v":0},{"$f":"Раздел2!H214","v":0},{"$f":"Раздел2!I202","v":0},{"$f":"Раздел2!J202","v":0},{"$f":"Раздел2!K202","v":0},null,null,null,null,null,null,null,null,{"$f":"Раздел2!D206","v":0}]
[null,"Стрельба из арбалета","195",0,{"$f":"Раздел2!H203","v":0},null,null,null,null,null,null,null,null,null,null,null,null,null,null,null,0,null,null,null,null,0,null,null,null,null,null,null,{"$f":"Раздел2!F203","v":0},{"$f":"Раздел2!F215","v":0},{"$f":"Раздел2!H215","v":0},{"$f":"Раздел2!I203","v":0},{"$f":"Раздел2!J203","v":0},{"$f":"Раздел2!K203","v":0},null,null,null,null,null,null,null,null,{"$f":"Раздел2!D207","v":0}]
[null,"Стрельба из лука - всего","196",0,{"$f":"Раздел2!H204","v":0},{"$f":"SUM(F204:F206)","v":0},{"$f":"SUM(G204:G206)","v":0},0,0,0,0,0,0,0,0,0,0,0,0,0,0,0,0,0,0,0,0,0,0,0,null,null,{"$f":"Раздел2!F204","v":0},{"$f":"Раздел2!F216","v":0},{"$f":"Раздел2!H216","v":0},{"$f":"Раздел2!I204","v":0},{"$f":"Раздел2!J204","v":0},{"$f":"Раздел2!K204","v":0},null,null,null,null,null,null,null,null,{"$f":"Раздел2!D208","v":0}]
[null,"в том числе:\nКлассический лук","197",0,{"$f":"Раздел2!H205","v":0},null,null,null,null,null,null,null,null,null,null,null,null,null,null,null,0,null,null,null,null,0,null,null,null,null,null,null,{"$f":"Раздел2!F205","v":0},{"$f":"Раздел2!F217","v":0},{"$f":"Раздел2!H217","v":0},{"$f":"Раздел2!I205","v":0},{"$f":"Раздел2!J205","v":0},{"$f":"Раздел2!K205","v":0},null,null,null,null,null,null,null,null,{"$f":"Раздел2!D209","v":0}]
[null,"   Блочный лук","198",0,{"$f":"Раздел2!H206","v":0},null,null,null,null,null,null,null,null,null,null,null,null,null,null,null,0,null,null,null,null,0,null,null,null,null,null,null,{"$f":"Раздел2!F206","v":0},{"$f":"Раздел2!F219","v":0},{"$f":"Раздел2!H219","v":0},{"$f":"Раздел2!I206","v":0},{"$f":"Раздел2!J206","v":0},{"$f":"Раздел2!K206","v":0},null,null,null,null,null,null,null,null,{"$f":"Раздел2!D211","v":0}]
[null,"   Ачери ","199",0,{"$f":"Раздел2!H207","v":0},null,null,null,null,null,null,null,null,null,null,null,null,null,null,null,0,null,null,null,null,0,null,null,null,null,null,null,{"$f":"Раздел2!F207","v":0},{"$f":"Раздел2!F220","v":0},{"$f":"Раздел2!H220","v":0},{"$f":"Раздел2!I207","v":0},{"$f":"Раздел2!J207","v":0},{"$f":"Раздел2!K207","v":0},null,null,null,null,null,null,null,null,{"$f":"Раздел2!D212","v":0}]
[null,"Судомодельный спорт","200",0,{"$f":"Раздел2!H208","v":0},null,null,null,null,null,null,null,null,null,null,null,null,null,null,null,0,null,null,null,null,0,null,null,null,null,null,null,{"$f":"Раздел2!F208","v":0},{"$f":"Раздел2!F221","v":0},{"$f":"Раздел2!H221","v":0},{"$f":"Раздел2!I208","v":0},{"$f":"Раздел2!J208","v":0},{"$f":"Раздел2!K208","v":0},null,null,null,null,null,null,null,null,{"$f":"Раздел2!D213","v":0}]
[null,"Сумо","201",0,{"$f":"Раздел2!H209","v":0},null,null,null,null,null,null,null,null,null,null,null,null,null,null,null,0,null,null,null,null,0,null,null,null,null,null,null,{"$f":"Раздел2!F209","v":0},{"$f":"Раздел2!F222","v":0},{"$f":"Раздел2!H222","v":0},{"$f":"Раздел2!I209","v":0},{"$f":"Раздел2!J209","v":0},{"$f":"Раздел2!K209","v":0},null,null,null,null,null,null,null,null,{"$f":"Раздел2!D214","v":0}]
[null,"Таврели","202",0,{"$f":"Раздел2!H210","v":0},null,null,null,null,null,null,null,null,null,null,null,null,null,null,null,0,null,null,null,null,0,null,null,null,null,null,null,{"$f":"Раздел2!F210","v":0},{"$f":"Раздел2!F223","v":0},{"$f":"Раздел2!H223","v":0},{"$f":"Раздел2!I210","v":0},{"$f":"Раздел2!J210","v":0},{"$f":"Раздел2!K210","v":0},null,null,null,null,null,null,null,null,{"$f":"Раздел2!D215","v":0}]
[null,"Тайский бокс","203",0,{"$f":"Раздел2!H211","v":0},null,null,null,null,null,null,null,null,null,null,null,null,null,null,null,0,null,null,null,null,0,null,null,null,null,null,null,{"$f":"Раздел2!F211","v":0},{"$f":"Раздел2!F224","v":0},{"$f":"Раздел2!H224","v":0},{"$f":"Раздел2!I211","v":0},{"$f":"Раздел2!J211","v":0},{"$f":"Раздел2!K211","v":0},null,null,null,null,null,null,null,null,{"$f":"Раздел2!D216","v":0}]
[null,"Танцевальный спорт","204",0,{"$f":"Раздел2!H212","v":0},null,null,null,null,null,null,null,null,null,null,null,null,null,null,null,0,null,null,null,null,0,null,null,null,null,null,null,{"$f":"Раздел2!F212","v":0},{"$f":"Раздел2!F225","v":0},{"$f":"Раздел2!H225","v":0},{"$f":"Раздел2!I212","v":0},{"$f":"Раздел2!J212","v":0},{"$f":"Раздел2!K212","v":0},null,null,null,"Частично перешли",{"$f":"SUM(Раздел2!H226:K226)","v":0},null,null,null,{"$f":"Раздел2!D217","v":0}]
[null,"Теннис","205",0,{"$f":"Раздел2!H213","v":0},null,null,null,null,null,null,null,null,null,null,null,null,null,null,null,0,null,null,null,null,0,null,null,null,null,null,null,{"$f":"Раздел2!F213","v":0},{"$f":"Раздел2!F226","v":0},{"$f":"Раздел2!H226","v":0},{"$f":"Раздел2!I213","v":0},{"$f":"Раздел2!J213","v":0},{"$f":"Раздел2!K213","v":0},null,null,null,{"$f":"Раздел1!G18","v":0},null,null,null,null,{"$f":"Раздел2!D219","v":0}]
[null,"Триатлон","206",0,{"$f":"Раздел2!H214","v":0},null,null,null,null,null,null,null,null,null,null,null,null,null,null,null,0,null,null,null,null,0,null,null,null,null,null,null,{"$f":"Раздел2!F214","v":0},{"$f":"Раздел2!F227","v":0},{"$f":"Раздел2!H227","v":0},{"$f":"Раздел2!I214","v":0},{"$f":"Раздел2!J214","v":0},{"$f":"Раздел2!K214","v":0},null,null,null,"Полностью перешли",null,null,null,null,{"$f":"Раздел2!D220","v":0}]
[null,"Тхэквондо - всего","207",0,{"$f":"Раздел2!H215","v":0},{"$f":"SUM(F215:F216)","v":0},{"$f":"SUM(G215:G216)","v":0},0,0,0,0,0,0,0,0,0,0,0,0,0,0,0,0,0,0,0,0,0,0,0,null,null,{"$f":"Раздел2!F215","v":0},{"$f":"Раздел2!F228","v":0},{"$f":"Раздел2!H228","v":0},{"$f":"Раздел2!I215","v":0},{"$f":"Раздел2!J215","v":0},{"$f":"Раздел2!K215","v":0},null,null,null,{"$f":"Раздел1!J18","v":0},null,null,null,null,{"$f":"Раздел2!D221","v":0}]
[null,"в том числе:\nТхэквондо (ВТФ)","208",0,{"$f":"Раздел2!H216","v":0},null,null,null,null,null,null,null,null,null,null,null,null,null,null,null,0,null,null,null,null,0,null,null,null,null,null,null,{"$f":"Раздел2!F216","v":0},{"$f":"Раздел2!F229","v":0},{"$f":"Раздел2!H229","v":0},{"$f":"Раздел2!I216","v":0},{"$f":"Раздел2!J216","v":0},{"$f":"Раздел2!K216","v":0},null,null,null,null,null,null,null,null,{"$f":"Раздел2!D222","v":0}]
[null,"Тхэквондо (ГТФ, МФТ)","209",0,{"$f":"Раздел2!H217","v":0},null,null,null,null,null,null,null,null,null,null,null,null,null,null,null,0,null,null,null,null,0,null,null,null,null,null,null,{"$f":"Раздел2!F217","v":0},{"$f":"Раздел2!F230","v":0},{"$f":"Раздел2!H230","v":0},{"$f":"Раздел2!I217","v":0},{"$f":"Раздел2!J217","v":0},{"$f":"Раздел2!K217","v":0},null,null,null,null,null,null,null,null,{"$f":"Раздел2!D223","v":0}]
[null,"Тхэквондо ИТФ","210",0,{"$f":"Раздел2!H218","v":0},null,null,null,null,null,null,null,null,null,null,null,null,null,null,null,0,null,null,null,null,0,null,null,null,null,null,null,{"$f":"Раздел2!F218","v":0},{"$f":"Раздел2!F231","v":0},{"$f":"Раздел2!H231","v":0},{"$f":"Раздел2!I218","v":0},{"$f":"Раздел2!J218","v":0},{"$f":"Раздел2!K218","v":0},null,null,null,null,null,null,null,null,{"$f":"Раздел2!D224","v":0}]
[null,"Тяжелая атлетика","211",0,{"$f":"Раздел2!H219","v":0},null,null,null,null,null,null,null,null,null,null,null,null,null,null,null,0,null,null,null,null,0,null,null,null,null,null,null,{"$f":"Раздел2!F219","v":0},{"$f":"Раздел2!F232","v":0},{"$f":"Раздел2!H232","v":0},{"$f":"Раздел2!I219","v":0},{"$f":"Раздел2!J219","v":0},{"$f":"Раздел2!K219","v":0},null,null,null,null,null,null,null,null,{"$f":"Раздел2!D225","v":0}]
[null,"Универсальный бой","212",0,{"$f":"Раздел2!H220","v":0},null,null,null,null,null,null,null,null,null,null,null,null,null,null,null,0,null,null,null,null,0,null,null,null,null,null,null,{"$f":"Раздел2!F220","v":0},{"$f":"Раздел2!F234","v":0},{"$f":"Раздел2!H234","v":0},{"$f":"Раздел2!I220","v":0},{"$f":"Раздел2!J220","v":0},{"$f":"Раздел2!K220","v":0},null,null,null,null,null,null,null,null,{"$f":"Раздел2!D226","v":0}]
[null,"Ушу","213",0,{"$f":"Раздел2!H221","v":0},null,null,null,null,null,null,null,null,null,null,null,null,null,null,null,0,null,null,null,null,0,null,null,null,null,null,null,{"$f":"Раздел2!F221","v":0},{"$f":"Раздел2!F235","v":0},{"$f":"Раздел2!H235","v":0},{"$f":"Раздел2!I221","v":0},{"$f":"Раздел2!J221","v":0},{"$f":"Раздел2!K221","v":0},null,null,null,null,null,null,null,null,{"$f":"Раздел2!D227","v":0}]
[null,"Фехтование - всего","214",0,{"$f":"Раздел2!H222","v":0},{"$f":"SUM(F222:F225)","v":0},{"$f":"SUM(G222:G225)","v":0},0,0,0,0,0,0,0,0,0,0,0,0,0,0,0,0,0,0,0,0,0,0,0,null,null,{"$f":"Раздел2!F222","v":0},{"$f":"Раздел2!F236","v":0},{"$f":"Раздел2!H236","v":0},{"$f":"Раздел2!I222","v":0},{"$f":"Раздел2!J222","v":0},{"$f":"Раздел2!K222","v":0},null,null,null,null,null,null,null,null,{"$f":"Раздел2!D228","v":0}]
[null,"в том числе:\nРапира","215",0,{"$f":"Раздел2!H223","v":0},null,null,null,null,null,null,null,null,null,null,null,null,null,null,null,0,null,null,null,null,0,null,null,null,null,null,null,{"$f":"Раздел2!F223","v":0},{"$f":"Раздел2!F237","v":0},{"$f":"Раздел2!H237","v":0},{"$f":"Раздел2!I223","v":0},{"$f":"Раздел2!J223","v":0},{"$f":"Раздел2!K223","v":0},null,null,null,null,null,null,null,null,{"$f":"Раздел2!D229","v":0}]
[null,"Сабля","216",0,{"$f":"Раздел2!H224","v":0},null,null,null,null,null,null,null,null,null,null,null,null,null,null,null,0,null,null,null,null,0,null,null,null,null,null,null,{"$f":"Раздел2!F224","v":0},{"$f":"Раздел2!F238","v":0},{"$f":"Раздел2!H238","v":0},{"$f":"Раздел2!I224","v":0},{"$f":"Раздел2!J224","v":0},{"$f":"Раздел2!K224","v":0},null,null,null,null,null,null,null,null,{"$f":"Раздел2!D230","v":0}]
[null,"Шпага","217",0,{"$f":"Раздел2!H225","v":0},null,null,null,null,null,null,null,null,null,null,null,null,null,null,null,0,null,null,null,null,0,null,null,null,null,null,null,{"$f":"Раздел2!F225","v":0},{"$f":"Раздел2!F239","v":30},{"$f":"Раздел2!H239","v":0},{"$f":"Раздел2!I225","v":0},{"$f":"Раздел2!J225","v":0},{"$f":"Раздел2!K225","v":0},null,null,null,null,null,null,null,null,{"$f":"Раздел2!D231","v":0}]
[null,"Арт-фехтование","218",0,{"$f":"Раздел2!H226","v":0},null,null,null,null,null,null,null,null,null,null,null,null,null,null,null,0,null,null,null,null,0,null,null,null,null,null,null,{"$f":"Раздел2!F226","v":0},{"$f":"Раздел2!F240","v":30},{"$f":"Раздел2!H240","v":0},{"$f":"Раздел2!I226","v":0},{"$f":"Раздел2!J226","v":0},{"$f":"Раздел2!K226","v":0},null,null,null,null,null,null,null,null,{"$f":"Раздел2!D232","v":0}]
[null,"Фигурное катание на коньках","219",0,{"$f":"Раздел2!H227","v":0},null,null,null,null,null,null,null,null,null,null,null,null,null,null,null,0,null,null,null,null,0,null,null,null,null,null,null,{"$f":"Раздел2!F227","v":0},{"$f":"Раздел2!F241","v":0},{"$f":"Раздел2!H241","v":0},{"$f":"Раздел2!I227","v":0},{"$f":"Раздел2!J227","v":0},{"$f":"Раздел2!K227","v":0},null,null,null,null,null,null,null,null,{"$f":"Раздел2!D234","v":0}]
[null,"Фитнес-аэробика","220",0,{"$f":"Раздел2!H228","v":0},null,null,null,null,null,null,null,null,null,null,null,null,null,null,null,0,null,null,null,null,0,null,null,null,null,null,null,{"$f":"Раздел2!F228","v":0},{"$f":"Раздел2!F242","v":0},{"$f":"Раздел2!H242","v":0},{"$f":"Раздел2!I228","v":0},{"$f":"Раздел2!J228","v":0},{"$f":"Раздел2!K228","v":0},null,null,null,null,null,null,null,null,{"$f":"Раздел2!D235","v":0}]
[null,"Флаинг диск","221",0,{"$f":"Раздел2!H229","v":0},null,null,null,null,null,null,null,null,null,null,null,null,null,null,null,0,null,null,null,null,0,null,null,null,null,null,null,{"$f":"Раздел2!F229","v":0},{"$f":"Раздел2!F243","v":0},{"$f":"Раздел2!H243","v":0},{"$f":"Раздел2!I229","v":0},{"$f":"Раздел2!J229","v":0},{"$f":"Раздел2!K229","v":0},null,null,null,null,null,null,null,null,{"$f":"Раздел2!D236","v":0}]
[null,"Флорбол","222",0,{"$f":"Раздел2!H230","v":0},null,null,null,null,null,null,null,null,null,null,null,null,null,null,null,0,null,null,null,null,0,null,null,null,null,null,null,{"$f":"Раздел2!F230","v":0},{"$f":"Раздел2!F246","v":0},{"$f":"Раздел2!H246","v":0},{"$f":"Раздел2!I230","v":0},{"$f":"Раздел2!J230","v":0},{"$f":"Раздел2!K230","v":0},null,null,null,null,null,null,null,null,{"$f":"Раздел2!D237","v":0}]
[null,"Фристайл - всего","223",0,{"$f":"Раздел2!H231","v":0},{"$f":"SUM(F231:F236)","v":0},{"$f":"SUM(G231:G236)","v":0},0,0,0,0,0,0,0,0,0,0,0,0,0,0,0,0,0,0,0,0,0,0,0,null,null,{"$f":"Раздел2!F231","v":0},{"$f":"Раздел2!F247","v":0},{"$f":"Раздел2!H247","v":0},{"$f":"Раздел2!I231","v":0},{"$f":"Раздел2!J231","v":0},{"$f":"Раздел2!K231","v":0},null,null,null,null,null,null,null,null,{"$f":"Раздел2!D238","v":0}]
[null,"в том числе:\nАкробатика","224",0,{"$f":"Раздел2!H232","v":0},null,null,null,null,null,null,null,null,null,null,null,null,null,null,null,0,null,null,null,null,0,null,null,null,null,null,null,{"$f":"Раздел2!F232","v":0},{"$f":"Раздел2!F248","v":0},{"$f":"Раздел2!H248","v":0},{"$f":"Раздел2!I232","v":0},{"$f":"Раздел2!J232","v":0},{"$f":"Раздел2!K232","v":0},null,null,null,null,null,null,null,null,{"$f":"Раздел2!D239","v":1}]
[null,"Биг-эйр","225",0,{"$f":"Раздел2!H233","v":0},null,null,null,null,null,null,null,null,null,null,null,null,null,null,null,0,null,null,null,null,0,null,null,null,null,null,null,{"$f":"Раздел2!F233","v":0},{"$f":"Раздел2!F249","v":0},{"$f":"Раздел2!H249","v":0},{"$f":"Раздел2!I233","v":0},{"$f":"Раздел2!J233","v":0},{"$f":"Раздел2!K233","v":0},null,null,null,null,null,null,null,null,{"$f":"Раздел2!D240","v":1}]
[null,"Могул","226",0,{"$f":"Раздел2!H234","v":0},null,null,null,null,null,null,null,null,null,null,null,null,null,null,null,0,null,null,null,null,0,null,null,null,null,null,null,{"$f":"Раздел2!F234","v":0},null,null,{"$f":"Раздел2!I234","v":0},{"$f":"Раздел2!J234","v":0},{"$f":"Раздел2!K234","v":0},null,null,null,null,null,null,null,null,{"$f":"Раздел2!D241","v":0}]
[null,"Ски-кросс","227",0,{"$f":"Раздел2!H235","v":0},null,null,null,null,null,null,null,null,null,null,null,null,null,null,null,0,null,null,null,null,0,null,null,null,null,null,null,{"$f":"Раздел2!F235","v":0},null,null,{"$f":"Раздел2!I235","v":0},{"$f":"Раздел2!J235","v":0},{"$f":"Раздел2!K235","v":0},null,null,null,null,null,null,null,null,{"$f":"Раздел2!D242","v":0}]
[null,"Хаф-пайп","228",0,{"$f":"Раздел2!H236","v":0},null,null,null,null,null,null,null,null,null,null,null,null,null,null,null,0,null,null,null,null,0,null,null,null,null,null,null,{"$f":"Раздел2!F236","v":0},null,null,{"$f":"Раздел2!I236","v":0},{"$f":"Раздел2!J236","v":0},{"$f":"Раздел2!K236","v":0},null,null,null,null,null,null,null,null,{"$f":"Раздел2!D243","v":0}]
[null,"Слоуп-стайл","229",0,{"$f":"Раздел2!H237","v":0},null,null,null,null,null,null,null,null,null,null,null,null,null,null,null,0,null,null,null,null,0,null,null,null,null,null,null,{"$f":"Раздел2!F237","v":0},null,null,{"$f":"Раздел2!I237","v":0},{"$f":"Раздел2!J237","v":0},{"$f":"Раздел2!K237","v":0},null,null,null,null,null,null,null,null,{"$f":"Раздел2!D246","v":0}]
[null,"Функциональное многоборье","230",0,{"$f":"Раздел2!H238","v":0},null,null,null,null,null,null,null,null,null,null,null,null,null,null,null,0,null,null,null,null,0,null,null,null,null,null,null,{"$f":"Раздел2!F238","v":0},null,null,{"$f":"Раздел2!I238","v":0},{"$f":"Раздел2!J238","v":0},{"$f":"Раздел2!K238","v":0},null,null,null,null,null,null,null,null,{"$f":"Раздел2!D247","v":0}]
[null,"Футбол - всего","231",0,{"$f":"Раздел2!H239","v":0},{"$f":"SUM(F239:F242)","v":0},{"$f":"SUM(G239:G242)","v":0},0,0,0,0,0,0,0,0,0,0,0,0,0,0,0,0,0,0,0,0,0,0,0,null,null,{"$f":"Раздел2!F239","v":30},null,null,{"$f":"Раздел2!I239","v":0},{"$f":"Раздел2!J239","v":0},{"$f":"Раздел2!K239","v":0},null,null,null,null,null,null,null,null,{"$f":"Раздел2!D248","v":0}]
[null,"в том числе:\nФутбол (муж.)","232",0,{"$f":"Раздел2!H240","v":0},null,null,null,null,null,null,null,null,null,null,null,null,null,null,null,0,null,null,null,null,0,null,null,null,null,null,null,{"$f":"Раздел2!F240","v":30},null,null,{"$f":"Раздел2!I240","v":0},{"$f":"Раздел2!J240","v":0},{"$f":"Раздел2!K240","v":0},null,null,null,null,null,null,null,null,{"$f":"Раздел2!D249","v":0}]
[null,"Футбол (жен.)","233",0,{"$f":"Раздел2!H241","v":0},null,null,null,null,null,null,null,null,null,null,null,null,null,null,null,0,null,null,null,null,0,null,null,null,null,null,null,{"$f":"Раздел2!F241","v":0},null,null,{"$f":"Раздел2!I241","v":0},{"$f":"Раздел2!J241","v":0},{"$f":"Раздел2!K241","v":0},null,null,null,null,null,null,null,null,{"$f":"Раздел2!D250","v":0}]
[null,"Мини-футбол (футзал)","234",0,{"$f":"Раздел2!H242","v":0},null,null,null,null,null,null,null,null,null,null,null,null,null,null,null,0,null,null,null,null,0,null,null,null,null,null,null,{"$f":"Раздел2!F242","v":0},null,null,{"$f":"Раздел2!I242","v":0},{"$f":"Раздел2!J242","v":0},{"$f":"Раздел2!K242","v":0},null,null,null,null,null,null,null,null,{"$f":"Раздел2!D251","v":0}]
[null,"Пляжный футбол","235",0,{"$f":"Раздел2!H243","v":0},null,null,null,null,null,null,null,null,null,null,null,null,null,null,null,0,null,null,null,null,0,null,null,null,null,null,null,{"$f":"Раздел2!F243","v":0},null,null,{"$f":"Раздел2!I243","v":0},{"$f":"Раздел2!J243","v":0},{"$f":"Раздел2!K243","v":0},null,null,null,null,null,null,null,null,{"$f":"Раздел2!D252","v":0}]
[null,"Футгольф","236",0,{"$f":"Раздел2!H244","v":0},null,null,null,null,null,null,null,null,null,null,null,null,null,null,null,0,null,null,null,null,0,null,null,null,null,null,null,{"$f":"Раздел2!F244","v":0},null,null,{"$f":"Раздел2!I244","v":0},{"$f":"Раздел2!J244","v":0},{"$f":"Раздел2!K244","v":0},null,null,null,null,null,null,null,null,{"$f":"Раздел2!D253","v":0}]
[null,"Хапкидо","237",0,{"$f":"Раздел2!H245","v":0},null,null,null,null,null,null,null,null,null,null,null,null,null,null,null,0,null,null,null,null,0,null,null,null,null,null,null,{"$f":"Раздел2!F245","v":0},null,null,{"$f":"Раздел2!I245","v":0},{"$f":"Раздел2!J245","v":0},{"$f":"Раздел2!K245","v":0},null,null,null,null,null,null,null,null,{"$f":"Раздел2!D254","v":0}]
[null,"Хапсагай","238",0,{"$f":"Раздел2!H246","v":0},null,null,null,null,null,null,null,null,null,null,null,null,null,null,null,0,null,null,null,null,0,null,null,null,null,null,null,{"$f":"Раздел2!F246","v":0},null,null,{"$f":"Раздел2!I246","v":0},{"$f":"Раздел2!J246","v":0},{"$f":"Раздел2!K246","v":0},null,null,null,null,null,null,null,null,{"$f":"Раздел2!D255","v":0}]
[null,"Хоккей - всего","239",0,{"$f":"Раздел2!H247","v":0},{"$f":"SUM(F247:F248)","v":0},{"$f":"SUM(G247:G248)","v":0},0,0,0,0,0,0,0,0,0,0,0,0,0,0,0,0,0,0,0,0,0,0,0,null,null,{"$f":"Раздел2!F247","v":0},null,null,{"$f":"Раздел2!I247","v":0},{"$f":"Раздел2!J247","v":0},{"$f":"Раздел2!K247","v":0},null,null,null,null,null,null,null,null,{"$f":"Раздел2!D256","v":0}]
[null,"в том числе:\nХоккей (муж.)","240",0,{"$f":"Раздел2!H248","v":0},null,null,null,null,null,null,null,null,null,null,null,null,null,null,null,0,null,null,null,null,0,null,null,null,null,null,null,{"$f":"Раздел2!F248","v":0},null,null,{"$f":"Раздел2!I248","v":0},{"$f":"Раздел2!J248","v":0},{"$f":"Раздел2!K248","v":0},null,null,null,null,null,null,null,null,{"$f":"Раздел2!D257","v":0}]
[null,"Хоккей (жен.)","241",0,{"$f":"Раздел2!H249","v":0},null,null,null,null,null,null,null,null,null,null,null,null,null,null,null,0,null,null,null,null,0,null,null,null,null,null,null,{"$f":"Раздел2!F249","v":0},null,null,{"$f":"Раздел2!I249","v":0},{"$f":"Раздел2!J249","v":0},{"$f":"Раздел2!K249","v":0},null,null,null,null,null,null,null,null,{"$f":"Раздел2!D258","v":1}]
[null,"Хоккей на траве - всего","242",0,{"$f":"Раздел2!H250","v":0},{"$f":"SUM(F250:F252)","v":0},{"$f":"SUM(G250:G252)","v":0},0,0,0,0,0,0,0,0,0,0,0,0,0,0,0,0,0,0,0,0,0,0,0,null,null,{"$f":"Раздел2!F250","v":0},null,null,{"$f":"Раздел2!I250","v":0},{"$f":"Раздел2!J250","v":0},{"$f":"Раздел2!K250","v":0},null,null,null,null,null,null,null,null,{"$f":"Раздел2!D259","v":0}]
[null,"в том числе:\nХоккей на траве (муж.)","243",0,{"$f":"Раздел2!H251","v":0},null,null,null,null,null,null,null,null,null,null,null,null,null,null,null,0,null,null,null,null,0,null,null,null,null,null,null,{"$f":"Раздел2!F251","v":0},null,null,{"$f":"Раздел2!I251","v":0},{"$f":"Раздел2!J251","v":0},{"$f":"Раздел2!K251","v":0},null,null,null,null,null,null,null,null,{"$f":"Раздел2!D260","v":0}]
[null,"Хоккей на траве (жен.)","244",0,{"$f":"Раздел2!H252","v":0},null,null,null,null,null,null,null,null,null,null,null,null,null,null,null,0,null,null,null,null,0,null,null,null,null,null,null,{"$f":"Раздел2!F252","v":0},null,null,{"$f":"Раздел2!I252","v":0},{"$f":"Раздел2!J252","v":0},{"$f":"Раздел2!K252","v":0},null,null,null,null,null,null,null,null,{"$f":"Раздел2!D261","v":0}]
[null,"Индорхоккей","245",0,{"$f":"Раздел2!H253","v":0},null,null,null,null,null,null,null,null,null,null,null,null,null,null,null,0,null,null,null,null,0,null,null,null,null,null,null,{"$f":"Раздел2!F253","v":0},null,null,{"$f":"Раздел2!I253","v":0},{"$f":"Раздел2!J253","v":0},{"$f":"Раздел2!K253","v":0},null,null,null,null,null,null,null,null,{"$f":"Раздел2!D262","v":0}]
[null,"Хоккей с мячом","246",0,{"$f":"Раздел2!H254","v":0},null,null,null,null,null,null,null,null,null,null,null,null,null,null,null,0,null,null,null,null,0,null,null,null,null,null,null,{"$f":"Раздел2!F254","v":0},null,null,{"$f":"Раздел2!I254","v":0},{"$f":"Раздел2!J254","v":0},{"$f":"Раздел2!K254","v":0},null,null,null,{"$f":"SUM(Раздел2!H263:K263,Раздел2!U263,Раздел2!W263)","v":680},null,null,null,null,{"$f":"Раздел2!D263","v":8}]
[null,"Художественная гимнастика","247",0,{"$f":"Раздел2!H255","v":0},null,null,null,null,null,null,null,null,null,null,null,null,null,null,null,0,null,null,null,null,0,null,null,null,null,null,null,{"$f":"Раздел2!F255","v":0},null,null,{"$f":"Раздел2!I255","v":0},{"$f":"Раздел2!J255","v":0},{"$f":"Раздел2!K255","v":0}]
[null,"Хуреш","248",0,{"$f":"Раздел2!H256","v":0},null,null,null,null,null,null,null,null,null,null,null,null,null,null,null,0,null,null,null,null,0,null,null,null,null,null,null,{"$f":"Раздел2!F256","v":0},null,null,{"$f":"Раздел2!I256","v":0},{"$f":"Раздел2!J256","v":0},{"$f":"Раздел2!K256","v":0}]
[null,"Чир спорт","249",0,{"$f":"Раздел2!H257","v":0},null,null,null,null,null,null,null,null,null,null,null,null,null,null,null,0,null,null,null,null,0,null,null,null,null,null,null,{"$f":"Раздел2!F257","v":0},null,null,{"$f":"Раздел2!I257","v":0},{"$f":"Раздел2!J257","v":0},{"$f":"Раздел2!K257","v":0}]
[null,"Шахматы","250",0,{"$f":"Раздел2!H258","v":0},null,null,null,null,null,null,null,null,null,null,null,null,null,null,null,0,null,null,null,null,0,null,null,null,null,null,null,{"$f":"Раздел2!F258","v":220},null,null,{"$f":"Раздел2!I258","v":0},{"$f":"Раздел2!J258","v":0},{"$f":"Раздел2!K258","v":0}]
[null,"Шашки","251",0,{"$f":"Раздел2!H259","v":0},null,null,null,null,null,null,null,null,null,null,null,null,null,null,null,0,null,null,null,null,0,null,null,null,null,null,null,{"$f":"Раздел2!F259","v":0},null,null,{"$f":"Раздел2!I259","v":0},{"$f":"Раздел2!J259","v":0},{"$f":"Раздел2!K259","v":0}]
[null,"Шодсанлат","252",0,{"$f":"Раздел2!H260","v":0},null,null,null,null,null,null,null,null,null,null,null,null,null,null,null,0,null,null,null,null,0,null,null,null,null,null,null,{"$f":"Раздел2!F260","v":0},null,null,{"$f":"Раздел2!I260","v":0},{"$f":"Раздел2!J260","v":0},{"$f":"Раздел2!K260","v":0}]
[null,"Эстетическая гимнастика","253",0,{"$f":"Раздел2!H261","v":0},null,null,null,null,null,null,null,null,null,null,null,null,null,null,null,0,null,null,null,null,0,null,null,null,null,null,null,{"$f":"Раздел2!F261","v":0},null,null,{"$f":"Раздел2!I261","v":0},{"$f":"Раздел2!J261","v":0},{"$f":"Раздел2!K261","v":0}]
[null,"Якутские национальные прыжки","254",0,{"$f":"Раздел2!H262","v":0},null,null,null,null,null,null,null,null,null,null,null,null,null,null,null,0,null,null,null,null,0,null,null,null,null,null,null,{"$f":"Раздел2!F262","v":0},null,null,{"$f":"Раздел2!I262","v":0},{"$f":"Раздел2!J262","v":0},{"$f":"Раздел2!K262","v":0}]
[null,"ИТОГО","255",0,{"$f":"Раздел2!H263","v":0},{"$f":"SUM(F8:F19,F22:F25,F28:F32,F37:F40,F43:F48,F53:F55,F59:F68,F73:F82,F86:F92,F95:F99,F107:F121,F124:F129,F132,F137:F138,F144:F147,F152:F184,F190:F196,F201:F203,F207:F214,F217:F221,F226:F230,F237:F238,F243:F246,F249,F253:F261)","v":0},{"$f":"SUM(G8:G19,G22:G25,G28:G32,G37:G40,G43:G48,G53:G55,G59:G68,G73:G82,G86:G92,G95:G99,G107:G121,G124:G129,G132,G137:G138,G144:G147,G152:G184,G190:G196,G201:G203,G207:G214,G217:G221,G226:G230,G237:G238,G243:G246,G249,G253:G261)","v":0},0,0,0,0,0,0,0,0,0,0,0,0,0,0,0,0,0,0,0,0,0,0,0,null,null,{"$f":"Раздел2!F263","v":680},null,null,{"$f":"Раздел2!I263","v":0},{"$f":"Раздел2!J263","v":0},{"$f":"Раздел2!K263","v":0},null,null,{"$f":"Раздел2!Y263","v":680}]

{"sheet":"Раздел4","index":4,"n_rows":9,"n_cols":23,"rows_kept":9,"cut":false,"hidden":false,"merged":[[3,19,5,19],[4,18,5,18],[4,17,5,17],[4,5,5,5],[4,6,5,6],[4,4,5,4],[4,13,5,13],[4,14,5,14],[4,15,5,15],[4,16,5,16],[2,0,5,0],[0,0,0,20],[2,2,5,2],[4,7,5,7],[4,8,5,8],[4,9,5,9],[4,10,5,10],[4,11,5,11],[4,12,5,12],[2,1,5,1],[2,3,2,15],[3,3,3,15],[2,16,2,20],[3,16,3,18],[3,20,5,20],[4,3,5,3]]}
["Раздел IV. Численность занимающихся в организациях, осуществляющих реализацию программ спортивной подготовки, в возрасте от 5 до 18 лет"]
[null,null,null,null,null,null,null,null,null,null,null,null,null,null,null,null,null,null,null,null,"Код по ОКЕИ: человек - 792"]
["Наименование показателя","№ строки","Всего","Возрастной состав занимающихся (число полных лет по состоянию на 31 декабря отчетного года)",null,null,null,null,null,null,null,null,null,null,null,null,"Распределение численности занимающихся по источникам финансирования (из гр. 6-10 раздела II)"]
[null,null,null,"(из гр. 6-10 раздела II)",null,null,null,null,null,null,null,null,null,null,null,null,"За счет бюджетных ассигнований:",null,null,"По договорам об оказании платных услуг","Из иных внебюджетных источников"]
[null,null,null,5,6,7,8,9,10,11,12,13,14,15,16,17,"федерального бюджета","бюджета субъекта РФ","местного бюджета"]
[]
[1,2,3,4,5,6,7,8,9,10,11,12,13,14,15,16,17,18,19,20,21]
["Численность занимающихся в организациях, осуществляющих реализацию программ спортивной подготовки, в возрасте от 5 до 18 лет","01",{"$f":"Раздел2!Q263","v":0},null,null,null,null,null,null,null,null,null,null,null,null,null,null,null,null,null,null,{"$f":"SUM(Раздел2!Q263)","v":0},{"$f":"Раздел2!Q263","v":0}]
[null,null,null,null,null,null,null,null,null,null,null,null,null,null,null,null,null,null,null,null,null,null,{"$f":"SUM(Раздел2!G263:'Раздел2'!K263)","v":0}]

{"sheet":"Раздел5","index":5,"n_rows":262,"n_cols":30,"rows_kept":262,"cut":false,"hidden":false,"merged":[[3,21,3,24],[4,14,4,16],[1,16,1,24],[4,21,5,21],[3,4,3,7],[4,18,4,20],[2,28,5,28],[2,3,2,11],[3,12,5,12],[4,22,4,24],[4,8,5,8],[3,13,3,16],[3,8,3,11],[4,5,4,7],[3,3,5,3],[2,27,5,27],[0,25,122,25],[0,1,0,24],[4,13,5,13],[2,12,2,24],[3,17,3,20],[4,17,5,17],[0,0,122,0],[2,1,5,1],[2,2,5,2],[4,4,5,4],[4,9,4,11]]}
[null,"Раздел V. Спортивные разряды, спортивные звания"]
[null,null,null,null,null,null,null,null,null,null,null,null,null,null,null,null,"Код по ОКЕИ: человек – 792, единица – 642"]
[null,"Виды спорта","№ строки","Из числа занимающихся (гр. 5 раздела II)\nспортсменов, имеющих разряды, звания, человек",null,null,null,null,null,null,null,null,"Разряды, звания, присвоенные и подтвержденные в отчетном году, единица",null,null,null,null,null,null,null,null,null,null,null,null,null,null,"Раздел2 графа3\nЧисло отделений","Раздел2 графа5\nЧисло отделений"]
[null,null,null,"Всего","спортивные разряды",null,null,null,"спортивные звания",null,null,null,"Всего","спортивные разряды присвоенные",null,null,null,"спортивные разряды подтвержденные",null,null,null,"спортивные звания присвоенные"]
[null,null,null,null,"Всего","в том числе:",null,null,"Всего","в том числе:",null,null,null,"Всего","в том числе:",null,null,"Всего","в том числе:",null,null,"Всего","в том числе:"]
[null,null,null,null,null,"КМС","1 разряд","другие разряды",null,"ЗМС","МСМК","МС",null,null,"КМС","1 разряд","другие разряды",null,"КМС","1 разряд","другие разряды",null,"ЗМС","МСМК","МС"]
[null,1,2,3,4,5,6,7,8,9,10,11,12,13,14,15,16,17,18,19,20,21,22,23,24]
[null,"Авиамодельный спорт","01",{"$f":"SUM(E8,I8)","v":0},{"$f":"SUM(F8:H8)","v":0},null,null,null,{"$f":"SUM(J8:L8)","v":0},null,null,null,{"$f":"SUM(N8,V8)","v":0},{"$f":"SUM(O8:Q8)","v":0},null,null,null,{"$f":"SUM(S8:U8)","v":0},null,null,null,{"$f":"SUM(W8:Y8)","v":0},null,null,null,null,null,{"$f":"Раздел2!#REF!","v":{"$error":"#REF!"}},{"$f":"Раздел2!F9","v":0},{"$f":"Раздел2!D9","v":0}]
[null,"Автомобильный спорт","02",{"$f":"SUM(E9,I9)","v":0},{"$f":"SUM(F9:H9)","v":0},null,null,null,{"$f":"SUM(J9:L9)","v":0},null,null,null,{"$f":"SUM(N9,V9)","v":0},{"$f":"SUM(O9:Q9)","v":0},null,null,null,{"$f":"SUM(S9:U9)","v":0},null,null,null,{"$f":"SUM(W9:Y9)","v":0},null,null,null,null,null,{"$f":"Раздел2!#REF!","v":{"$error":"#REF!"}},{"$f":"Раздел2!F10","v":0},{"$f":"Раздел2!D10","v":0}]
[null,"Автомодельный спорт","03",0,0,null,null,null,0,null,null,null,0,0,null,null,null,0,null,null,null,0,null,null,null,null,null,{"$f":"Раздел2!#REF!","v":{"$error":"#REF!"}},{"$f":"Раздел2!F11","v":0},{"$f":"Раздел2!D11","v":0}]
[null,"Айкидо","04",0,0,null,null,null,0,null,null,null,0,0,null,null,null,0,null,null,null,0,null,null,null,null,null,{"$f":"Раздел2!#REF!","v":{"$error":"#REF!"}},{"$f":"Раздел2!F12","v":0},{"$f":"Раздел2!D12","v":0}]
[null,"Айсшток","05",0,0,null,null,null,0,null,null,null,0,0,null,null,null,0,null,null,null,0,null,null,null,null,null,{"$f":"Раздел2!#REF!","v":{"$error":"#REF!"}},{"$f":"Раздел2!F13","v":0},{"$f":"Раздел2!D13","v":0}]
[null,"Акробатический рок-н-ролл","06",0,0,null,null,null,0,null,null,null,0,0,null,null,null,0,null,null,null,0,null,null,null,null,null,{"$f":"Раздел2!#REF!","v":{"$error":"#REF!"}},{"$f":"Раздел2!F14","v":0},{"$f":"Раздел2!D14","v":0}]
[null,"Альпинизм","07",0,0,null,null,null,0,null,null,null,0,0,null,null,null,0,null,null,null,0,null,null,null,null,null,{"$f":"Раздел2!#REF!","v":{"$error":"#REF!"}},{"$f":"Раздел2!F15","v":0},{"$f":"Раздел2!D15","v":0}]
[null,"Американский футбол","08",0,0,null,null,null,0,null,null,null,0,0,null,null,null,0,null,null,null,0,null,null,null,null,null,{"$f":"Раздел2!#REF!","v":{"$error":"#REF!"}},{"$f":"Раздел2!F16","v":0},{"$f":"Раздел2!D16","v":0}]
[null,"Армейский рукопашный бой","09",0,0,null,null,null,0,null,null,null,0,0,null,null,null,0,null,null,null,0,null,null,null,null,null,{"$f":"Раздел2!#REF!","v":{"$error":"#REF!"}},{"$f":"Раздел2!F17","v":0},{"$f":"Раздел2!D17","v":0}]
[null,"Армрестлинг","10",0,0,null,null,null,0,null,null,null,0,0,null,null,null,0,null,null,null,0,null,null,null,null,null,{"$f":"Раздел2!#REF!","v":{"$error":"#REF!"}},{"$f":"Раздел2!F18","v":0},{"$f":"Раздел2!D18","v":0}]
[null,"Бадминтон","11",0,0,null,null,null,0,null,null,null,0,0,null,null,null,0,null,null,null,0,null,null,null,null,null,{"$f":"Раздел2!#REF!","v":{"$error":"#REF!"}},{"$f":"Раздел2!F19","v":0},{"$f":"Раздел2!D19","v":0}]
[null,"Баскетбол - всего","12",0,0,{"$f":"SUM(F20:F21)","v":0},{"$f":"SUM(G20:G21)","v":0},0,0,0,0,0,0,0,0,0,0,0,0,0,0,0,0,0,0,null,null,{"$f":"Раздел2!#REF!","v":{"$error":"#REF!"}},{"$f":"Раздел2!F20","v":105},{"$f":"Раздел2!D20","v":1}]
[null,"в том числе:\nБаскетбол (муж.)","13",0,0,null,null,null,0,null,null,null,0,0,null,null,null,0,null,null,null,0,null,null,null,null,null,{"$f":"Раздел2!#REF!","v":{"$error":"#REF!"}},{"$f":"Раздел2!F21","v":52},{"$f":"Раздел2!D21","v":1}]
[null,"Баскетбол (жен.)","14",0,0,null,null,null,0,null,null,null,0,0,null,null,null,0,null,null,null,0,null,null,null,null,null,{"$f":"Раздел2!#REF!","v":{"$error":"#REF!"}},{"$f":"Раздел2!F22","v":53},{"$f":"Раздел2!D22","v":1}]
[null,"Бейсбол","15",0,0,null,null,null,0,null,null,null,0,0,null,null,null,0,null,null,null,0,null,null,null,null,null,{"$f":"Раздел2!#REF!","v":{"$error":"#REF!"}},{"$f":"Раздел2!F23","v":0},{"$f":"Раздел2!D23","v":0}]
[null,"Биатлон","16",0,0,null,null,null,0,null,null,null,0,0,null,null,null,0,null,null,null,0,null,null,null,null,null,{"$f":"Раздел2!#REF!","v":{"$error":"#REF!"}},{"$f":"Раздел2!F24","v":0},{"$f":"Раздел2!D24","v":0}]
[null,"Бильярдный спорт","17",0,0,null,null,null,0,null,null,null,0,0,null,null,null,0,null,null,null,0,null,null,null,null,null,{"$f":"Раздел2!#REF!","v":{"$error":"#REF!"}},{"$f":"Раздел2!F25","v":0},{"$f":"Раздел2!D25","v":0}]
[null,"Бобслей - всего","18",0,0,{"$f":"SUM(F26:F27)","v":0},{"$f":"SUM(G26:G27)","v":0},0,0,0,0,0,0,0,0,0,0,0,0,0,0,0,0,0,{"$f":"SUM(Y26:Y27)","v":0},null,null,{"$f":"Раздел2!#REF!","v":{"$error":"#REF!"}},{"$f":"Раздел2!F26","v":0},{"$f":"Раздел2!D26","v":0}]
[null,"в том числе:\nБобслей","19",0,0,null,null,null,0,null,null,null,0,0,null,null,null,0,null,null,null,0,null,null,null,null,null,{"$f":"Раздел2!#REF!","v":{"$error":"#REF!"}},{"$f":"Раздел2!F27","v":0},{"$f":"Раздел2!D27","v":0}]
[null,"Скелетон","20",0,0,null,null,null,0,null,null,null,0,0,null,null,null,0,null,null,null,0,null,null,null,null,null,{"$f":"Раздел2!#REF!","v":{"$error":"#REF!"}},{"$f":"Раздел2!F28","v":0},{"$f":"Раздел2!D28","v":0}]
[null,"Бодибилдинг","21",0,0,null,null,null,0,null,null,null,0,0,null,null,null,0,null,null,null,0,null,null,null,null,null,{"$f":"Раздел2!#REF!","v":{"$error":"#REF!"}},{"$f":"Раздел2!F29","v":0},{"$f":"Раздел2!D29","v":0}]
[null,"Бокс","22",0,0,null,null,null,0,null,null,null,0,0,null,null,null,0,null,null,null,0,null,null,null,null,null,{"$f":"Раздел2!#REF!","v":{"$error":"#REF!"}},{"$f":"Раздел2!F30","v":0},{"$f":"Раздел2!D30","v":0}]
[null,"Борьба на поясах","23",0,0,null,null,null,0,null,null,null,0,0,null,null,null,0,null,null,null,0,null,null,null,null,null,{"$f":"Раздел2!#REF!","v":{"$error":"#REF!"}},{"$f":"Раздел2!F31","v":0},{"$f":"Раздел2!D31","v":0}]
[null,"Боулинг","24",0,0,null,null,null,0,null,null,null,0,0,null,null,null,0,null,null,null,0,null,null,null,null,null,{"$f":"Раздел2!#REF!","v":{"$error":"#REF!"}},{"$f":"Раздел2!F32","v":0},{"$f":"Раздел2!D32","v":0}]
[null,"Велосипедный спорт - всего","25",0,0,{"$f":"SUM(F33:F36)","v":0},{"$f":"SUM(G33:G36)","v":0},0,0,0,0,0,0,0,0,0,0,0,0,0,0,0,0,0,0,null,null,{"$f":"Раздел2!#REF!","v":{"$error":"#REF!"}},{"$f":"Раздел2!F33","v":0},{"$f":"Раздел2!D33","v":0}]
[null,"в том числе:\nBMX","26",0,0,null,null,null,0,null,null,null,0,0,null,null,null,0,null,null,null,0,null,null,null,null,null,null,{"$f":"Раздел2!F34","v":0},{"$f":"Раздел2!D34","v":0}]
[null,"Маунтинбайк","27",0,0,null,null,null,0,null,null,null,0,0,null,null,null,0,null,null,null,0,null,null,null,null,null,null,{"$f":"Раздел2!F35","v":0},{"$f":"Раздел2!D35","v":0}]
[null,"Трек","28",0,0,null,null,null,0,null,null,null,0,0,null,null,null,0,null,null,null,0,null,null,null,null,null,null,{"$f":"Раздел2!F36","v":0},{"$f":"Раздел2!D36","v":0}]
[null,"Шоссе","29",0,0,null,null,null,0,null,null,null,0,0,null,null,null,0,null,null,null,0,null,null,null,null,null,null,{"$f":"Раздел2!F37","v":0},{"$f":"Раздел2!D37","v":0}]
[null,"Вертолетный спорт","30",0,0,null,null,null,0,null,null,null,0,0,null,null,null,0,null,null,null,0,null,null,null,null,null,{"$f":"Раздел2!#REF!","v":{"$error":"#REF!"}},{"$f":"Раздел2!F38","v":0},{"$f":"Раздел2!D38","v":0}]
[null,"Водно-моторный спорт","31",0,0,null,null,null,0,null,null,null,0,0,null,null,null,0,null,null,null,0,null,null,null,null,null,{"$f":"Раздел2!#REF!","v":{"$error":"#REF!"}},{"$f":"Раздел2!F39","v":0},{"$f":"Раздел2!D39","v":0}]
[null,"Водно-спасательное многоборье","32",0,0,null,null,null,0,null,null,null,0,0,null,null,null,0,null,null,null,0,null,null,null,null,null,null,{"$f":"Раздел2!F40","v":0},{"$f":"Раздел2!D40","v":0}]
[null,"Водное поло - всего ","33",0,0,{"$f":"SUM(F41:F42)","v":0},{"$f":"SUM(G41:G42)","v":0},0,0,0,0,0,0,0,0,0,0,0,0,0,0,0,0,0,0,null,null,{"$f":"Раздел2!#REF!","v":{"$error":"#REF!"}},{"$f":"Раздел2!F41","v":0},{"$f":"Раздел2!D41","v":0}]
[null,"в том числе:\nВодное поло (муж.)","34",0,0,null,null,null,0,null,null,null,0,0,null,null,null,0,null,null,null,0,null,null,null,null,null,{"$f":"Раздел2!#REF!","v":{"$error":"#REF!"}},{"$f":"Раздел2!F42","v":0},{"$f":"Раздел2!D42","v":0}]
[null,"Водное поло (жен.)","35",0,0,null,null,null,0,null,null,null,0,0,null,null,null,0,null,null,null,0,null,null,null,null,null,{"$f":"Раздел2!#REF!","v":{"$error":"#REF!"}},{"$f":"Раздел2!F43","v":0},{"$f":"Раздел2!D43","v":0}]
[null,"Воднолыжный спорт","36",0,0,null,null,null,0,null,null,null,0,0,null,null,null,0,null,null,null,0,null,null,null,null,null,{"$f":"Раздел2!#REF!","v":{"$error":"#REF!"}},{"$f":"Раздел2!F44","v":0},{"$f":"Раздел2!D44","v":0}]
[null,"Воздушно-силовая атлетика","37",0,0,null,null,null,0,null,null,null,0,0,null,null,null,0,null,null,null,0,null,null,null,null,null,{"$f":"Раздел2!#REF!","v":{"$error":"#REF!"}},{"$f":"Раздел2!F45","v":0},{"$f":"Раздел2!D45","v":0}]
[null,"Военно-прикладной спорт","38",0,0,null,null,null,0,null,null,null,0,0,null,null,null,0,null,null,null,0,null,null,null,null,null,{"$f":"Раздел2!#REF!","v":{"$error":"#REF!"}},{"$f":"Раздел2!F46","v":0},{"$f":"Раздел2!D46","v":0}]
[null,"Военно-спортивное многоборье","39",0,0,null,null,null,0,null,null,null,0,0,null,null,null,0,null,null,null,0,null,null,null,null,null,{"$f":"Раздел2!#REF!","v":{"$error":"#REF!"}},{"$f":"Раздел2!F47","v":0},{"$f":"Раздел2!D47","v":0}]
[null,"Воздухоплавательный спорт","40",0,0,null,null,null,0,null,null,null,0,0,null,null,null,0,null,null,null,0,null,null,null,null,null,{"$f":"Раздел2!#REF!","v":{"$error":"#REF!"}},{"$f":"Раздел2!F48","v":0},{"$f":"Раздел2!D48","v":0}]
[null,"Волейбол - всего","41",0,0,{"$f":"SUM(F49:F52)","v":0},{"$f":"SUM(G49:G52)","v":0},0,0,0,0,0,0,0,0,0,0,0,0,0,0,0,0,0,0,null,null,{"$f":"Раздел2!#REF!","v":{"$error":"#REF!"}},{"$f":"Раздел2!F49","v":135},{"$f":"Раздел2!D49","v":1}]
[null,"в том числе:\nВолейбол (муж.)","42",0,0,null,null,null,0,null,null,null,0,0,null,null,null,0,null,null,null,0,null,null,null,null,null,{"$f":"Раздел2!#REF!","v":{"$error":"#REF!"}},{"$f":"Раздел2!F50","v":77},{"$f":"Раздел2!D50","v":1}]
[null,"Волейбол (жен.)","43",0,0,null,null,null,0,null,null,null,0,0,null,null,null,0,null,null,null,0,null,null,null,null,null,{"$f":"Раздел2!#REF!","v":{"$error":"#REF!"}},{"$f":"Раздел2!F51","v":58},{"$f":"Раздел2!D51","v":1}]
[null,"Пляжный волейбол (муж.)","44",0,0,null,null,null,0,null,null,null,0,0,null,null,null,0,null,null,null,0,null,null,null,null,null,{"$f":"Раздел2!#REF!","v":{"$error":"#REF!"}},{"$f":"Раздел2!F52","v":0},{"$f":"Раздел2!D52","v":0}]
[null,"Пляжный волейбол (жен.)","45",0,0,null,null,null,0,null,null,null,0,0,null,null,null,0,null,null,null,0,null,null,null,null,null,{"$f":"Раздел2!#REF!","v":{"$error":"#REF!"}},{"$f":"Раздел2!F53","v":0},{"$f":"Раздел2!D53","v":0}]
[null,"Восточное боевое единоборство","46",0,0,null,null,null,0,null,null,null,0,0,null,null,null,0,null,null,null,0,null,null,null,null,null,{"$f":"Раздел2!#REF!","v":{"$error":"#REF!"}},{"$f":"Раздел2!F54","v":0},{"$f":"Раздел2!D54","v":0}]
[null,"Всестилевое каратэ","47",0,0,null,null,null,0,null,null,null,0,0,null,null,null,0,null,null,null,0,null,null,null,null,null,{"$f":"Раздел2!#REF!","v":{"$error":"#REF!"}},{"$f":"Раздел2!F55","v":0},{"$f":"Раздел2!D55","v":0}]
[null,"Гандбол - всего","48",0,0,{"$f":"SUM(F56:F58)","v":0},{"$f":"SUM(G56:G58)","v":0},0,0,0,0,0,0,0,0,0,0,0,0,0,0,0,0,0,0,null,null,{"$f":"Раздел2!#REF!","v":{"$error":"#REF!"}},{"$f":"Раздел2!F56","v":0},{"$f":"Раздел2!D56","v":0}]
[null,"в том числе:\nГандбол (муж.)","49",0,0,null,null,null,0,null,null,null,0,0,null,null,null,0,null,null,null,0,null,null,null,null,null,{"$f":"Раздел2!#REF!","v":{"$error":"#REF!"}},{"$f":"Раздел2!F57","v":0},{"$f":"Раздел2!D57","v":0}]
[null,"Гандбол (жен.)","50",0,0,null,null,null,0,null,null,null,0,0,null,null,null,0,null,null,null,0,null,null,null,null,null,{"$f":"Раздел2!#REF!","v":{"$error":"#REF!"}},{"$f":"Раздел2!F58","v":0},{"$f":"Раздел2!D58","v":0}]
[null,"Пляжный гандбол","51",0,0,null,null,null,0,null,null,null,0,0,null,null,null,0,null,null,null,0,null,null,null,null,null,{"$f":"Раздел2!#REF!","v":{"$error":"#REF!"}},{"$f":"Раздел2!F59","v":0},{"$f":"Раздел2!D59","v":0}]
[null,"Гиревой спорт","52",0,0,null,null,null,0,null,null,null,0,0,null,null,null,0,null,null,null,0,null,null,null,null,null,{"$f":"Раздел2!#REF!","v":{"$error":"#REF!"}},{"$f":"Раздел2!F60","v":0},{"$f":"Раздел2!D60","v":0}]
[null,"Го","53",0,0,null,null,null,0,null,null,null,0,0,null,null,null,0,null,null,null,0,null,null,null,null,null,{"$f":"Раздел2!#REF!","v":{"$error":"#REF!"}},{"$f":"Раздел2!F61","v":0},{"$f":"Раздел2!D61","v":0}]
[null,"Гольф","54",0,0,null,null,null,0,null,null,null,0,0,null,null,null,0,null,null,null,0,null,null,null,null,null,null,{"$f":"Раздел2!F62","v":0},{"$f":"Раздел2!D62","v":0}]
[null,"Гонки на охотничьих лыжах","55",0,0,null,null,null,0,null,null,null,0,0,null,null,null,0,null,null,null,0,null,null,null,null,null,{"$f":"Раздел2!#REF!","v":{"$error":"#REF!"}},{"$f":"Раздел2!F63","v":0},{"$f":"Раздел2!D63","v":0}]
[null,"Горнолыжный спорт","56",0,0,null,null,null,0,null,null,null,0,0,null,null,null,0,null,null,null,0,null,null,null,null,null,{"$f":"Раздел2!#REF!","v":{"$error":"#REF!"}},{"$f":"Раздел2!F64","v":0},{"$f":"Раздел2!D64","v":0}]
[null,"Городошный спорт","57",0,0,null,null,null,0,null,null,null,0,0,null,null,null,0,null,null,null,0,null,null,null,null,null,{"$f":"Раздел2!#REF!","v":{"$error":"#REF!"}},{"$f":"Раздел2!F65","v":0},{"$f":"Раздел2!D65","v":0}]
[null,"Гребля на байдарках и каноэ","58",0,0,null,null,null,0,null,null,null,0,0,null,null,null,0,null,null,null,0,null,null,null,null,null,{"$f":"Раздел2!#REF!","v":{"$error":"#REF!"}},{"$f":"Раздел2!F66","v":0},{"$f":"Раздел2!D66","v":0}]
[null,"Гребля на шлюпках","59",0,0,null,null,null,0,null,null,null,0,0,null,null,null,0,null,null,null,0,null,null,null,null,null,{"$f":"Раздел2!#REF!","v":{"$error":"#REF!"}},{"$f":"Раздел2!F67","v":0},{"$f":"Раздел2!D67","v":0}]
[null,"Гребной слалом","60",0,0,null,null,null,0,null,null,null,0,0,null,null,null,0,null,null,null,0,null,null,null,null,null,{"$f":"Раздел2!#REF!","v":{"$error":"#REF!"}},{"$f":"Раздел2!F68","v":0},{"$f":"Раздел2!D68","v":0}]
[null,"Гребной спорт - всего","61",0,0,{"$f":"SUM(F69:F72)","v":0},{"$f":"SUM(G69:G72)","v":0},0,0,0,0,0,0,0,0,0,0,0,0,0,0,0,0,0,0,null,null,{"$f":"Раздел2!#REF!","v":{"$error":"#REF!"}},{"$f":"Раздел2!F69","v":0},{"$f":"Раздел2!D69","v":0}]
[null,"в том числе:\nАкадемическая гребля","62",0,0,null,null,null,0,null,null,null,0,0,null,null,null,0,null,null,null,0,null,null,null,null,null,{"$f":"Раздел2!#REF!","v":{"$error":"#REF!"}},{"$f":"Раздел2!F70","v":0},{"$f":"Раздел2!D70","v":0}]
[null,"Гребля-индор","63",0,0,null,null,null,0,null,null,null,0,0,null,null,null,0,null,null,null,0,null,null,null,null,null,{"$f":"Раздел2!#REF!","v":{"$error":"#REF!"}},{"$f":"Раздел2!F71","v":0},{"$f":"Раздел2!D71","v":0}]
[null,"Народная гребля","64",0,0,null,null,null,0,null,null,null,0,0,null,null,null,0,null,null,null,0,null,null,null,null,null,{"$f":"Раздел2!#REF!","v":{"$error":"#REF!"}},{"$f":"Раздел2!F72","v":0},{"$f":"Раздел2!D72","v":0}]
[null,"Прибрежная гребля","65",0,0,null,null,null,0,null,null,null,0,0,null,null,null,0,null,null,null,0,null,null,null,null,null,{"$f":"Раздел2!#REF!","v":{"$error":"#REF!"}},{"$f":"Раздел2!F73","v":0},{"$f":"Раздел2!D73","v":0}]
[null,"Гребно-парусное двоеборье","66",{"$f":"SUM(E73,I73)","v":0},{"$f":"SUM(F73:H73)","v":0},null,null,null,{"$f":"SUM(J73:L73)","v":0},null,null,null,{"$f":"SUM(N73,V73)","v":0},{"$f":"SUM(O73:Q73)","v":0},null,null,null,{"$f":"SUM(S73:U73)","v":0},null,null,null,{"$f":"SUM(W73:Y73)","v":0},null,null,null,null,null,{"$f":"Раздел2!#REF!","v":{"$error":"#REF!"}},{"$f":"Раздел2!F74","v":0},{"$f":"Раздел2!D74","v":0}]
[null,"Дартс","67",0,0,null,null,null,0,null,null,null,0,0,null,null,null,0,null,null,null,0,null,null,null,null,null,{"$f":"Раздел2!#REF!","v":{"$error":"#REF!"}},{"$f":"Раздел2!F75","v":0},{"$f":"Раздел2!D75","v":0}]
[null,"Джиу-джитсу","68",0,0,null,null,null,0,null,null,null,0,0,null,null,null,0,null,null,null,0,null,null,null,null,null,{"$f":"Раздел2!#REF!","v":{"$error":"#REF!"}},{"$f":"Раздел2!F76","v":0},{"$f":"Раздел2!D76","v":0}]
[null,"Дзюдо","69",0,0,null,null,null,0,null,null,null,0,0,null,null,null,0,null,null,null,0,null,null,null,null,null,{"$f":"Раздел2!#REF!","v":{"$error":"#REF!"}},{"$f":"Раздел2!F77","v":0},{"$f":"Раздел2!D77","v":0}]
[null,"Ездовой спорт","70",0,0,null,null,null,0,null,null,null,0,0,null,null,null,0,null,null,null,0,null,null,null,null,null,{"$f":"Раздел2!#REF!","v":{"$error":"#REF!"}},{"$f":"Раздел2!F78","v":0},{"$f":"Раздел2!D78","v":0}]
[null,"Капоэйра","71",0,0,null,null,null,0,null,null,null,0,0,null,null,null,0,null,null,null,0,null,null,null,null,null,{"$f":"Раздел2!#REF!","v":{"$error":"#REF!"}},{"$f":"Раздел2!F79","v":0},{"$f":"Раздел2!D79","v":0}]
[null,"Каратэ","72",0,0,null,null,null,0,null,null,null,0,0,null,null,null,0,null,null,null,0,null,null,null,null,null,{"$f":"Раздел2!#REF!","v":{"$error":"#REF!"}},{"$f":"Раздел2!F80","v":0},{"$f":"Раздел2!D80","v":0}]
[null,"Кендо","73",0,0,null,null,null,0,null,null,null,0,0,null,null,null,0,null,null,null,0,null,null,null,null,null,{"$f":"Раздел2!#REF!","v":{"$error":"#REF!"}},{"$f":"Раздел2!F81","v":0},{"$f":"Раздел2!D81","v":0}]
[null,"Керешу","74",0,0,null,null,null,0,null,null,null,0,0,null,null,null,0,null,null,null,0,null,null,null,null,null,{"$f":"Раздел2!#REF!","v":{"$error":"#REF!"}},{"$f":"Раздел2!F82","v":0},{"$f":"Раздел2!D82","v":0}]
[null,"Кёрлинг - всего","75",0,0,{"$f":"SUM(F83:F85)","v":0},{"$f":"SUM(G83:G85)","v":0},0,0,0,0,0,0,0,0,0,0,0,0,0,0,0,0,0,0,null,null,{"$f":"Раздел2!#REF!","v":{"$error":"#REF!"}},{"$f":"Раздел2!F83","v":0},{"$f":"Раздел2!D83","v":0}]
[null,"в том числе:\nКерлинг (муж.)","76",0,0,null,null,null,0,null,null,null,0,0,null,null,null,0,null,null,null,0,null,null,null,null,null,{"$f":"Раздел2!#REF!","v":{"$error":"#REF!"}},{"$f":"Раздел2!F84","v":0},{"$f":"Раздел2!D84","v":0}]
[null,"Керлинг (жен.)","77",0,0,null,null,null,0,null,null,null,0,0,null,null,null,0,null,null,null,0,null,null,null,null,null,{"$f":"Раздел2!#REF!","v":{"$error":"#REF!"}},{"$f":"Раздел2!F85","v":0},{"$f":"Раздел2!D85","v":0}]
[null,"Кёрлинг – смешанные пары","78",0,0,null,null,null,0,null,null,null,0,0,null,null,null,0,null,null,null,0,null,null,null,null,null,{"$f":"Раздел2!#REF!","v":{"$error":"#REF!"}},{"$f":"Раздел2!F86","v":0},{"$f":"Раздел2!D86","v":0}]
[null,"Кикбоксинг","79",0,0,null,null,null,0,null,null,null,0,0,null,null,null,0,null,null,null,0,null,null,null,null,null,{"$f":"Раздел2!#REF!","v":{"$error":"#REF!"}},{"$f":"Раздел2!F87","v":0},{"$f":"Раздел2!D87","v":0}]
[null,"Кинологический спорт","80",0,0,null,null,null,0,null,null,null,0,0,null,null,null,0,null,null,null,0,null,null,null,null,null,{"$f":"Раздел2!#REF!","v":{"$error":"#REF!"}},{"$f":"Раздел2!F88","v":0},{"$f":"Раздел2!D88","v":0}]
[null,"Киокусинкай","81",0,0,null,null,null,0,null,null,null,0,0,null,null,null,0,null,null,null,0,null,null,null,null,null,{"$f":"Раздел2!#REF!","v":{"$error":"#REF!"}},{"$f":"Раздел2!F89","v":30},{"$f":"Раздел2!D89","v":1}]
[null,"Комплексное единоборство","82",0,0,null,null,null,0,null,null,null,0,0,null,null,null,0,null,null,null,0,null,null,null,null,null,{"$f":"Раздел2!#REF!","v":{"$error":"#REF!"}},{"$f":"Раздел2!F90","v":0},{"$f":"Раздел2!D90","v":0}]
[null,"Компьютерный спорт","83",0,0,null,null,null,0,null,null,null,0,0,null,null,null,0,null,null,null,0,null,null,null,null,null,{"$f":"Раздел2!#REF!","v":{"$error":"#REF!"}},{"$f":"Раздел2!F91","v":0},{"$f":"Раздел2!D91","v":0}]
[null,"Конный спорт","84",0,0,null,null,null,0,null,null,null,0,0,null,null,null,0,null,null,null,0,null,null,null,null,null,{"$f":"Раздел2!#REF!","v":{"$error":"#REF!"}},{"$f":"Раздел2!F92","v":0},{"$f":"Раздел2!D92","v":0}]
[null,"Конькобежный спорт - всего","85",0,0,{"$f":"SUM(F93:F94)","v":0},{"$f":"SUM(G93:G94)","v":0},0,0,0,0,0,0,0,0,0,0,0,0,0,0,0,0,0,0,null,null,{"$f":"Раздел2!#REF!","v":{"$error":"#REF!"}},{"$f":"Раздел2!F93","v":0},{"$f":"Раздел2!D93","v":0}]
[null,"в том числе:\nКонькобежный спорт","86",0,0,null,null,null,0,null,null,null,0,0,null,null,null,0,null,null,null,0,null,null,null,null,null,{"$f":"Раздел2!#REF!","v":{"$error":"#REF!"}},{"$f":"Раздел2!F94","v":0},{"$f":"Раздел2!D94","v":0}]
[null,"Шорт-трек","87",0,0,null,null,null,0,null,null,null,0,0,null,null,null,0,null,null,null,0,null,null,null,null,null,{"$f":"Раздел2!#REF!","v":{"$error":"#REF!"}},{"$f":"Раздел2!F95","v":0},{"$f":"Раздел2!D95","v":0}]
[null,"Корэш","88",0,0,null,null,null,0,null,null,null,0,0,null,null,null,0,null,null,null,0,null,null,null,null,null,null,{"$f":"Раздел2!F96","v":0},{"$f":"Раздел2!D96","v":0}]
[null,"Корфбол","89",0,0,null,null,null,0,null,null,null,0,0,null,null,null,0,null,null,null,0,null,null,null,null,null,{"$f":"Раздел2!#REF!","v":{"$error":"#REF!"}},{"$f":"Раздел2!F97","v":0},{"$f":"Раздел2!D97","v":0}]
[null,"Кудо","90",0,0,null,null,null,0,null,null,null,0,0,null,null,null,0,null,null,null,0,null,null,null,null,null,{"$f":"Раздел2!#REF!","v":{"$error":"#REF!"}},{"$f":"Раздел2!F98","v":0},{"$f":"Раздел2!D98","v":0}]
[null,"Лапта","91",0,0,null,null,null,0,null,null,null,0,0,null,null,null,0,null,null,null,0,null,null,null,null,null,{"$f":"Раздел2!#REF!","v":{"$error":"#REF!"}},{"$f":"Раздел2!F99","v":35},{"$f":"Раздел2!D99","v":1}]
[null,"Легкая атлетика - всего","92",0,0,{"$f":"SUM(F100:F106)","v":0},{"$f":"SUM(G100:G106)","v":0},0,0,0,0,0,0,0,0,0,0,0,0,0,0,0,0,0,0,null,null,{"$f":"Раздел2!#REF!","v":{"$error":"#REF!"}},{"$f":"Раздел2!F100","v":0},{"$f":"Раздел2!D100","v":0}]
[null,"в том числе:\nСпринтерский и барьерный бег","93",0,0,null,null,null,0,null,null,null,0,0,null,null,null,0,null,null,null,0,null,null,null,null,null,{"$f":"Раздел2!#REF!","v":{"$error":"#REF!"}},{"$f":"Раздел2!F101","v":0},{"$f":"Раздел2!D101","v":0}]
[null,"Бег на средние дистанции и бег с препятствиями","94",0,0,null,null,null,0,null,null,null,0,0,null,null,null,0,null,null,null,0,null,null,null,null,null,{"$f":"Раздел2!#REF!","v":{"$error":"#REF!"}},{"$f":"Раздел2!F102","v":0},{"$f":"Раздел2!D102","v":0}]
[null,"Бег на длинные и сверхдлинные дистанции","95",0,0,null,null,null,0,null,null,null,0,0,null,null,null,0,null,null,null,0,null,null,null,null,null,{"$f":"Раздел2!#REF!","v":{"$error":"#REF!"}},{"$f":"Раздел2!F103","v":0},{"$f":"Раздел2!D103","v":0}]
[null,"Многоборья","96",0,0,null,null,null,0,null,null,null,0,0,null,null,null,0,null,null,null,0,null,null,null,null,null,{"$f":"Раздел2!#REF!","v":{"$error":"#REF!"}},{"$f":"Раздел2!F104","v":0},{"$f":"Раздел2!D104","v":0}]
[null,"Прыжки","97",0,0,null,null,null,0,null,null,null,0,0,null,null,null,0,null,null,null,0,null,null,null,null,null,{"$f":"Раздел2!#REF!","v":{"$error":"#REF!"}},{"$f":"Раздел2!F105","v":0},{"$f":"Раздел2!D105","v":0}]
[null,"Метания","98",0,0,null,null,null,0,null,null,null,0,0,null,null,null,0,null,null,null,0,null,null,null,null,null,{"$f":"Раздел2!#REF!","v":{"$error":"#REF!"}},{"$f":"Раздел2!F106","v":0},{"$f":"Раздел2!D106","v":0}]
[null,"Спортивная ходьба","99",0,0,null,null,null,0,null,null,null,0,0,null,null,null,0,null,null,null,0,null,null,null,null,null,{"$f":"Раздел2!#REF!","v":{"$error":"#REF!"}},{"$f":"Раздел2!F107","v":0},{"$f":"Раздел2!D107","v":0}]
[null,"Лыжное двоеборье","100",0,0,null,null,null,0,null,null,null,0,0,null,null,null,0,null,null,null,0,null,null,null,null,null,{"$f":"Раздел2!#REF!","v":{"$error":"#REF!"}},{"$f":"Раздел2!F108","v":0},{"$f":"Раздел2!D108","v":0}]
[null,"Лыжные гонки","101",0,0,null,null,null,0,null,null,null,0,0,null,null,null,0,null,null,null,0,null,null,null,null,null,{"$f":"Раздел2!#REF!","v":{"$error":"#REF!"}},{"$f":"Раздел2!F109","v":0},{"$f":"Раздел2!D109","v":0}]
[null,"Мас-рестлинг","102",0,0,null,null,null,0,null,null,null,0,0,null,null,null,0,null,null,null,0,null,null,null,null,null,{"$f":"Раздел2!#REF!","v":{"$error":"#REF!"}},{"$f":"Раздел2!F110","v":0},{"$f":"Раздел2!D110","v":0}]
[null,"Международное военно-спортивное многоборье","103",0,0,null,null,null,0,null,null,null,0,0,null,null,null,0,null,null,null,0,null,null,null,null,null,{"$f":"Раздел2!#REF!","v":{"$error":"#REF!"}},{"$f":"Раздел2!F111","v":0},{"$f":"Раздел2!D111","v":0}]
[null,"Многоборье кинологов","104",0,0,null,null,null,0,null,null,null,0,0,null,null,null,0,null,null,null,0,null,null,null,null,null,{"$f":"Раздел2!#REF!","v":{"$error":"#REF!"}},{"$f":"Раздел2!F112","v":0},{"$f":"Раздел2!D112","v":0}]
[null,"Многоборье спасателей МЧС России","105",0,0,null,null,null,0,null,null,null,0,0,null,null,null,0,null,null,null,0,null,null,null,null,null,{"$f":"Раздел2!#REF!","v":{"$error":"#REF!"}},{"$f":"Раздел2!F113","v":0},{"$f":"Раздел2!D113","v":0}]
[null,"Морское многоборье","106",0,0,null,null,null,0,null,null,null,0,0,null,null,null,0,null,null,null,0,null,null,null,null,null,{"$f":"Раздел2!#REF!","v":{"$error":"#REF!"}},{"$f":"Раздел2!F114","v":0},{"$f":"Раздел2!D114","v":0}]
[null,"Мотоциклетный спорт","107",0,0,null,null,null,0,null,null,null,0,0,null,null,null,0,null,null,null,0,null,null,null,null,null,{"$f":"Раздел2!#REF!","v":{"$error":"#REF!"}},{"$f":"Раздел2!F115","v":0},{"$f":"Раздел2!D115","v":0}]
[null,"Настольный теннис","108",0,0,null,null,null,0,null,null,null,0,0,null,null,null,0,null,null,null,0,null,null,null,null,null,{"$f":"Раздел2!#REF!","v":{"$error":"#REF!"}},{"$f":"Раздел2!F116","v":15},{"$f":"Раздел2!D116","v":1}]
[null,"Парашютный спорт","109",0,0,null,null,null,0,null,null,null,0,0,null,null,null,0,null,null,null,0,null,null,null,null,null,{"$f":"Раздел2!#REF!","v":{"$error":"#REF!"}},{"$f":"Раздел2!F117","v":0},{"$f":"Раздел2!D117","v":0}]
[null,"Парусный спорт","110",0,0,null,null,null,0,null,null,null,0,0,null,null,null,0,null,null,null,0,null,null,null,null,null,{"$f":"Раздел2!#REF!","v":{"$error":"#REF!"}},{"$f":"Раздел2!F118","v":0},{"$f":"Раздел2!D118","v":0}]
[null,"Пауэрлифтинг","111",0,0,null,null,null,0,null,null,null,0,0,null,null,null,0,null,null,null,0,null,null,null,null,null,{"$f":"Раздел2!#REF!","v":{"$error":"#REF!"}},{"$f":"Раздел2!F119","v":0},{"$f":"Раздел2!D119","v":0}]
[null,"Перетягивание каната","112",0,0,null,null,null,0,null,null,null,0,0,null,null,null,0,null,null,null,0,null,null,null,null,null,{"$f":"Раздел2!#REF!","v":{"$error":"#REF!"}},{"$f":"Раздел2!F120","v":0},{"$f":"Раздел2!D120","v":0}]
[null,"Петанк","113",0,0,null,null,null,0,null,null,null,0,0,null,null,null,0,null,null,null,0,null,null,null,null,null,{"$f":"Раздел2!#REF!","v":{"$error":"#REF!"}},{"$f":"Раздел2!F121","v":0},{"$f":"Раздел2!D121","v":0}]
[null,"Плавание - всего","114",0,0,{"$f":"SUM(F122:F123)","v":0},{"$f":"SUM(G122:G123)","v":0},0,0,0,0,0,0,0,0,0,0,0,0,0,0,0,0,0,0,null,null,{"$f":"Раздел2!#REF!","v":{"$error":"#REF!"}},{"$f":"Раздел2!F122","v":0},{"$f":"Раздел2!D122","v":0}]
[null,"в том числе:\nПлавание ","115",0,0,null,null,null,0,null,null,null,0,0,null,null,null,0,null,null,null,0,null,null,null,null,null,{"$f":"Раздел2!#REF!","v":{"$error":"#REF!"}},{"$f":"Раздел2!F123","v":0},{"$f":"Раздел2!D123","v":0}]
[null,"Открытая вода","116",0,0,null,null,null,0,null,null,null,0,0,null,null,null,0,null,null,null,0,null,null,null,null,null,{"$f":"Раздел2!#REF!","v":{"$error":"#REF!"}},{"$f":"Раздел2!F124","v":0},{"$f":"Раздел2!D124","v":0}]
[null,"Планерный спорт","117",0,0,null,null,null,0,null,null,null,0,0,null,null,null,0,null,null,null,0,null,null,null,null,null,null,{"$f":"Раздел2!F125","v":0},{"$f":"Раздел2!D125","v":0}]
[null,"Подводный спорт","118",0,0,null,null,null,0,null,null,null,0,0,null,null,null,0,null,null,null,0,null,null,null,null,null,null,{"$f":"Раздел2!F126","v":0},{"$f":"Раздел2!D126","v":0}]
[null,"Пожарно-спасательный спорт","119",0,0,null,null,null,0,null,null,null,0,0,null,null,null,0,null,null,null,0,null,null,null,null,null,null,{"$f":"Раздел2!F127","v":0},{"$f":"Раздел2!D127","v":0}]
[null,"Полиатлон","120",0,0,null,null,null,0,null,null,null,0,0,null,null,null,0,null,null,null,0,null,null,null,null,null,null,{"$f":"Раздел2!F128","v":0},{"$f":"Раздел2!D128","v":0}]
[null,"Практическая стрельба","121",0,0,null,null,null,0,null,null,null,0,0,null,null,null,0,null,null,null,0,null,null,null,null,null,null,{"$f":"Раздел2!F129","v":0},{"$f":"Раздел2!D129","v":0}]
[null,"Прыжки в воду - всего","122",0,0,{"$f":"SUM(F130:F131)","v":0},{"$f":"SUM(G130:G131)","v":0},0,0,0,0,0,0,0,0,0,0,0,0,0,0,0,0,0,0,null,null,null,{"$f":"Раздел2!F130","v":0},{"$f":"Раздел2!D130","v":0}]
[null,"в том числе:\nПрыжки в воду","123",0,0,null,null,null,0,null,null,null,0,0,null,null,null,0,null,null,null,0,null,null,null,null,null,null,{"$f":"Раздел2!F131","v":0},{"$f":"Раздел2!D131","v":0}]
[null,"Прыжки в открытый водоем","124",0,0,null,null,null,0,null,null,null,0,0,null,null,null,0,null,null,null,0,null,null,null,null,null,null,{"$f":"Раздел2!F132","v":0},{"$f":"Раздел2!D132","v":0}]
[null,"Прыжки на батуте - всего","125",0,0,{"$f":"SUM(F133:F136)","v":0},{"$f":"SUM(G133:G136)","v":0},0,0,0,0,0,0,0,0,0,0,0,0,0,0,0,0,0,0,null,null,null,{"$f":"Раздел2!F133","v":0},{"$f":"Раздел2!D133","v":0}]
[null,"в том числе:\nАкробатическая дорожка","126",0,0,null,null,null,0,null,null,null,0,0,null,null,null,0,null,null,null,0,null,null,null,null,null,null,{"$f":"Раздел2!F134","v":0},{"$f":"Раздел2!D134","v":0}]
[null,"Двойной минитрамп","127",0,0,null,null,null,0,null,null,null,0,0,null,null,null,0,null,null,null,0,null,null,null,null,null,null,{"$f":"Раздел2!F135","v":0},{"$f":"Раздел2!D135","v":0}]
[null,"Индивидуальные прыжки","128",0,0,null,null,null,0,null,null,null,0,0,null,null,null,0,null,null,null,0,null,null,null,null,null,null,{"$f":"Раздел2!F136","v":0},{"$f":"Раздел2!D136","v":0}]
[null,"Синхронные прыжки","129",0,0,null,null,null,0,null,null,null,0,0,null,null,null,0,null,null,null,0,null,null,null,null,null,null,{"$f":"Раздел2!F137","v":0},{"$f":"Раздел2!D137","v":0}]
[null,"Прыжки на лыжах с трамплина","130",{"$f":"SUM(E137,I137)","v":0},{"$f":"SUM(F137:H137)","v":0},null,null,null,{"$f":"SUM(J137:L137)","v":0},null,null,null,{"$f":"SUM(N137,V137)","v":0},{"$f":"SUM(O137:Q137)","v":0},null,null,null,{"$f":"SUM(S137:U137)","v":0},null,null,null,{"$f":"SUM(W137:Y137)","v":0},null,null,null,null,null,null,{"$f":"Раздел2!F138","v":0},{"$f":"Раздел2!D138","v":0}]
[null,"Пулевая стрельба - всего","131",0,0,{"$f":"SUM(F139:F143)","v":0},{"$f":"SUM(G139:G143)","v":0},0,0,0,0,0,0,0,0,0,0,0,0,0,0,0,0,0,0,null,null,null,{"$f":"Раздел2!F139","v":0},{"$f":"Раздел2!D139","v":0}]
[null,"в том числе:\nПневматическая винтовка","132",0,0,null,null,null,0,null,null,null,0,0,null,null,null,0,null,null,null,0,null,null,null,null,null,null,{"$f":"Раздел2!F140","v":0},{"$f":"Раздел2!D140","v":0}]
[null,"Пневматический пистолет","133",0,0,null,null,null,0,null,null,null,0,0,null,null,null,0,null,null,null,0,null,null,null,null,null,null,{"$f":"Раздел2!F141","v":0},{"$f":"Раздел2!D141","v":0}]
[null,"Малокалиберная винтовка","134",0,0,null,null,null,0,null,null,null,0,0,null,null,null,0,null,null,null,0,null,null,null,null,null,null,{"$f":"Раздел2!F142","v":0},{"$f":"Раздел2!D142","v":0}]
[null,"Малокалиберный пистолет","135",0,0,null,null,null,0,null,null,null,0,0,null,null,null,0,null,null,null,0,null,null,null,null,null,null,{"$f":"Раздел2!F143","v":0},{"$f":"Раздел2!D143","v":0}]
[null,"Движущаяся мишень","136",0,0,null,null,null,0,null,null,null,0,0,null,null,null,0,null,null,null,0,null,null,null,null,null,null,{"$f":"Раздел2!F144","v":0},{"$f":"Раздел2!D144","v":0}]
[null,"Пэйнтбол","137",0,0,null,null,null,0,null,null,null,0,0,null,null,null,0,null,null,null,0,null,null,null,null,null,null,{"$f":"Раздел2!F145","v":0},{"$f":"Раздел2!D145","v":0}]
[null,"Радиоспорт","138",0,0,null,null,null,0,null,null,null,0,0,null,null,null,0,null,null,null,0,null,null,null,null,null,null,{"$f":"Раздел2!F146","v":0},{"$f":"Раздел2!D146","v":0}]
[null,"Рафтинг","139",0,0,null,null,null,0,null,null,null,0,0,null,null,null,0,null,null,null,0,null,null,null,null,null,null,{"$f":"Раздел2!F147","v":0},{"$f":"Раздел2!D147","v":0}]
[null,"Регби - всего","140",0,0,{"$f":"SUM(F148:F151)","v":0},{"$f":"SUM(G148:G151)","v":0},0,0,0,0,0,0,0,0,0,0,0,0,0,0,0,0,0,0,null,null,null,{"$f":"Раздел2!F148","v":0},{"$f":"Раздел2!D148","v":0}]
[null,"в том числе:\nРегби","141",0,0,null,null,null,0,null,null,null,0,0,null,null,null,0,null,null,null,0,null,null,null,null,null,null,{"$f":"Раздел2!F149","v":0},{"$f":"Раздел2!D149","v":0}]
[null,"Регби 7 (муж.)","142",0,0,null,null,null,0,null,null,null,0,0,null,null,null,0,null,null,null,0,null,null,null,null,null,null,{"$f":"Раздел2!F150","v":0},{"$f":"Раздел2!D150","v":0}]
[null,"Регби 7 (жен.)","143",0,0,null,null,null,0,null,null,null,0,0,null,null,null,0,null,null,null,0,null,null,null,null,null,null,{"$f":"Раздел2!F151","v":0},{"$f":"Раздел2!D151","v":0}]
[null,"Регби - пляжное","144",0,0,null,null,null,0,null,null,null,0,0,null,null,null,0,null,null,null,0,null,null,null,null,null,null,{"$f":"Раздел2!F152","v":0},{"$f":"Раздел2!D152","v":0}]
[null,"Регбол","145",0,0,null,null,null,0,null,null,null,0,0,null,null,null,0,null,null,null,0,null,null,null,null,null,null,{"$f":"Раздел2!F153","v":0},{"$f":"Раздел2!D153","v":0}]
[null,"Роллер спорт","146",0,0,null,null,null,0,null,null,null,0,0,null,null,null,0,null,null,null,0,null,null,null,null,null,null,{"$f":"Раздел2!F154","v":0},{"$f":"Раздел2!D154","v":0}]
[null,"Рукопашный бой","147",0,0,null,null,null,0,null,null,null,0,0,null,null,null,0,null,null,null,0,null,null,null,null,null,null,{"$f":"Раздел2!F155","v":0},{"$f":"Раздел2!D155","v":0}]
[null,"Рыболовный спорт","148",0,0,null,null,null,0,null,null,null,0,0,null,null,null,0,null,null,null,0,null,null,null,null,null,null,{"$f":"Раздел2!F156","v":0},{"$f":"Раздел2!D156","v":0}]
[null,"Сават","149",0,0,null,null,null,0,null,null,null,0,0,null,null,null,0,null,null,null,0,null,null,null,null,null,null,{"$f":"Раздел2!F157","v":0},{"$f":"Раздел2!D157","v":0}]
[null,"Самбо","150",0,0,null,null,null,0,null,null,null,0,0,null,null,null,0,null,null,null,0,null,null,null,null,null,null,{"$f":"Раздел2!F158","v":0},{"$f":"Раздел2!D158","v":0}]
[null,"Самолетный спорт","151",0,0,null,null,null,0,null,null,null,0,0,null,null,null,0,null,null,null,0,null,null,null,null,null,null,{"$f":"Раздел2!F159","v":0},{"$f":"Раздел2!D159","v":0}]
[null,"Санный спорт","152",0,0,null,null,null,0,null,null,null,0,0,null,null,null,0,null,null,null,0,null,null,null,null,null,null,{"$f":"Раздел2!F160","v":0},{"$f":"Раздел2!D160","v":0}]
[null,"Северное многоборье","153",0,0,null,null,null,0,null,null,null,0,0,null,null,null,0,null,null,null,0,null,null,null,null,null,null,{"$f":"Раздел2!F161","v":0},{"$f":"Раздел2!D161","v":0}]
[null,"Серфинг","154",0,0,null,null,null,0,null,null,null,0,0,null,null,null,0,null,null,null,0,null,null,null,null,null,null,{"$f":"Раздел2!F162","v":0},{"$f":"Раздел2!D162","v":0}]
[null,"Синхронное плавание","155",0,0,null,null,null,0,null,null,null,0,0,null,null,null,0,null,null,null,0,null,null,null,null,null,null,{"$f":"Раздел2!F163","v":0},{"$f":"Раздел2!D163","v":0}]
[null,"Скалолазание","156",0,0,null,null,null,0,null,null,null,0,0,null,null,null,0,null,null,null,0,null,null,null,null,null,null,{"$f":"Раздел2!F164","v":0},{"$f":"Раздел2!D164","v":0}]
[null,"Сквош","157",0,0,null,null,null,0,null,null,null,0,0,null,null,null,0,null,null,null,0,null,null,null,null,null,null,{"$f":"Раздел2!F165","v":0},{"$f":"Раздел2!D165","v":0}]
[null,"Скейтбординг","158",0,0,null,null,null,0,null,null,null,0,0,null,null,null,0,null,null,null,0,null,null,null,null,null,null,{"$f":"Раздел2!F166","v":0},{"$f":"Раздел2!D166","v":0}]
[null,"Служебно-боевая стрельба ","159",0,0,null,null,null,0,null,null,null,0,0,null,null,null,0,null,null,null,0,null,null,null,null,null,null,{"$f":"Раздел2!F167","v":0},{"$f":"Раздел2!D167","v":0}]
[null,"Служебно-прикладной спорт","160",0,0,null,null,null,0,null,null,null,0,0,null,null,null,0,null,null,null,0,null,null,null,null,null,null,{"$f":"Раздел2!F168","v":0},{"$f":"Раздел2!D168","v":0}]
[null,"Служебно-прикладной спорт ФСО России","161",0,0,null,null,null,0,null,null,null,0,0,null,null,null,0,null,null,null,0,null,null,null,null,null,null,{"$f":"Раздел2!F169","v":0},{"$f":"Раздел2!D169","v":0}]
[null,"Служебно-прикладной спорт ФТС России","162",0,0,null,null,null,0,null,null,null,0,0,null,null,null,0,null,null,null,0,null,null,null,null,null,null,{"$f":"Раздел2!F170","v":0},{"$f":"Раздел2!D170","v":0}]
[null,"Служебное двоеборье","163",0,0,null,null,null,0,null,null,null,0,0,null,null,null,0,null,null,null,0,null,null,null,null,null,null,{"$f":"Раздел2!F171","v":0},{"$f":"Раздел2!D171","v":0}]
[null,"Служебное единоборство","164",0,0,null,null,null,0,null,null,null,0,0,null,null,null,0,null,null,null,0,null,null,null,null,null,null,{"$f":"Раздел2!F172","v":0},{"$f":"Раздел2!D172","v":0}]
[null,"Служебное многоборье","165",0,0,null,null,null,0,null,null,null,0,0,null,null,null,0,null,null,null,0,null,null,null,null,null,null,{"$f":"Раздел2!F173","v":0},{"$f":"Раздел2!D173","v":0}]
[null,"Служебный биатлон","166",0,0,null,null,null,0,null,null,null,0,0,null,null,null,0,null,null,null,0,null,null,null,null,null,null,{"$f":"Раздел2!F174","v":0},{"$f":"Раздел2!D174","v":0}]
[null,"Спасательный спорт","167",0,0,null,null,null,0,null,null,null,0,0,null,null,null,0,null,null,null,0,null,null,null,null,null,null,{"$f":"Раздел2!F175","v":0},{"$f":"Раздел2!D175","v":0}]
[null,"Стрельба из боевого ручного стрелкового оружия","168",0,0,null,null,null,0,null,null,null,0,0,null,null,null,0,null,null,null,0,null,null,null,null,null,null,{"$f":"Раздел2!F176","v":0},{"$f":"Раздел2!D176","v":0}]
[null,"Стрельба из штатного или табельного оружия","169",0,0,null,null,null,0,null,null,null,0,0,null,null,null,0,null,null,null,0,null,null,null,null,null,null,{"$f":"Раздел2!F177","v":0},{"$f":"Раздел2!D177","v":0}]
[null,"Смешанное боевое единоборство (ММА)","170",0,0,null,null,null,0,null,null,null,0,0,null,null,null,0,null,null,null,0,null,null,null,null,null,null,{"$f":"Раздел2!F178","v":0},{"$f":"Раздел2!D178","v":0}]
[null,"Сноуборд","171",0,0,null,null,null,0,null,null,null,0,0,null,null,null,0,null,null,null,0,null,null,null,null,null,null,{"$f":"Раздел2!F179","v":0},{"$f":"Раздел2!D179","v":0}]
[null,"Современное пятиборье","172",0,0,null,null,null,0,null,null,null,0,0,null,null,null,0,null,null,null,0,null,null,null,null,null,null,{"$f":"Раздел2!F180","v":0},{"$f":"Раздел2!D180","v":0}]
[null,"Софтбол","173",0,0,null,null,null,0,null,null,null,0,0,null,null,null,0,null,null,null,0,null,null,null,null,null,null,{"$f":"Раздел2!F181","v":0},{"$f":"Раздел2!D181","v":0}]
[null,"Спорт сверхлегкой авиации","174",0,0,null,null,null,0,null,null,null,0,0,null,null,null,0,null,null,null,0,null,null,null,null,null,null,{"$f":"Раздел2!F182","v":0},{"$f":"Раздел2!D182","v":0}]
[null,"Спортивная акробатика","175",0,0,null,null,null,0,null,null,null,0,0,null,null,null,0,null,null,null,0,null,null,null,null,null,null,{"$f":"Раздел2!F183","v":0},{"$f":"Раздел2!D183","v":0}]
[null,"Спортивная аэробика","176",0,0,null,null,null,0,null,null,null,0,0,null,null,null,0,null,null,null,0,null,null,null,null,null,null,{"$f":"Раздел2!F184","v":0},{"$f":"Раздел2!D184","v":0}]
[null,"Спортивная борьба - всего","177",3,3,{"$f":"SUM(F185:F189)","v":3},{"$f":"SUM(G185:G189)","v":0},0,0,0,0,0,2,2,2,0,0,0,0,0,0,0,0,0,0,null,null,null,{"$f":"Раздел2!F185","v":110},{"$f":"Раздел2!D185","v":1}]
[null,"в том числе:\nВольная борьба","178",3,3,3,null,null,0,null,null,null,2,2,2,null,null,0,null,null,null,0,null,null,null,null,null,null,{"$f":"Раздел2!F186","v":110},{"$f":"Раздел2!D186","v":1}]
[null,"Греко-римская борьба","179",0,0,null,null,null,0,null,null,null,0,0,null,null,null,0,null,null,null,0,null,null,null,null,null,null,{"$f":"Раздел2!F187","v":0},{"$f":"Раздел2!D187","v":0}]
[null,"Грэпплинг","180",0,0,null,null,null,0,null,null,null,0,0,null,null,null,0,null,null,null,0,null,null,null,null,null,null,{"$f":"Раздел2!F188","v":0},{"$f":"Раздел2!D188","v":0}]
[null,"Грэпплинг-ги","181",0,0,null,null,null,0,null,null,null,0,0,null,null,null,0,null,null,null,0,null,null,null,null,null,null,{"$f":"Раздел2!F189","v":0},{"$f":"Раздел2!D189","v":0}]
[null,"Панкратион","182",0,0,null,null,null,0,null,null,null,0,0,null,null,null,0,null,null,null,0,null,null,null,null,null,null,{"$f":"Раздел2!F190","v":0},{"$f":"Раздел2!D190","v":0}]
[null,"Спортивная гимнастика","183",0,0,null,null,null,0,null,null,null,0,0,null,null,null,0,null,null,null,0,null,null,null,null,null,null,{"$f":"Раздел2!F191","v":0},{"$f":"Раздел2!D191","v":0}]
[null,"Спортивная йога","184",0,0,null,null,null,0,null,null,null,0,0,null,null,null,0,null,null,null,0,null,null,null,null,null,null,{"$f":"Раздел2!F192","v":0},{"$f":"Раздел2!D192","v":0}]
[null,"Спортивно-прикладное собаководство","185",0,0,null,null,null,0,null,null,null,0,0,null,null,null,0,null,null,null,0,null,null,null,null,null,null,{"$f":"Раздел2!F193","v":0},{"$f":"Раздел2!D193","v":0}]
[null,"Спортивное ориентирование","186",0,0,null,null,null,0,null,null,null,0,0,null,null,null,0,null,null,null,0,null,null,null,null,null,null,{"$f":"Раздел2!F194","v":0},{"$f":"Раздел2!D194","v":0}]
[null,"Спортивный бридж","187",0,0,null,null,null,0,null,null,null,0,0,null,null,null,0,null,null,null,0,null,null,null,null,null,null,{"$f":"Раздел2!F195","v":0},{"$f":"Раздел2!D195","v":0}]
[null,"Спортивный туризм","188",0,0,null,null,null,0,null,null,null,0,0,null,null,null,0,null,null,null,0,null,null,null,null,null,null,{"$f":"Раздел2!F196","v":0},{"$f":"Раздел2!D196","v":0}]
[null,"Стендовая стрельба - всего","189",0,0,{"$f":"SUM(F197:F200)","v":0},{"$f":"SUM(G197:G200)","v":0},0,0,0,0,0,0,0,0,0,0,0,0,0,0,0,0,0,0,null,null,null,{"$f":"Раздел2!F197","v":0},{"$f":"Раздел2!D197","v":0}]
[null,"в том числе:\nТрап","190",0,0,null,null,null,0,null,null,null,0,0,null,null,null,0,null,null,null,0,null,null,null,null,null,null,{"$f":"Раздел2!F198","v":0},{"$f":"Раздел2!D198","v":0}]
[null,"Скит","191",0,0,null,null,null,0,null,null,null,0,0,null,null,null,0,null,null,null,0,null,null,null,null,null,null,{"$f":"Раздел2!F199","v":0},{"$f":"Раздел2!D199","v":0}]
[null,"Дубль-трап","192",0,0,null,null,null,0,null,null,null,0,0,null,null,null,0,null,null,null,0,null,null,null,null,null,null,{"$f":"Раздел2!F200","v":0},{"$f":"Раздел2!D200","v":0}]
[null,"Спортинг","193",0,0,null,null,null,0,null,null,null,0,0,null,null,null,0,null,null,null,0,null,null,null,null,null,null,{"$f":"Раздел2!F201","v":0},{"$f":"Раздел2!D201","v":0}]
[null,"Страйкбол","194",{"$f":"SUM(E201,I201)","v":0},{"$f":"SUM(F201:H201)","v":0},null,null,null,{"$f":"SUM(J201:L201)","v":0},null,null,null,{"$f":"SUM(N201,V201)","v":0},{"$f":"SUM(O201:Q201)","v":0},null,null,null,{"$f":"SUM(S201:U201)","v":0},null,null,null,{"$f":"SUM(W201:Y201)","v":0},null,null,null,null,null,null,{"$f":"Раздел2!F202","v":0},{"$f":"Раздел2!D202","v":0}]
[null,"Стрельба из арбалета","195",0,0,null,null,null,0,null,null,null,0,0,null,null,null,0,null,null,null,0,null,null,null,null,null,null,{"$f":"Раздел2!F203","v":0},{"$f":"Раздел2!D203","v":0}]
[null,"Стрельба из лука - всего","196",0,0,{"$f":"SUM(F204:F206)","v":0},{"$f":"SUM(G204:G206)","v":0},0,0,0,0,0,0,0,0,0,0,0,0,0,0,0,0,0,0,null,null,null,{"$f":"Раздел2!F204","v":0},{"$f":"Раздел2!D204","v":0}]
[null,"в том числе:\nКлассический лук","197",0,0,null,null,null,0,null,null,null,0,0,null,null,null,0,null,null,null,0,null,null,null,null,null,null,{"$f":"Раздел2!F205","v":0},{"$f":"Раздел2!D205","v":0}]
[null,"   Блочный лук","198",0,0,null,null,null,0,null,null,null,0,0,null,null,null,0,null,null,null,0,null,null,null,null,null,null,{"$f":"Раздел2!F206","v":0},{"$f":"Раздел2!D206","v":0}]
[null,"   Ачери ","199",0,0,null,null,null,0,null,null,null,0,0,null,null,null,0,null,null,null,0,null,null,null,null,null,null,{"$f":"Раздел2!F207","v":0},{"$f":"Раздел2!D207","v":0}]
[null,"Судомодельный спорт","200",0,0,null,null,null,0,null,null,null,0,0,null,null,null,0,null,null,null,0,null,null,null,null,null,null,{"$f":"Раздел2!F208","v":0},{"$f":"Раздел2!D208","v":0}]
[null,"Сумо","201",0,0,null,null,null,0,null,null,null,0,0,null,null,null,0,null,null,null,0,null,null,null,null,null,null,{"$f":"Раздел2!F209","v":0},{"$f":"Раздел2!D209","v":0}]
[null,"Таврели","202",0,0,null,null,null,0,null,null,null,0,0,null,null,null,0,null,null,null,0,null,null,null,null,null,null,{"$f":"Раздел2!F210","v":0},{"$f":"Раздел2!D210","v":0}]
[null,"Тайский бокс","203",0,0,null,null,null,0,null,null,null,0,0,null,null,null,0,null,null,null,0,null,null,null,null,null,null,{"$f":"Раздел2!F211","v":0},{"$f":"Раздел2!D211","v":0}]
[null,"Танцевальный спорт","204",0,0,null,null,null,0,null,null,null,0,0,null,null,null,0,null,null,null,0,null,null,null,null,null,null,{"$f":"Раздел2!F212","v":0},{"$f":"Раздел2!D212","v":0}]
[null,"Теннис","205",0,0,null,null,null,0,null,null,null,0,0,null,null,null,0,null,null,null,0,null,null,null,null,null,null,{"$f":"Раздел2!F213","v":0},{"$f":"Раздел2!D213","v":0}]
[null,"Триатлон","206",0,0,null,null,null,0,null,null,null,0,0,null,null,null,0,null,null,null,0,null,null,null,null,null,null,{"$f":"Раздел2!F214","v":0},{"$f":"Раздел2!D214","v":0}]
[null,"Тхэквондо - всего","207",0,0,{"$f":"SUM(F215:F216)","v":0},{"$f":"SUM(G215:G216)","v":0},0,0,0,0,0,0,0,0,0,0,0,0,0,0,0,0,0,0,null,null,null,{"$f":"Раздел2!F215","v":0},{"$f":"Раздел2!D215","v":0}]
[null,"в том числе:\nТхэквондо (ВТФ)","208",0,0,null,null,null,0,null,null,null,0,0,null,null,null,0,null,null,null,0,null,null,null,null,null,null,{"$f":"Раздел2!F216","v":0},{"$f":"Раздел2!D216","v":0}]
[null,"Тхэквондо (ГТФ, МФТ)","209",0,0,null,null,null,0,null,null,null,0,0,null,null,null,0,null,null,null,0,null,null,null,null,null,null,{"$f":"Раздел2!F217","v":0},{"$f":"Раздел2!D217","v":0}]
[null,"Тхэквондо ИТФ","210",0,0,null,null,null,0,null,null,null,0,0,null,null,null,0,null,null,null,0,null,null,null,null,null,null,{"$f":"Раздел2!F218","v":0},{"$f":"Раздел2!D218","v":0}]
[null,"Тяжелая атлетика","211",0,0,null,null,null,0,null,null,null,0,0,null,null,null,0,null,null,null,0,null,null,null,null,null,null,{"$f":"Раздел2!F219","v":0},{"$f":"Раздел2!D219","v":0}]
[null,"Универсальный бой","212",0,0,null,null,null,0,null,null,null,0,0,null,null,null,0,null,null,null,0,null,null,null,null,null,null,{"$f":"Раздел2!F220","v":0},{"$f":"Раздел2!D220","v":0}]
[null,"Ушу","213",0,0,null,null,null,0,null,null,null,0,0,null,null,null,0,null,null,null,0,null,null,null,null,null,null,{"$f":"Раздел2!F221","v":0},{"$f":"Раздел2!D221","v":0}]
[null,"Фехтование - всего","214",0,0,{"$f":"SUM(F222:F225)","v":0},{"$f":"SUM(G222:G225)","v":0},0,0,0,0,0,0,0,0,0,0,0,0,0,0,0,0,0,0,null,null,null,{"$f":"Раздел2!F222","v":0},{"$f":"Раздел2!D222","v":0}]
[null,"в том числе:\nРапира","215",0,0,null,null,null,0,null,null,null,0,0,null,null,null,0,null,null,null,0,null,null,null,null,null,null,{"$f":"Раздел2!F223","v":0},{"$f":"Раздел2!D223","v":0}]
[null,"Сабля","216",0,0,null,null,null,0,null,null,null,0,0,null,null,null,0,null,null,null,0,null,null,null,null,null,null,{"$f":"Раздел2!F224","v":0},{"$f":"Раздел2!D224","v":0}]
[null,"Шпага","217",0,0,null,null,null,0,null,null,null,0,0,null,null,null,0,null,null,null,0,null,null,null,null,null,null,{"$f":"Раздел2!F225","v":0},{"$f":"Раздел2!D225","v":0}]
[null,"Арт-фехтование","218",0,0,null,null,null,0,null,null,null,0,0,null,null,null,0,null,null,null,0,null,null,null,null,null,null,{"$f":"Раздел2!F226","v":0},{"$f":"Раздел2!D226","v":0}]
[null,"Фигурное катание на коньках","219",0,0,null,null,null,0,null,null,null,0,0,null,null,null,0,null,null,null,0,null,null,null,null,null,null,{"$f":"Раздел2!F227","v":0},{"$f":"Раздел2!D227","v":0}]
[null,"Фитнес-аэробика","220",0,0,null,null,null,0,null,null,null,0,0,null,null,null,0,null,null,null,0,null,null,null,null,null,null,{"$f":"Раздел2!F228","v":0},{"$f":"Раздел2!D228","v":0}]
[null,"Флаинг диск","221",0,0,null,null,null,0,null,null,null,0,0,null,null,null,0,null,null,null,0,null,null,null,null,null,null,{"$f":"Раздел2!F229","v":0},{"$f":"Раздел2!D229","v":0}]
[null,"Флорбол","222",0,0,null,null,null,0,null,null,null,0,0,null,null,null,0,null,null,null,0,null,null,null,null,null,null,{"$f":"Раздел2!F230","v":0},{"$f":"Раздел2!D230","v":0}]
[null,"Фристайл - всего","223",0,0,{"$f":"SUM(F231:F236)","v":0},{"$f":"SUM(G231:G236)","v":0},0,0,0,0,0,0,0,0,0,0,0,0,0,0,0,0,0,0,null,null,null,{"$f":"Раздел2!F231","v":0},{"$f":"Раздел2!D231","v":0}]
[null,"в том числе:\nАкробатика","224",0,0,null,null,null,0,null,null,null,0,0,null,null,null,0,null,null,null,0,null,null,null,null,null,null,{"$f":"Раздел2!F232","v":0},{"$f":"Раздел2!D232","v":0}]
[null,"Биг-эйр","225",0,0,null,null,null,0,null,null,null,0,0,null,null,null,0,null,null,null,0,null,null,null,null,null,null,{"$f":"Раздел2!F233","v":0},{"$f":"Раздел2!D233","v":0}]
[null,"Могул","226",0,0,null,null,null,0,null,null,null,0,0,null,null,null,0,null,null,null,0,null,null,null,null,null,null,{"$f":"Раздел2!F234","v":0},{"$f":"Раздел2!D234","v":0}]
[null,"Ски-кросс","227",0,0,null,null,null,0,null,null,null,0,0,null,null,null,0,null,null,null,0,null,null,null,null,null,null,{"$f":"Раздел2!F235","v":0},{"$f":"Раздел2!D235","v":0}]
[null,"Хаф-пайп","228",0,0,null,null,null,0,null,null,null,0,0,null,null,null,0,null,null,null,0,null,null,null,null,null,null,{"$f":"Раздел2!F236","v":0},{"$f":"Раздел2!D236","v":0}]
[null,"Слоуп-стайл","229",0,0,null,null,null,0,null,null,null,0,0,null,null,null,0,null,null,null,0,null,null,null,null,null,null,{"$f":"Раздел2!F237","v":0},{"$f":"Раздел2!D237","v":0}]
[null,"Функциональное многоборье","230",0,0,null,null,null,0,null,null,null,0,0,null,null,null,0,null,null,null,0,null,null,null,null,null,null,{"$f":"Раздел2!F238","v":0},{"$f":"Раздел2!D238","v":0}]
[null,"Футбол - всего","231",0,0,{"$f":"SUM(F239:F242)","v":0},{"$f":"SUM(G239:G242)","v":0},0,0,0,0,0,0,0,0,0,0,0,0,0,0,0,0,0,0,null,null,null,{"$f":"Раздел2!F239","v":30},{"$f":"Раздел2!D239","v":1}]
[null,"в том числе:\nФутбол (муж.)","232",0,0,null,null,null,0,null,null,null,0,0,null,null,null,0,null,null,null,0,null,null,null,null,null,null,{"$f":"Раздел2!F240","v":30},{"$f":"Раздел2!D240","v":1}]
[null,"Футбол (жен.)","233",0,0,null,null,null,0,null,null,null,0,0,null,null,null,0,null,null,null,0,null,null,null,null,null,null,{"$f":"Раздел2!F241","v":0},{"$f":"Раздел2!D241","v":0}]
[null,"Мини-футбол (футзал)","234",0,0,null,null,null,0,null,null,null,0,0,null,null,null,0,null,null,null,0,null,null,null,null,null,null,{"$f":"Раздел2!F242","v":0},{"$f":"Раздел2!D242","v":0}]
[null,"Пляжный футбол","235",0,0,null,null,null,0,null,null,null,0,0,null,null,null,0,null,null,null,0,null,null,null,null,null,null,{"$f":"Раздел2!F243","v":0},{"$f":"Раздел2!D243","v":0}]
[null,"Футгольф","236",0,0,null,null,null,0,null,null,null,0,0,null,null,null,0,null,null,null,0,null,null,null,null,null,null,{"$f":"Раздел2!F244","v":0},{"$f":"Раздел2!D244","v":0}]
[null,"Хапкидо","237",0,0,null,null,null,0,null,null,null,0,0,null,null,null,0,null,null,null,0,null,null,null,null,null,null,{"$f":"Раздел2!F245","v":0},{"$f":"Раздел2!D245","v":0}]
[null,"Хапсагай","238",0,0,null,null,null,0,null,null,null,0,0,null,null,null,0,null,null,null,0,null,null,null,null,null,null,{"$f":"Раздел2!F246","v":0},{"$f":"Раздел2!D246","v":0}]
[null,"Хоккей - всего","239",0,0,{"$f":"SUM(F247:F248)","v":0},{"$f":"SUM(G247:G248)","v":0},0,0,0,0,0,0,0,0,0,0,0,0,0,0,0,0,0,0,null,null,null,{"$f":"Раздел2!F247","v":0},{"$f":"Раздел2!D247","v":0}]
[null,"в том числе:\nХоккей (муж.)","240",0,0,null,null,null,0,null,null,null,0,0,null,null,null,0,null,null,null,0,null,null,null,null,null,null,{"$f":"Раздел2!F248","v":0},{"$f":"Раздел2!D248","v":0}]
[null,"Хоккей (жен.)","241",0,0,null,null,null,0,null,null,null,0,0,null,null,null,0,null,null,null,0,null,null,null,null,null,null,{"$f":"Раздел2!F249","v":0},{"$f":"Раздел2!D249","v":0}]
[null,"Хоккей на траве - всего","242",0,0,{"$f":"SUM(F250:F252)","v":0},{"$f":"SUM(G250:G252)","v":0},0,0,0,0,0,0,0,0,0,0,0,0,0,0,0,0,0,0,null,null,null,{"$f":"Раздел2!F250","v":0},{"$f":"Раздел2!D250","v":0}]
[null,"в том числе:\nХоккей на траве (муж.)","243",0,0,null,null,null,0,null,null,null,0,0,null,null,null,0,null,null,null,0,null,null,null,null,null,null,{"$f":"Раздел2!F251","v":0},{"$f":"Раздел2!D251","v":0}]
[null,"Хоккей на траве (жен.)","244",0,0,null,null,null,0,null,null,null,0,0,null,null,null,0,null,null,null,0,null,null,null,null,null,null,{"$f":"Раздел2!F252","v":0},{"$f":"Раздел2!D252","v":0}]
[null,"Индорхоккей","245",0,0,null,null,null,0,null,null,null,0,0,null,null,null,0,null,null,null,0,null,null,null,null,null,null,{"$f":"Раздел2!F253","v":0},{"$f":"Раздел2!D253","v":0}]
[null,"Хоккей с мячом","246",0,0,null,null,null,0,null,null,null,0,0,null,null,null,0,null,null,null,0,null,null,null,null,null,null,{"$f":"Раздел2!F254","v":0},{"$f":"Раздел2!D254","v":0}]
[null,"Художественная гимнастика","247",0,0,null,null,null,0,null,null,null,0,0,null,null,null,0,null,null,null,0,null,null,null,null,null,null,{"$f":"Раздел2!F255","v":0},{"$f":"Раздел2!D255","v":0}]
[null,"Хуреш","248",0,0,null,null,null,0,null,null,null,0,0,null,null,null,0,null,null,null,0,null,null,null,null,null,null,{"$f":"Раздел2!F256","v":0},{"$f":"Раздел2!D256","v":0}]
[null,"Чир спорт","249",0,0,null,null,null,0,null,null,null,0,0,null,null,null,0,null,null,null,0,null,null,null,null,null,null,{"$f":"Раздел2!F257","v":0},{"$f":"Раздел2!D257","v":0}]
[null,"Шахматы","250",0,0,null,null,null,0,null,null,null,0,0,null,null,null,0,null,null,null,0,null,null,null,null,null,null,{"$f":"Раздел2!F258","v":220},{"$f":"Раздел2!D258","v":1}]
[null,"Шашки","251",0,0,null,null,null,0,null,null,null,0,0,null,null,null,0,null,null,null,0,null,null,null,null,null,null,{"$f":"Раздел2!F259","v":0},{"$f":"Раздел2!D259","v":0}]
[null,"Шодсанлат","252",0,0,null,null,null,0,null,null,null,0,0,null,null,null,0,null,null,null,0,null,null,null,null,null,null,{"$f":"Раздел2!F260","v":0},{"$f":"Раздел2!D260","v":0}]
[null,"Эстетическая гимнастика","253",0,0,null,null,null,0,null,null,null,0,0,null,null,null,0,null,null,null,0,null,null,null,null,null,null,{"$f":"Раздел2!F261","v":0},{"$f":"Раздел2!D261","v":0}]
[null,"Якутские национальные прыжки","254",0,0,null,null,null,0,null,null,null,0,0,null,null,null,0,null,null,null,0,null,null,null,null,null,null,{"$f":"Раздел2!F262","v":0},{"$f":"Раздел2!D262","v":0}]
[null,"ИТОГО","255",3,3,{"$f":"SUM(F8:F19,F22:F25,F28:F32,F37:F40,F43:F48,F53:F55,F59:F68,F73:F82,F86:F92,F95:F99,F107:F121,F124:F129,F132,F137:F138,F144:F147,F152:F184,F190:F196,F201:F203,F207:F214,F217:F221,F226:F230,F237:F238,F243:F246,F249,F253:F261)","v":3},{"$f":"SUM(G8:G19,G22:G25,G28:G32,G37:G40,G43:G48,G53:G55,G59:G68,G73:G82,G86:G92,G95:G99,G107:G121,G124:G129,G132,G137:G138,G144:G147,G152:G184,G190:G196,G201:G203,G207:G214,G217:G221,G226:G230,G237:G238,G243:G246,G249,G253:G261)","v":0},0,0,{"$f":"SUM(J8:J19,J22:J25,J28:J32,J37:J40,J43:J48,J53:J55,J59:J68,J73:J82,J86:J92,J95:J99,J107:J121,J124:J129,J132,J137:J138,J144:J147,J152:J184,J190:J196,J201:J203,J207:J214,J217:J221,J226:J230,J237:J238,J243:J246,J249,J253:J261)","v":0},0,0,2,2,2,0,0,0,0,0,0,0,0,0,0,null,null,null,{"$f":"Раздел2!F263","v":680},{"$f":"Раздел2!D263","v":8}]

{"sheet":"Раздел6","index":6,"n_rows":261,"n_cols":17,"rows_kept":261,"cut":false,"hidden":false,"merged":[[0,0,121,0],[2,1,4,1],[2,2,4,2],[2,3,2,8],[0,1,0,14],[1,1,1,14],[3,3,3,4],[3,5,3,6],[3,9,3,10],[3,13,3,14],[3,11,3,12],[3,7,3,8],[2,9,2,14]]}
[null,"    Раздел VI. Занимающиеся – кандидаты в спортивные сборные команды России"]
[null,"Код по ОКЕИ: человек 792"]
[null,"Виды спорта","№ строки","Из числа занимающихся (гр. 5 раздела II) – кандидаты, состоящие в списках спортивных сборных команд",null,null,null,null,null,"Кандидаты, подготовленные в отчетном году"]
[null,null,null,"Юношеский состав",null,"Юниорский состав",null,"Основной состав",null,"Юношеский состав",null,"Юниорский состав",null,"Основной состав"]
[null,null,null,"основной","резерв","основной","резерв","основной","резерв","основной","резерв","основной","резерв","основной","резерв"]
[null,1,2,3,4,5,6,7,8,9,10,11,12,13,14]
[null,"Авиамодельный спорт","01",null,null,null,null,null,null,null,null,null,null,null,null,{"$f":"Раздел2!F9","v":0},{"$f":"Раздел2!D9","v":0}]
[null,"Автомобильный спорт","02",null,null,null,null,null,null,null,null,null,null,null,null,{"$f":"Раздел2!F10","v":0},{"$f":"Раздел2!D10","v":0}]
[null,"Автомодельный спорт","03",null,null,null,null,null,null,null,null,null,null,null,null,{"$f":"Раздел2!F11","v":0},{"$f":"Раздел2!D11","v":0}]
[null,"Айкидо","04",null,null,null,null,null,null,null,null,null,null,null,null,{"$f":"Раздел2!F12","v":0},{"$f":"Раздел2!D12","v":0}]
[null,"Айсшток","05",null,null,null,null,null,null,null,null,null,null,null,null,{"$f":"Раздел2!F13","v":0},{"$f":"Раздел2!D13","v":0}]
[null,"Акробатический рок-н-ролл","06",null,null,null,null,null,null,null,null,null,null,null,null,{"$f":"Раздел2!F14","v":0},{"$f":"Раздел2!D14","v":0}]
[null,"Альпинизм","07",null,null,null,null,null,null,null,null,null,null,null,null,{"$f":"Раздел2!F15","v":0},{"$f":"Раздел2!D15","v":0}]
[null,"Американский футбол","08",null,null,null,null,null,null,null,null,null,null,null,null,{"$f":"Раздел2!F16","v":0},{"$f":"Раздел2!D16","v":0}]
[null,"Армейский рукопашный бой","09",null,null,null,null,null,null,null,null,null,null,null,null,{"$f":"Раздел2!F17","v":0},{"$f":"Раздел2!D17","v":0}]
[null,"Армрестлинг","10",null,null,null,null,null,null,null,null,null,null,null,null,{"$f":"Раздел2!F18","v":0},{"$f":"Раздел2!D18","v":0}]
[null,"Бадминтон","11",null,null,null,null,null,null,null,null,null,null,null,null,{"$f":"Раздел2!F19","v":0},{"$f":"Раздел2!D19","v":0}]
[null,"Баскетбол - всего","12",{"$f":"SUM(D19:D20)","v":0},{"$f":"SUM(E19:E20)","v":0},0,0,0,0,0,0,0,0,0,0,{"$f":"Раздел2!F20","v":105},{"$f":"Раздел2!D20","v":1}]
[null,"в том числе:\nБаскетбол (муж.)","13",null,null,null,null,null,null,null,null,null,null,null,null,{"$f":"Раздел2!F21","v":52},{"$f":"Раздел2!D21","v":1}]
[null,"Баскетбол (жен.)","14",null,null,null,null,null,null,null,null,null,null,null,null,{"$f":"Раздел2!F22","v":53},{"$f":"Раздел2!D22","v":1}]
[null,"Бейсбол","15",null,null,null,null,null,null,null,null,null,null,null,null,{"$f":"Раздел2!F23","v":0},{"$f":"Раздел2!D23","v":0}]
[null,"Биатлон","16",null,null,null,null,null,null,null,null,null,null,null,null,{"$f":"Раздел2!F24","v":0},{"$f":"Раздел2!D24","v":0}]
[null,"Бильярдный спорт","17",null,null,null,null,null,null,null,null,null,null,null,null,{"$f":"Раздел2!F25","v":0},{"$f":"Раздел2!D25","v":0}]
[null,"Бобслей - всего","18",{"$f":"SUM(D25:D26)","v":0},{"$f":"SUM(E25:E26)","v":0},0,0,0,0,0,0,0,0,0,0,{"$f":"Раздел2!F26","v":0},{"$f":"Раздел2!D26","v":0}]
[null,"в том числе:\nБобслей","19",null,null,null,null,null,null,null,null,null,null,null,null,{"$f":"Раздел2!F27","v":0},{"$f":"Раздел2!D27","v":0}]
[null,"Скелетон","20",null,null,null,null,null,null,null,null,null,null,null,null,{"$f":"Раздел2!F28","v":0},{"$f":"Раздел2!D28","v":0}]
[null,"Бодибилдинг","21",null,null,null,null,null,null,null,null,null,null,null,null,{"$f":"Раздел2!F29","v":0},{"$f":"Раздел2!D29","v":0}]
[null,"Бокс","22",null,null,null,null,null,null,null,null,null,null,null,null,{"$f":"Раздел2!F30","v":0},{"$f":"Раздел2!D30","v":0}]
[null,"Борьба на поясах","23",null,null,null,null,null,null,null,null,null,null,null,null,{"$f":"Раздел2!F31","v":0},{"$f":"Раздел2!D31","v":0}]
[null,"Боулинг","24",null,null,null,null,null,null,null,null,null,null,null,null,{"$f":"Раздел2!F32","v":0},{"$f":"Раздел2!D32","v":0}]
[null,"Велосипедный спорт - всего","25",{"$f":"SUM(D32:D35)","v":0},{"$f":"SUM(E32:E35)","v":0},0,0,0,0,0,0,0,0,0,0,{"$f":"Раздел2!F33","v":0},{"$f":"Раздел2!D33","v":0}]
[null,"в том числе:\nBMX","26",null,null,null,null,null,null,null,null,null,null,null,null,{"$f":"Раздел2!F34","v":0},{"$f":"Раздел2!D34","v":0}]
[null,"Маунтинбайк","27",null,null,null,null,null,null,null,null,null,null,null,null,{"$f":"Раздел2!F35","v":0},{"$f":"Раздел2!D35","v":0}]
[null,"Трек","28",null,null,null,null,null,null,null,null,null,null,null,null,{"$f":"Раздел2!F36","v":0},{"$f":"Раздел2!D36","v":0}]
[null,"Шоссе","29",null,null,null,null,null,null,null,null,null,null,null,null,{"$f":"Раздел2!F37","v":0},{"$f":"Раздел2!D37","v":0}]
[null,"Вертолетный спорт","30",null,null,null,null,null,null,null,null,null,null,null,null,{"$f":"Раздел2!F38","v":0},{"$f":"Раздел2!D38","v":0}]
[null,"Водно-моторный спорт","31",null,null,null,null,null,null,null,null,null,null,null,null,{"$f":"Раздел2!F39","v":0},{"$f":"Раздел2!D39","v":0}]
[null,"Водно-спасательное многоборье","32",null,null,null,null,null,null,null,null,null,null,null,null,{"$f":"Раздел2!F40","v":0},{"$f":"Раздел2!D40","v":0}]
[null,"Водное поло - всего ","33",{"$f":"SUM(D40:D41)","v":0},{"$f":"SUM(E40:E41)","v":0},0,0,0,0,0,0,0,0,0,{"$f":"SUM(O40:O41)","v":0},{"$f":"Раздел2!F41","v":0},{"$f":"Раздел2!D41","v":0}]
[null,"в том числе:\nВодное поло (муж.)","34",null,null,null,null,null,null,null,null,null,null,null,null,{"$f":"Раздел2!F42","v":0},{"$f":"Раздел2!D42","v":0}]
[null,"Водное поло (жен.)","35",null,null,null,null,null,null,null,null,null,null,null,null,{"$f":"Раздел2!F43","v":0},{"$f":"Раздел2!D43","v":0}]
[null,"Воднолыжный спорт","36",null,null,null,null,null,null,null,null,null,null,null,null,{"$f":"Раздел2!F44","v":0},{"$f":"Раздел2!D44","v":0}]
[null,"Воздушно-силовая атлетика","37",null,null,null,null,null,null,null,null,null,null,null,null,{"$f":"Раздел2!F45","v":0},{"$f":"Раздел2!D45","v":0}]
[null,"Военно-прикладной спорт","38",null,null,null,null,null,null,null,null,null,null,null,null,{"$f":"Раздел2!F46","v":0},{"$f":"Раздел2!D46","v":0}]
[null,"Военно-спортивное многоборье","39",null,null,null,null,null,null,null,null,null,null,null,null,{"$f":"Раздел2!F47","v":0},{"$f":"Раздел2!D47","v":0}]
[null,"Воздухоплавательный спорт","40",null,null,null,null,null,null,null,null,null,null,null,null,{"$f":"Раздел2!F48","v":0},{"$f":"Раздел2!D48","v":0}]
[null,"Волейбол - всего","41",{"$f":"SUM(D48:D51)","v":0},{"$f":"SUM(E48:E51)","v":0},0,0,0,0,0,0,0,0,0,0,{"$f":"Раздел2!F49","v":135},{"$f":"Раздел2!D49","v":1}]
[null,"в том числе:\nВолейбол (муж.)","42",null,null,null,null,null,null,null,null,null,null,null,null,{"$f":"Раздел2!F50","v":77},{"$f":"Раздел2!D50","v":1}]
[null,"Волейбол (жен.)","43",null,null,null,null,null,null,null,null,null,null,null,null,{"$f":"Раздел2!F51","v":58},{"$f":"Раздел2!D51","v":1}]
[null,"Пляжный волейбол (муж.)","44",null,null,null,null,null,null,null,null,null,null,null,null,{"$f":"Раздел2!F52","v":0},{"$f":"Раздел2!D52","v":0}]
[null,"Пляжный волейбол (жен.)","45",null,null,null,null,null,null,null,null,null,null,null,null,{"$f":"Раздел2!F53","v":0},{"$f":"Раздел2!D53","v":0}]
[null,"Восточное боевое единоборство","46",null,null,null,null,null,null,null,null,null,null,null,null,{"$f":"Раздел2!F54","v":0},{"$f":"Раздел2!D54","v":0}]
[null,"Всестилевое каратэ","47",null,null,null,null,null,null,null,null,null,null,null,null,{"$f":"Раздел2!F55","v":0},{"$f":"Раздел2!D55","v":0}]
[null,"Гандбол - всего","48",{"$f":"SUM(D55:D57)","v":0},{"$f":"SUM(E55:E57)","v":0},0,0,0,0,0,0,0,0,0,0,{"$f":"Раздел2!F56","v":0},{"$f":"Раздел2!D56","v":0}]
[null,"в том числе:\nГандбол (муж.)","49",null,null,null,null,null,null,null,null,null,null,null,null,{"$f":"Раздел2!F57","v":0},{"$f":"Раздел2!D57","v":0}]
[null,"Гандбол (жен.)","50",null,null,null,null,null,null,null,null,null,null,null,null,{"$f":"Раздел2!F58","v":0},{"$f":"Раздел2!D58","v":0}]
[null,"Пляжный гандбол","51",null,null,null,null,null,null,null,null,null,null,null,null,{"$f":"Раздел2!F59","v":0},{"$f":"Раздел2!D59","v":0}]
[null,"Гиревой спорт","52",null,null,null,null,null,null,null,null,null,null,null,null,{"$f":"Раздел2!F60","v":0},{"$f":"Раздел2!D60","v":0}]
[null,"Го","53",null,null,null,null,null,null,null,null,null,null,null,null,{"$f":"Раздел2!F61","v":0},{"$f":"Раздел2!D61","v":0}]
[null,"Гольф","54",null,null,null,null,null,null,null,null,null,null,null,null,{"$f":"Раздел2!F62","v":0},{"$f":"Раздел2!D62","v":0}]
[null,"Гонки на охотничьих лыжах","55",null,null,null,null,null,null,null,null,null,null,null,null,{"$f":"Раздел2!F63","v":0},{"$f":"Раздел2!D63","v":0}]
[null,"Горнолыжный спорт","56",null,null,null,null,null,null,null,null,null,null,null,null,{"$f":"Раздел2!F64","v":0},{"$f":"Раздел2!D64","v":0}]
[null,"Городошный спорт","57",null,null,null,null,null,null,null,null,null,null,null,null,{"$f":"Раздел2!F65","v":0},{"$f":"Раздел2!D65","v":0}]
[null,"Гребля на байдарках и каноэ","58",null,null,null,null,null,null,null,null,null,null,null,null,{"$f":"Раздел2!F66","v":0},{"$f":"Раздел2!D66","v":0}]
[null,"Гребля на шлюпках","59",null,null,null,null,null,null,null,null,null,null,null,null,{"$f":"Раздел2!F67","v":0},{"$f":"Раздел2!D67","v":0}]
[null,"Гребной слалом","60",null,null,null,null,null,null,null,null,null,null,null,null,{"$f":"Раздел2!F68","v":0},{"$f":"Раздел2!D68","v":0}]
[null,"Гребной спорт - всего","61",{"$f":"SUM(D68:D71)","v":0},{"$f":"SUM(E68:E71)","v":0},0,0,0,0,0,0,0,0,0,0,{"$f":"Раздел2!F69","v":0},{"$f":"Раздел2!D69","v":0}]
[null,"в том числе:\nАкадемическая гребля","62",null,null,null,null,null,null,null,null,null,null,null,null,{"$f":"Раздел2!F70","v":0},{"$f":"Раздел2!D70","v":0}]
[null,"Гребля-индор","63",null,null,null,null,null,null,null,null,null,null,null,null,{"$f":"Раздел2!F71","v":0},{"$f":"Раздел2!D71","v":0}]
[null,"Народная гребля","64",null,null,null,null,null,null,null,null,null,null,null,null,{"$f":"Раздел2!F72","v":0},{"$f":"Раздел2!D72","v":0}]
[null,"Прибрежная гребля","65",null,null,null,null,null,null,null,null,null,null,null,null,{"$f":"Раздел2!F73","v":0},{"$f":"Раздел2!D73","v":0}]
[null,"Гребно-парусное двоеборье","66",null,null,null,null,null,null,null,null,null,null,null,null,{"$f":"Раздел2!F74","v":0},{"$f":"Раздел2!D74","v":0}]
[null,"Дартс","67",null,null,null,null,null,null,null,null,null,null,null,null,{"$f":"Раздел2!F75","v":0},{"$f":"Раздел2!D75","v":0}]
[null,"Джиу-джитсу","68",null,null,null,null,null,null,null,null,null,null,null,null,{"$f":"Раздел2!F76","v":0},{"$f":"Раздел2!D76","v":0}]
[null,"Дзюдо","69",null,null,null,null,null,null,null,null,null,null,null,null,{"$f":"Раздел2!F77","v":0},{"$f":"Раздел2!D77","v":0}]
[null,"Ездовой спорт","70",null,null,null,null,null,null,null,null,null,null,null,null,{"$f":"Раздел2!F78","v":0},{"$f":"Раздел2!D78","v":0}]
[null,"Капоэйра","71",null,null,null,null,null,null,null,null,null,null,null,null,{"$f":"Раздел2!F79","v":0},{"$f":"Раздел2!D79","v":0}]
[null,"Каратэ","72",null,null,null,null,null,null,null,null,null,null,null,null,{"$f":"Раздел2!F80","v":0},{"$f":"Раздел2!D80","v":0}]
[null,"Кендо","73",null,null,null,null,null,null,null,null,null,null,null,null,{"$f":"Раздел2!F81","v":0},{"$f":"Раздел2!D81","v":0}]
[null,"Керешу","74",null,null,null,null,null,null,null,null,null,null,null,null,{"$f":"Раздел2!F82","v":0},{"$f":"Раздел2!D82","v":0}]
[null,"Кёрлинг - всего","75",{"$f":"SUM(D82:D84)","v":0},{"$f":"SUM(E82:E84)","v":0},0,0,0,0,0,0,0,0,0,0,{"$f":"Раздел2!F83","v":0},{"$f":"Раздел2!D83","v":0}]
[null,"в том числе:\nКерлинг (муж.)","76",null,null,null,null,null,null,null,null,null,null,null,null,{"$f":"Раздел2!F84","v":0},{"$f":"Раздел2!D84","v":0}]
[null,"Керлинг (жен.)","77",null,null,null,null,null,null,null,null,null,null,null,null,{"$f":"Раздел2!F85","v":0},{"$f":"Раздел2!D85","v":0}]
[null,"Кёрлинг – смешанные пары","78",null,null,null,null,null,null,null,null,null,null,null,null,{"$f":"Раздел2!F86","v":0},{"$f":"Раздел2!D86","v":0}]
[null,"Кикбоксинг","79",null,null,null,null,null,null,null,null,null,null,null,null,{"$f":"Раздел2!F87","v":0},{"$f":"Раздел2!D87","v":0}]
[null,"Кинологический спорт","80",null,null,null,null,null,null,null,null,null,null,null,null,{"$f":"Раздел2!F88","v":0},{"$f":"Раздел2!D88","v":0}]
[null,"Киокусинкай","81",null,null,null,null,null,null,null,null,null,null,null,null,{"$f":"Раздел2!F89","v":30},{"$f":"Раздел2!D89","v":1}]
[null,"Комплексное единоборство","82",null,null,null,null,null,null,null,null,null,null,null,null,{"$f":"Раздел2!F90","v":0},{"$f":"Раздел2!D90","v":0}]
[null,"Компьютерный спорт","83",null,null,null,null,null,null,null,null,null,null,null,null,{"$f":"Раздел2!F91","v":0},{"$f":"Раздел2!D91","v":0}]
[null,"Конный спорт","84",null,null,null,null,null,null,null,null,null,null,null,null,{"$f":"Раздел2!F92","v":0},{"$f":"Раздел2!D92","v":0}]
[null,"Конькобежный спорт - всего","85",{"$f":"SUM(D92:D93)","v":0},{"$f":"SUM(E92:E93)","v":0},0,0,0,0,0,0,0,0,0,0,{"$f":"Раздел2!F93","v":0},{"$f":"Раздел2!D93","v":0}]
[null,"в том числе:\nКонькобежный спорт","86",null,null,null,null,null,null,null,null,null,null,null,null,{"$f":"Раздел2!F94","v":0},{"$f":"Раздел2!D94","v":0}]
[null,"Шорт-трек","87",null,null,null,null,null,null,null,null,null,null,null,null,{"$f":"Раздел2!F95","v":0},{"$f":"Раздел2!D95","v":0}]
[null,"Корэш","88",null,null,null,null,null,null,null,null,null,null,null,null,{"$f":"Раздел2!F96","v":0},{"$f":"Раздел2!D96","v":0}]
[null,"Корфбол","89",null,null,null,null,null,null,null,null,null,null,null,null,{"$f":"Раздел2!F97","v":0},{"$f":"Раздел2!D97","v":0}]
[null,"Кудо","90",null,null,null,null,null,null,null,null,null,null,null,null,{"$f":"Раздел2!F98","v":0},{"$f":"Раздел2!D98","v":0}]
[null,"Лапта","91",null,null,null,null,null,null,null,null,null,null,null,null,{"$f":"Раздел2!F99","v":35},{"$f":"Раздел2!D99","v":1}]
[null,"Легкая атлетика - всего","92",{"$f":"SUM(D99:D105)","v":0},{"$f":"SUM(E99:E105)","v":0},0,0,0,0,0,0,0,0,0,0,{"$f":"Раздел2!F100","v":0},{"$f":"Раздел2!D100","v":0}]
[null,"в том числе:\nСпринтерский и барьерный бег","93",null,null,null,null,null,null,null,null,null,null,null,null,{"$f":"Раздел2!F101","v":0},{"$f":"Раздел2!D101","v":0}]
[null,"Бег на средние дистанции и бег с препятствиями","94",null,null,null,null,null,null,null,null,null,null,null,null,{"$f":"Раздел2!F102","v":0},{"$f":"Раздел2!D102","v":0}]
[null,"Бег на длинные и сверхдлинные дистанции","95",null,null,null,null,null,null,null,null,null,null,null,null,{"$f":"Раздел2!F103","v":0},{"$f":"Раздел2!D103","v":0}]
[null,"Многоборья","96",null,null,null,null,null,null,null,null,null,null,null,null,{"$f":"Раздел2!F104","v":0},{"$f":"Раздел2!D104","v":0}]
[null,"Прыжки","97",null,null,null,null,null,null,null,null,null,null,null,null,{"$f":"Раздел2!F105","v":0},{"$f":"Раздел2!D105","v":0}]
[null,"Метания","98",null,null,null,null,null,null,null,null,null,null,null,null,{"$f":"Раздел2!F106","v":0},{"$f":"Раздел2!D106","v":0}]
[null,"Спортивная ходьба","99",null,null,null,null,null,null,null,null,null,null,null,null,{"$f":"Раздел2!F107","v":0},{"$f":"Раздел2!D107","v":0}]
[null,"Лыжное двоеборье","100",null,null,null,null,null,null,null,null,null,null,null,null,{"$f":"Раздел2!F108","v":0},{"$f":"Раздел2!D108","v":0}]
[null,"Лыжные гонки","101",null,null,null,null,null,null,null,null,null,null,null,null,{"$f":"Раздел2!F109","v":0},{"$f":"Раздел2!D109","v":0}]
[null,"Мас-рестлинг","102",null,null,null,null,null,null,null,null,null,null,null,null,{"$f":"Раздел2!F110","v":0},{"$f":"Раздел2!D110","v":0}]
[null,"Международное военно-спортивное многоборье","103",null,null,null,null,null,null,null,null,null,null,null,null,{"$f":"Раздел2!F111","v":0},{"$f":"Раздел2!D111","v":0}]
[null,"Многоборье кинологов","104",null,null,null,null,null,null,null,null,null,null,null,null,{"$f":"Раздел2!F112","v":0},{"$f":"Раздел2!D112","v":0}]
[null,"Многоборье спасателей МЧС России","105",null,null,null,null,null,null,null,null,null,null,null,null,{"$f":"Раздел2!F113","v":0},{"$f":"Раздел2!D113","v":0}]
[null,"Морское многоборье","106",null,null,null,null,null,null,null,null,null,null,null,null,{"$f":"Раздел2!F114","v":0},{"$f":"Раздел2!D114","v":0}]
[null,"Мотоциклетный спорт","107",null,null,null,null,null,null,null,null,null,null,null,null,{"$f":"Раздел2!F115","v":0},{"$f":"Раздел2!D115","v":0}]
[null,"Настольный теннис","108",null,null,null,null,null,null,null,null,null,null,null,null,{"$f":"Раздел2!F116","v":15},{"$f":"Раздел2!D116","v":1}]
[null,"Парашютный спорт","109",null,null,null,null,null,null,null,null,null,null,null,null,{"$f":"Раздел2!F117","v":0},{"$f":"Раздел2!D117","v":0}]
[null,"Парусный спорт","110",null,null,null,null,null,null,null,null,null,null,null,null,{"$f":"Раздел2!F118","v":0},{"$f":"Раздел2!D118","v":0}]
[null,"Пауэрлифтинг","111",null,null,null,null,null,null,null,null,null,null,null,null,{"$f":"Раздел2!F119","v":0},{"$f":"Раздел2!D119","v":0}]
[null,"Перетягивание каната","112",null,null,null,null,null,null,null,null,null,null,null,null,{"$f":"Раздел2!F120","v":0},{"$f":"Раздел2!D120","v":0}]
[null,"Петанк","113",null,null,null,null,null,null,null,null,null,null,null,null,{"$f":"Раздел2!F121","v":0},{"$f":"Раздел2!D121","v":0}]
[null,"Плавание - всего","114",{"$f":"SUM(D121:D122)","v":0},{"$f":"SUM(E121:E122)","v":0},0,0,0,0,0,0,0,0,0,0,{"$f":"Раздел2!F122","v":0},{"$f":"Раздел2!D122","v":0}]
[null,"в том числе:\nПлавание ","115",null,null,null,null,null,null,null,null,null,null,null,null,{"$f":"Раздел2!F123","v":0},{"$f":"Раздел2!D123","v":0}]
[null,"Открытая вода","116",null,null,null,null,null,null,null,null,null,null,null,null,{"$f":"Раздел2!F124","v":0},{"$f":"Раздел2!D124","v":0}]
[null,"Планерный спорт","117",null,null,null,null,null,null,null,null,null,null,null,null,{"$f":"Раздел2!F125","v":0},{"$f":"Раздел2!D125","v":0}]
[null,"Подводный спорт","118",null,null,null,null,null,null,null,null,null,null,null,null,{"$f":"Раздел2!F126","v":0},{"$f":"Раздел2!D126","v":0}]
[null,"Пожарно-спасательный спорт","119",null,null,null,null,null,null,null,null,null,null,null,null,{"$f":"Раздел2!F127","v":0},{"$f":"Раздел2!D127","v":0}]
[null,"Полиатлон","120",null,null,null,null,null,null,null,null,null,null,null,null,{"$f":"Раздел2!F128","v":0},{"$f":"Раздел2!D128","v":0}]
[null,"Практическая стрельба","121",null,null,null,null,null,null,null,null,null,null,null,null,{"$f":"Раздел2!F129","v":0},{"$f":"Раздел2!D129","v":0}]
[null,"Прыжки в воду - всего","122",{"$f":"SUM(D129:D130)","v":0},{"$f":"SUM(E129:E130)","v":0},0,0,0,0,0,0,0,0,0,0,{"$f":"Раздел2!F130","v":0},{"$f":"Раздел2!D130","v":0}]
[null,"в том числе:\nПрыжки в воду","123",null,null,null,null,null,null,null,null,null,null,null,null,{"$f":"Раздел2!F131","v":0},{"$f":"Раздел2!D131","v":0}]
[null,"Прыжки в открытый водоем","124",null,null,null,null,null,null,null,null,null,null,null,null,{"$f":"Раздел2!F132","v":0},{"$f":"Раздел2!D132","v":0}]
[null,"Прыжки на батуте - всего","125",{"$f":"SUM(D132:D135)","v":0},{"$f":"SUM(E132:E135)","v":0},0,0,0,0,0,0,0,0,0,0,{"$f":"Раздел2!F133","v":0},{"$f":"Раздел2!D133","v":0}]
[null,"в том числе:\nАкробатическая дорожка","126",null,null,null,null,null,null,null,null,null,null,null,null,{"$f":"Раздел2!F134","v":0},{"$f":"Раздел2!D134","v":0}]
[null,"Двойной минитрамп","127",null,null,null,null,null,null,null,null,null,null,null,null,{"$f":"Раздел2!F135","v":0},{"$f":"Раздел2!D135","v":0}]
[null,"Индивидуальные прыжки","128",null,null,null,null,null,null,null,null,null,null,null,null,{"$f":"Раздел2!F136","v":0},{"$f":"Раздел2!D136","v":0}]
[null,"Синхронные прыжки","129",null,null,null,null,null,null,null,null,null,null,null,null,{"$f":"Раздел2!F137","v":0},{"$f":"Раздел2!D137","v":0}]
[null,"Прыжки на лыжах с трамплина","130",null,null,null,null,null,null,null,null,null,null,null,null,{"$f":"Раздел2!F138","v":0},{"$f":"Раздел2!D138","v":0}]
[null,"Пулевая стрельба - всего","131",{"$f":"SUM(D138:D142)","v":0},{"$f":"SUM(E138:E142)","v":0},0,0,0,0,0,0,0,0,0,0,{"$f":"Раздел2!F139","v":0},{"$f":"Раздел2!D139","v":0}]
[null,"в том числе:\nПневматическая винтовка","132",null,null,null,null,null,null,null,null,null,null,null,null,{"$f":"Раздел2!F140","v":0},{"$f":"Раздел2!D140","v":0}]
[null,"Пневматический пистолет","133",null,null,null,null,null,null,null,null,null,null,null,null,{"$f":"Раздел2!F141","v":0},{"$f":"Раздел2!D141","v":0}]
[null,"Малокалиберная винтовка","134",null,null,null,null,null,null,null,null,null,null,null,null,{"$f":"Раздел2!F142","v":0},{"$f":"Раздел2!D142","v":0}]
[null,"Малокалиберный пистолет","135",null,null,null,null,null,null,null,null,null,null,null,null,{"$f":"Раздел2!F143","v":0},{"$f":"Раздел2!D143","v":0}]
[null,"Движущаяся мишень","136",null,null,null,null,null,null,null,null,null,null,null,null,{"$f":"Раздел2!F144","v":0},{"$f":"Раздел2!D144","v":0}]
[null,"Пэйнтбол","137",null,null,null,null,null,null,null,null,null,null,null,null,{"$f":"Раздел2!F145","v":0},{"$f":"Раздел2!D145","v":0}]
[null,"Радиоспорт","138",null,null,null,null,null,null,null,null,null,null,null,null,{"$f":"Раздел2!F146","v":0},{"$f":"Раздел2!D146","v":0}]
[null,"Рафтинг","139",null,null,null,null,null,null,null,null,null,null,null,null,{"$f":"Раздел2!F147","v":0},{"$f":"Раздел2!D147","v":0}]
[null,"Регби - всего","140",{"$f":"SUM(D147:D150)","v":0},{"$f":"SUM(E147:E150)","v":0},0,0,0,0,0,0,0,0,0,0,{"$f":"Раздел2!F148","v":0},{"$f":"Раздел2!D148","v":0}]
[null,"в том числе:\nРегби","141",null,null,null,null,null,null,null,null,null,null,null,null,{"$f":"Раздел2!F149","v":0},{"$f":"Раздел2!D149","v":0}]
[null,"Регби 7 (муж.)","142",null,null,null,null,null,null,null,null,null,null,null,null,{"$f":"Раздел2!F150","v":0},{"$f":"Раздел2!D150","v":0}]
[null,"Регби 7 (жен.)","143",null,null,null,null,null,null,null,null,null,null,null,null,{"$f":"Раздел2!F151","v":0},{"$f":"Раздел2!D151","v":0}]
[null,"Регби - пляжное","144",null,null,null,null,null,null,null,null,null,null,null,null,{"$f":"Раздел2!F152","v":0},{"$f":"Раздел2!D152","v":0}]
[null,"Регбол","145",null,null,null,null,null,null,null,null,null,null,null,null,{"$f":"Раздел2!F153","v":0},{"$f":"Раздел2!D153","v":0}]
[null,"Роллер спорт","146",null,null,null,null,null,null,null,null,null,null,null,null,{"$f":"Раздел2!F154","v":0},{"$f":"Раздел2!D154","v":0}]
[null,"Рукопашный бой","147",null,null,null,null,null,null,null,null,null,null,null,null,{"$f":"Раздел2!F155","v":0},{"$f":"Раздел2!D155","v":0}]
[null,"Рыболовный спорт","148",null,null,null,null,null,null,null,null,null,null,null,null,{"$f":"Раздел2!F156","v":0},{"$f":"Раздел2!D156","v":0}]
[null,"Сават","149",null,null,null,null,null,null,null,null,null,null,null,null,{"$f":"Раздел2!F157","v":0},{"$f":"Раздел2!D157","v":0}]
[null,"Самбо","150",null,null,null,null,null,null,null,null,null,null,null,null,{"$f":"Раздел2!F158","v":0},{"$f":"Раздел2!D158","v":0}]
[null,"Самолетный спорт","151",null,null,null,null,null,null,null,null,null,null,null,null,{"$f":"Раздел2!F159","v":0},{"$f":"Раздел2!D159","v":0}]
[null,"Санный спорт","152",null,null,null,null,null,null,null,null,null,null,null,null,{"$f":"Раздел2!F160","v":0},{"$f":"Раздел2!D160","v":0}]
[null,"Северное многоборье","153",null,null,null,null,null,null,null,null,null,null,null,null,{"$f":"Раздел2!F161","v":0},{"$f":"Раздел2!D161","v":0}]
[null,"Серфинг","154",null,null,null,null,null,null,null,null,null,null,null,null,{"$f":"Раздел2!F162","v":0},{"$f":"Раздел2!D162","v":0}]
[null,"Синхронное плавание","155",null,null,null,null,null,null,null,null,null,null,null,null,{"$f":"Раздел2!F163","v":0},{"$f":"Раздел2!D163","v":0}]
[null,"Скалолазание","156",null,null,null,null,null,null,null,null,null,null,null,null,{"$f":"Раздел2!F164","v":0},{"$f":"Раздел2!D164","v":0}]
[null,"Сквош","157",null,null,null,null,null,null,null,null,null,null,null,null,{"$f":"Раздел2!F165","v":0},{"$f":"Раздел2!D165","v":0}]
[null,"Скейтбординг","158",null,null,null,null,null,null,null,null,null,null,null,null,{"$f":"Раздел2!F166","v":0},{"$f":"Раздел2!D166","v":0}]
[null,"Служебно-боевая стрельба ","159",null,null,null,null,null,null,null,null,null,null,null,null,{"$f":"Раздел2!F167","v":0},{"$f":"Раздел2!D167","v":0}]
[null,"Служебно-прикладной спорт","160",null,null,null,null,null,null,null,null,null,null,null,null,{"$f":"Раздел2!F168","v":0},{"$f":"Раздел2!D168","v":0}]
[null,"Служебно-прикладной спорт ФСО России","161",null,null,null,null,null,null,null,null,null,null,null,null,{"$f":"Раздел2!F169","v":0},{"$f":"Раздел2!D169","v":0}]
[null,"Служебно-прикладной спорт ФТС России","162",null,null,null,null,null,null,null,null,null,null,null,null,{"$f":"Раздел2!F170","v":0},{"$f":"Раздел2!D170","v":0}]
[null,"Служебное двоеборье","163",null,null,null,null,null,null,null,null,null,null,null,null,{"$f":"Раздел2!F171","v":0},{"$f":"Раздел2!D171","v":0}]
[null,"Служебное единоборство","164",null,null,null,null,null,null,null,null,null,null,null,null,{"$f":"Раздел2!F172","v":0},{"$f":"Раздел2!D172","v":0}]
[null,"Служебное многоборье","165",null,null,null,null,null,null,null,null,null,null,null,null,{"$f":"Раздел2!F173","v":0},{"$f":"Раздел2!D173","v":0}]
[null,"Служебный биатлон","166",null,null,null,null,null,null,null,null,null,null,null,null,{"$f":"Раздел2!F174","v":0},{"$f":"Раздел2!D174","v":0}]
[null,"Спасательный спорт","167",null,null,null,null,null,null,null,null,null,null,null,null,{"$f":"Раздел2!F175","v":0},{"$f":"Раздел2!D175","v":0}]
[null,"Стрельба из боевого ручного стрелкового оружия","168",null,null,null,null,null,null,null,null,null,null,null,null,{"$f":"Раздел2!F176","v":0},{"$f":"Раздел2!D176","v":0}]
[null,"Стрельба из штатного или табельного оружия","169",null,null,null,null,null,null,null,null,null,null,null,null,{"$f":"Раздел2!F177","v":0},{"$f":"Раздел2!D177","v":0}]
[null,"Смешанное боевое единоборство (ММА)","170",null,null,null,null,null,null,null,null,null,null,null,null,{"$f":"Раздел2!F178","v":0},{"$f":"Раздел2!D178","v":0}]
[null,"Сноуборд","171",null,null,null,null,null,null,null,null,null,null,null,null,{"$f":"Раздел2!F179","v":0},{"$f":"Раздел2!D179","v":0}]
[null,"Современное пятиборье","172",null,null,null,null,null,null,null,null,null,null,null,null,{"$f":"Раздел2!F180","v":0},{"$f":"Раздел2!D180","v":0}]
[null,"Софтбол","173",null,null,null,null,null,null,null,null,null,null,null,null,{"$f":"Раздел2!F181","v":0},{"$f":"Раздел2!D181","v":0}]
[null,"Спорт сверхлегкой авиации","174",null,null,null,null,null,null,null,null,null,null,null,null,{"$f":"Раздел2!F182","v":0},{"$f":"Раздел2!D182","v":0}]
[null,"Спортивная акробатика","175",null,null,null,null,null,null,null,null,null,null,null,null,{"$f":"Раздел2!F183","v":0},{"$f":"Раздел2!D183","v":0}]
[null,"Спортивная аэробика","176",null,null,null,null,null,null,null,null,null,null,null,null,{"$f":"Раздел2!F184","v":0},{"$f":"Раздел2!D184","v":0}]
[null,"Спортивная борьба - всего","177",{"$f":"SUM(D184:D188)","v":0},{"$f":"SUM(E184:E188)","v":0},0,0,0,0,0,0,0,0,0,0,{"$f":"Раздел2!F185","v":110},{"$f":"Раздел2!D185","v":1}]
[null,"в том числе:\nВольная борьба","178",null,null,null,null,null,null,null,null,null,null,null,null,{"$f":"Раздел2!F186","v":110},{"$f":"Раздел2!D186","v":1}]
[null,"Греко-римская борьба","179",null,null,null,null,null,null,null,null,null,null,null,null,{"$f":"Раздел2!F187","v":0},{"$f":"Раздел2!D187","v":0}]
[null,"Грэпплинг","180",null,null,null,null,null,null,null,null,null,null,null,null,{"$f":"Раздел2!F188","v":0},{"$f":"Раздел2!D188","v":0}]
[null,"Грэпплинг-ги","181",null,null,null,null,null,null,null,null,null,null,null,null,{"$f":"Раздел2!F189","v":0},{"$f":"Раздел2!D189","v":0}]
[null,"Панкратион","182",null,null,null,null,null,null,null,null,null,null,null,null,{"$f":"Раздел2!F190","v":0},{"$f":"Раздел2!D190","v":0}]
[null,"Спортивная гимнастика","183",null,null,null,null,null,null,null,null,null,null,null,null,{"$f":"Раздел2!F191","v":0},{"$f":"Раздел2!D191","v":0}]
[null,"Спортивная йога","184",null,null,null,null,null,null,null,null,null,null,null,null,{"$f":"Раздел2!F192","v":0},{"$f":"Раздел2!D192","v":0}]
[null,"Спортивно-прикладное собаководство","185",null,null,null,null,null,null,null,null,null,null,null,null,{"$f":"Раздел2!F193","v":0},{"$f":"Раздел2!D193","v":0}]
[null,"Спортивное ориентирование","186",null,null,null,null,null,null,null,null,null,null,null,null,{"$f":"Раздел2!F194","v":0},{"$f":"Раздел2!D194","v":0}]
[null,"Спортивный бридж","187",null,null,null,null,null,null,null,null,null,null,null,null,{"$f":"Раздел2!F195","v":0},{"$f":"Раздел2!D195","v":0}]
[null,"Спортивный туризм","188",null,null,null,null,null,null,null,null,null,null,null,null,{"$f":"Раздел2!F196","v":0},{"$f":"Раздел2!D196","v":0}]
[null,"Стендовая стрельба - всего","189",{"$f":"SUM(D196:D199)","v":0},{"$f":"SUM(E196:E199)","v":0},0,0,0,0,0,0,0,0,0,{"$f":"SUM(O196:O199)","v":0},{"$f":"Раздел2!F197","v":0},{"$f":"Раздел2!D197","v":0}]
[null,"в том числе:\nТрап","190",null,null,null,null,null,null,null,null,null,null,null,null,{"$f":"Раздел2!F198","v":0},{"$f":"Раздел2!D198","v":0}]
[null,"Скит","191",null,null,null,null,null,null,null,null,null,null,null,null,{"$f":"Раздел2!F199","v":0},{"$f":"Раздел2!D199","v":0}]
[null,"Дубль-трап","192",null,null,null,null,null,null,null,null,null,null,null,null,{"$f":"Раздел2!F200","v":0},{"$f":"Раздел2!D200","v":0}]
[null,"Спортинг","193",null,null,null,null,null,null,null,null,null,null,null,null,{"$f":"Раздел2!F201","v":0},{"$f":"Раздел2!D201","v":0}]
[null,"Страйкбол","194",null,null,null,null,null,null,null,null,null,null,null,null,{"$f":"Раздел2!F202","v":0},{"$f":"Раздел2!D202","v":0}]
[null,"Стрельба из арбалета","195",null,null,null,null,null,null,null,null,null,null,null,null,{"$f":"Раздел2!F203","v":0},{"$f":"Раздел2!D203","v":0}]
[null,"Стрельба из лука - всего","196",{"$f":"SUM(D203:D205)","v":0},{"$f":"SUM(E203:E205)","v":0},0,0,0,0,0,0,0,0,0,0,{"$f":"Раздел2!F204","v":0},{"$f":"Раздел2!D204","v":0}]
[null,"в том числе:\nКлассический лук","197",null,null,null,null,null,null,null,null,null,null,null,null,{"$f":"Раздел2!F205","v":0},{"$f":"Раздел2!D205","v":0}]
[null,"   Блочный лук","198",null,null,null,null,null,null,null,null,null,null,null,null,{"$f":"Раздел2!F206","v":0},{"$f":"Раздел2!D206","v":0}]
[null,"   Ачери ","199",null,null,null,null,null,null,null,null,null,null,null,null,{"$f":"Раздел2!F207","v":0},{"$f":"Раздел2!D207","v":0}]
[null,"Судомодельный спорт","200",null,null,null,null,null,null,null,null,null,null,null,null,{"$f":"Раздел2!F208","v":0},{"$f":"Раздел2!D208","v":0}]
[null,"Сумо","201",null,null,null,null,null,null,null,null,null,null,null,null,{"$f":"Раздел2!F209","v":0},{"$f":"Раздел2!D209","v":0}]
[null,"Таврели","202",null,null,null,null,null,null,null,null,null,null,null,null,{"$f":"Раздел2!F210","v":0},{"$f":"Раздел2!D210","v":0}]
[null,"Тайский бокс","203",null,null,null,null,null,null,null,null,null,null,null,null,{"$f":"Раздел2!F211","v":0},{"$f":"Раздел2!D211","v":0}]
[null,"Танцевальный спорт","204",null,null,null,null,null,null,null,null,null,null,null,null,{"$f":"Раздел2!F212","v":0},{"$f":"Раздел2!D212","v":0}]
[null,"Теннис","205",null,null,null,null,null,null,null,null,null,null,null,null,{"$f":"Раздел2!F213","v":0},{"$f":"Раздел2!D213","v":0}]
[null,"Триатлон","206",null,null,null,null,null,null,null,null,null,null,null,null,{"$f":"Раздел2!F214","v":0},{"$f":"Раздел2!D214","v":0}]
[null,"Тхэквондо - всего","207",{"$f":"SUM(D214:D215)","v":0},{"$f":"SUM(E214:E215)","v":0},0,0,0,0,0,0,0,0,0,0,{"$f":"Раздел2!F215","v":0},{"$f":"Раздел2!D215","v":0}]
[null,"в том числе:\nТхэквондо (ВТФ)","208",null,null,null,null,null,null,null,null,null,null,null,null,{"$f":"Раздел2!F216","v":0},{"$f":"Раздел2!D216","v":0}]
[null,"Тхэквондо (ГТФ, МФТ)","209",null,null,null,null,null,null,null,null,null,null,null,null,{"$f":"Раздел2!F217","v":0},{"$f":"Раздел2!D217","v":0}]
[null,"Тхэквондо ИТФ","210",null,null,null,null,null,null,null,null,null,null,null,null,{"$f":"Раздел2!F218","v":0},{"$f":"Раздел2!D218","v":0}]
[null,"Тяжелая атлетика","211",null,null,null,null,null,null,null,null,null,null,null,null,{"$f":"Раздел2!F219","v":0},{"$f":"Раздел2!D219","v":0}]
[null,"Универсальный бой","212",null,null,null,null,null,null,null,null,null,null,null,null,{"$f":"Раздел2!F220","v":0},{"$f":"Раздел2!D220","v":0}]
[null,"Ушу","213",null,null,null,null,null,null,null,null,null,null,null,null,{"$f":"Раздел2!F221","v":0},{"$f":"Раздел2!D221","v":0}]
[null,"Фехтование - всего","214",{"$f":"SUM(D221:D224)","v":0},{"$f":"SUM(E221:E224)","v":0},0,0,0,0,0,0,0,0,0,0,{"$f":"Раздел2!F222","v":0},{"$f":"Раздел2!D222","v":0}]
[null,"в том числе:\nРапира","215",null,null,null,null,null,null,null,null,null,null,null,null,{"$f":"Раздел2!F223","v":0},{"$f":"Раздел2!D223","v":0}]
[null,"Сабля","216",null,null,null,null,null,null,null,null,null,null,null,null,{"$f":"Раздел2!F224","v":0},{"$f":"Раздел2!D224","v":0}]
[null,"Шпага","217",null,null,null,null,null,null,null,null,null,null,null,null,{"$f":"Раздел2!F225","v":0},{"$f":"Раздел2!D225","v":0}]
[null,"Арт-фехтование","218",null,null,null,null,null,null,null,null,null,null,null,null,{"$f":"Раздел2!F226","v":0},{"$f":"Раздел2!D226","v":0}]
[null,"Фигурное катание на коньках","219",null,null,null,null,null,null,null,null,null,null,null,null,{"$f":"Раздел2!F227","v":0},{"$f":"Раздел2!D227","v":0}]
[null,"Фитнес-аэробика","220",null,null,null,null,null,null,null,null,null,null,null,null,{"$f":"Раздел2!F228","v":0},{"$f":"Раздел2!D228","v":0}]
[null,"Флаинг диск","221",null,null,null,null,null,null,null,null,null,null,null,null,{"$f":"Раздел2!F229","v":0},{"$f":"Раздел2!D229","v":0}]
[null,"Флорбол","222",null,null,null,null,null,null,null,null,null,null,null,null,{"$f":"Раздел2!F230","v":0},{"$f":"Раздел2!D230","v":0}]
[null,"Фристайл - всего","223",{"$f":"SUM(D230:D235)","v":0},{"$f":"SUM(E230:E235)","v":0},0,0,0,0,0,0,0,0,0,0,{"$f":"Раздел2!F231","v":0},{"$f":"Раздел2!D231","v":0}]
[null,"в том числе:\nАкробатика","224",null,null,null,null,null,null,null,null,null,null,null,null,{"$f":"Раздел2!F232","v":0},{"$f":"Раздел2!D232","v":0}]
[null,"Биг-эйр","225",null,null,null,null,null,null,null,null,null,null,null,null,{"$f":"Раздел2!F233","v":0},{"$f":"Раздел2!D233","v":0}]
[null,"Могул","226",null,null,null,null,null,null,null,null,null,null,null,null,{"$f":"Раздел2!F234","v":0},{"$f":"Раздел2!D234","v":0}]
[null,"Ски-кросс","227",null,null,null,null,null,null,null,null,null,null,null,null,{"$f":"Раздел2!F235","v":0},{"$f":"Раздел2!D235","v":0}]
[null,"Хаф-пайп","228",null,null,null,null,null,null,null,null,null,null,null,null,{"$f":"Раздел2!F236","v":0},{"$f":"Раздел2!D236","v":0}]
[null,"Слоуп-стайл","229",null,null,null,null,null,null,null,null,null,null,null,null,{"$f":"Раздел2!F237","v":0},{"$f":"Раздел2!D237","v":0}]
[null,"Функциональное многоборье","230",null,null,null,null,null,null,null,null,null,null,null,null,{"$f":"Раздел2!F238","v":0},{"$f":"Раздел2!D238","v":0}]
[null,"Футбол - всего","231",{"$f":"SUM(D238:D241)","v":0},{"$f":"SUM(E238:E241)","v":0},0,0,0,0,0,0,0,0,0,0,{"$f":"Раздел2!F239","v":30},{"$f":"Раздел2!D239","v":1}]
[null,"в том числе:\nФутбол (муж.)","232",null,null,null,null,null,null,null,null,null,null,null,null,{"$f":"Раздел2!F240","v":30},{"$f":"Раздел2!D240","v":1}]
[null,"Футбол (жен.)","233",null,null,null,null,null,null,null,null,null,null,null,null,{"$f":"Раздел2!F241","v":0},{"$f":"Раздел2!D241","v":0}]
[null,"Мини-футбол (футзал)","234",null,null,null,null,null,null,null,null,null,null,null,null,{"$f":"Раздел2!F242","v":0},{"$f":"Раздел2!D242","v":0}]
[null,"Пляжный футбол","235",null,null,null,null,null,null,null,null,null,null,null,null,{"$f":"Раздел2!F243","v":0},{"$f":"Раздел2!D243","v":0}]
[null,"Футгольф","236",null,null,null,null,null,null,null,null,null,null,null,null,{"$f":"Раздел2!F244","v":0},{"$f":"Раздел2!D244","v":0}]
[null,"Хапкидо","237",null,null,null,null,null,null,null,null,null,null,null,null,{"$f":"Раздел2!F245","v":0},{"$f":"Раздел2!D245","v":0}]
[null,"Хапсагай","238",null,null,null,null,null,null,null,null,null,null,null,null,{"$f":"Раздел2!F246","v":0},{"$f":"Раздел2!D246","v":0}]
[null,"Хоккей - всего","239",{"$f":"SUM(D246:D247)","v":0},{"$f":"SUM(E246:E247)","v":0},0,0,0,0,0,0,0,0,0,0,{"$f":"Раздел2!F247","v":0},{"$f":"Раздел2!D247","v":0}]
[null,"в том числе:\nХоккей (муж.)","240",null,null,null,null,null,null,null,null,null,null,null,null,{"$f":"Раздел2!F248","v":0},{"$f":"Раздел2!D248","v":0}]
[null,"Хоккей (жен.)","241",null,null,null,null,null,null,null,null,null,null,null,null,{"$f":"Раздел2!F249","v":0},{"$f":"Раздел2!D249","v":0}]
[null,"Хоккей на траве - всего","242",{"$f":"SUM(D249:D251)","v":0},{"$f":"SUM(E249:E251)","v":0},0,0,0,0,0,0,0,0,0,0,{"$f":"Раздел2!F250","v":0},{"$f":"Раздел2!D250","v":0}]
[null,"в том числе:\nХоккей на траве (муж.)","243",null,null,null,null,null,null,null,null,null,null,null,null,{"$f":"Раздел2!F251","v":0},{"$f":"Раздел2!D251","v":0}]
[null,"Хоккей на траве (жен.)","244",null,null,null,null,null,null,null,null,null,null,null,null,{"$f":"Раздел2!F252","v":0},{"$f":"Раздел2!D252","v":0}]
[null,"Индорхоккей","245",null,null,null,null,null,null,null,null,null,null,null,null,{"$f":"Раздел2!F253","v":0},{"$f":"Раздел2!D253","v":0}]
[null,"Хоккей с мячом","246",null,null,null,null,null,null,null,null,null,null,null,null,{"$f":"Раздел2!F254","v":0},{"$f":"Раздел2!D254","v":0}]
[null,"Художественная гимнастика","247",null,null,null,null,null,null,null,null,null,null,null,null,{"$f":"Раздел2!F255","v":0},{"$f":"Раздел2!D255","v":0}]
[null,"Хуреш","248",null,null,null,null,null,null,null,null,null,null,null,null,{"$f":"Раздел2!F256","v":0},{"$f":"Раздел2!D256","v":0}]
[null,"Чир спорт","249",null,null,null,null,null,null,null,null,null,null,null,null,{"$f":"Раздел2!F257","v":0},{"$f":"Раздел2!D257","v":0}]
[null,"Шахматы","250",null,null,null,null,null,null,null,null,null,null,null,null,{"$f":"Раздел2!F258","v":220},{"$f":"Раздел2!D258","v":1}]
[null,"Шашки","251",null,null,null,null,null,null,null,null,null,null,null,null,{"$f":"Раздел2!F259","v":0},{"$f":"Раздел2!D259","v":0}]
[null,"Шодсанлат","252",null,null,null,null,null,null,null,null,null,null,null,null,{"$f":"Раздел2!F260","v":0},{"$f":"Раздел2!D260","v":0}]
[null,"Эстетическая гимнастика","253",null,null,null,null,null,null,null,null,null,null,null,null,{"$f":"Раздел2!F261","v":0},{"$f":"Раздел2!D261","v":0}]
[null,"Якутские национальные прыжки","254",null,null,null,null,null,null,null,null,null,null,null,null,{"$f":"Раздел2!F262","v":0},{"$f":"Раздел2!D262","v":0}]
[null,"ИТОГО","255",{"$f":"SUM(D7:D18,D21:D24,D27:D31,D36:D39,D42:D47,D52:D54,D58:D67,D72:D81,D85:D91,D94:D98,D106:D120,D123:D128,D131,D136:D137,D143:D146,D151:D183,D189:D195,D200:D202,D206:D213,D216:D220,D225:D229,D236:D237,D242:D245,D248,D252:D260)","v":0},{"$f":"SUM(E7:E18,E21:E24,E27:E31,E36:E39,E42:E47,E52:E54,E58:E67,E72:E81,E85:E91,E94:E98,E106:E120,E123:E128,E131,E136:E137,E143:E146,E151:E183,E189:E195,E200:E202,E206:E213,E216:E220,E225:E229,E236:E237,E242:E245,E248,E252:E260)","v":0},0,0,0,0,{"$f":"SUM(J7:J18,J21:J24,J27:J31,J36:J39,J42:J47,J52:J54,J58:J67,J72:J81,J85:J91,J94:J98,J106:J120,J123:J128,J131,J136:J137,J143:J146,J151:J183,J189:J195,J200:J202,J206:J213,J216:J220,J225:J229,J236:J237,J242:J245,J248,J252:J260)","v":0},0,0,0,0,0,{"$f":"Раздел2!F263","v":680},{"$f":"Раздел2!D263","v":8}]

{"sheet":"Раздел7","index":7,"n_rows":262,"n_cols":37,"rows_kept":262,"cut":false,"hidden":false,"merged":[[2,3,2,33],[0,0,122,0],[2,1,5,1],[2,2,5,2],[2,36,5,36],[0,1,0,33],[0,34,122,34],[3,9,4,13],[3,14,4,18],[3,19,4,23],[3,24,4,28],[3,29,4,33],[3,3,4,8],[1,30,1,33]]}
[null,"Раздел VII. Всероссийские спортивные соревнования"]
[null,null,null,null,null,null,null,null,null,null,null,null,null,null,null,null,null,null,null,null,null,null,null,null,null,null,null,null,null,null,"Коды по ОКЕИ: единица - 642"]
[null,"Виды спорта","№ строки","Результаты выступлений на соревнованиях",null,null,null,null,null,null,null,null,null,null,null,null,null,null,null,null,null,null,null,null,null,null,null,null,null,null,null,null,null,null,null,null,"Раздел2 графа3\nЧисло отделений"]
[null,null,null,"Всего",null,null,null,null,null,"Чемпионат России",null,null,null,null,"Первенство России среди юниоров и юниорок",null,null,null,null,"Первенство России среди юношей и девушек",null,null,null,null,"Кубок России",null,null,null,null,"Прочие официальные всероссийские соревнования"]
[]
[null,null,null,"медали \n(1-3 место)",1,2,3,"4-6","учас-тие",1,2,3,"4-6","учас-тие",1,2,3,"4-6","учас-тие",1,2,3,"4-6","учас-тие",1,2,3,"4-6","учас-тие",1,2,3,"4-6","учас-тие"]
[null,1,2,3,4,5,6,7,8,9,10,11,12,13,14,15,16,17,18,19,20,21,22,23,24,25,26,27,28,29,30,31,32,33]
[null,"Авиамодельный спорт","01",{"$f":"SUM(E8:G8)","v":0},{"$f":"SUM(J8,O8,T8,Y8,AD8)","v":0},{"$f":"SUM(K8,P8,U8,Z8,AE8)","v":0},{"$f":"SUM(L8,Q8,V8,AA8,AF8)","v":0},{"$f":"SUM(M8,R8,W8,AB8,AG8)","v":0},{"$f":"SUM(N8,S8,X8,AC8,AH8)","v":0},null,null,null,null,null,null,null,null,null,null,null,null,null,null,null,null,null,null,null,null,null,null,null,null,null,null,null,{"$f":"Раздел2!D9","v":0}]
[null,"Автомобильный спорт","02",{"$f":"SUM(E9:G9)","v":0},{"$f":"SUM(J9,O9,T9,Y9,AD9)","v":0},{"$f":"SUM(K9,P9,U9,Z9,AE9)","v":0},{"$f":"SUM(L9,Q9,V9,AA9,AF9)","v":0},{"$f":"SUM(M9,R9,W9,AB9,AG9)","v":0},{"$f":"SUM(N9,S9,X9,AC9,AH9)","v":0},null,null,null,null,null,null,null,null,null,null,null,null,null,null,null,null,null,null,null,null,null,null,null,null,null,null,null,{"$f":"Раздел2!D10","v":0}]
[null,"Автомодельный спорт","03",0,0,0,0,0,0,null,null,null,null,null,null,null,null,null,null,null,null,null,null,null,null,null,null,null,null,null,null,null,null,null,null,null,{"$f":"Раздел2!D11","v":0}]
[null,"Айкидо","04",0,0,0,0,0,0,null,null,null,null,null,null,null,null,null,null,null,null,null,null,null,null,null,null,null,null,null,null,null,null,null,null,null,{"$f":"Раздел2!D12","v":0}]
[null,"Айсшток","05",0,0,0,0,0,0,null,null,null,null,null,null,null,null,null,null,null,null,null,null,null,null,null,null,null,null,null,null,null,null,null,null,null,{"$f":"Раздел2!D13","v":0}]
[null,"Акробатический рок-н-ролл","06",0,0,0,0,0,0,null,null,null,null,null,null,null,null,null,null,null,null,null,null,null,null,null,null,null,null,null,null,null,null,null,null,null,{"$f":"Раздел2!D14","v":0}]
[null,"Альпинизм","07",0,0,0,0,0,0,null,null,null,null,null,null,null,null,null,null,null,null,null,null,null,null,null,null,null,null,null,null,null,null,null,null,null,{"$f":"Раздел2!D15","v":0}]
[null,"Американский футбол","08",0,0,0,0,0,0,null,null,null,null,null,null,null,null,null,null,null,null,null,null,null,null,null,null,null,null,null,null,null,null,null,null,null,{"$f":"Раздел2!D16","v":0}]
[null,"Армейский рукопашный бой","09",0,0,0,0,0,0,null,null,null,null,null,null,null,null,null,null,null,null,null,null,null,null,null,null,null,null,null,null,null,null,null,null,null,{"$f":"Раздел2!D17","v":0}]
[null,"Армрестлинг","10",0,0,0,0,0,0,null,null,null,null,null,null,null,null,null,null,null,null,null,null,null,null,null,null,null,null,null,null,null,null,null,null,null,{"$f":"Раздел2!D18","v":0}]
[null,"Бадминтон","11",0,0,0,0,0,0,null,null,null,null,null,null,null,null,null,null,null,null,null,null,null,null,null,null,null,null,null,null,null,null,null,null,null,{"$f":"Раздел2!D19","v":0}]
[null,"Баскетбол - всего","12",1,0,1,0,1,0,{"$f":"SUM(J20:J21)","v":0},{"$f":"SUM(K20:K21)","v":0},0,0,0,0,0,0,0,0,0,0,0,0,0,0,0,0,0,0,0,1,0,1,0,null,null,{"$f":"Раздел2!D20","v":1}]
[null,"в том числе:\nБаскетбол (муж.)","13",0,0,0,0,1,0,null,null,null,null,null,null,null,null,null,null,null,null,null,null,null,null,null,null,null,null,null,null,null,1,null,null,null,{"$f":"Раздел2!D21","v":1}]
[null,"Баскетбол (жен.)","14",1,0,1,0,0,0,null,null,null,null,null,null,null,null,null,null,null,null,null,null,null,null,null,null,null,null,null,1,null,null,null,null,null,{"$f":"Раздел2!D22","v":1}]
[null,"Бейсбол","15",0,0,0,0,0,0,null,null,null,null,null,null,null,null,null,null,null,null,null,null,null,null,null,null,null,null,null,null,null,null,null,null,null,{"$f":"Раздел2!D23","v":0}]
[null,"Биатлон","16",0,0,0,0,0,0,null,null,null,null,null,null,null,null,null,null,null,null,null,null,null,null,null,null,null,null,null,null,null,null,null,null,null,{"$f":"Раздел2!D24","v":0}]
[null,"Бильярдный спорт","17",0,0,0,0,0,0,null,null,null,null,null,null,null,null,null,null,null,null,null,null,null,null,null,null,null,null,null,null,null,null,null,null,null,{"$f":"Раздел2!D25","v":0}]
[null,"Бобслей - всего","18",0,0,0,0,0,0,{"$f":"SUM(J26:J27)","v":0},{"$f":"SUM(K26:K27)","v":0},0,0,0,0,0,0,0,0,0,0,0,0,0,0,0,0,0,0,0,0,0,0,0,null,null,{"$f":"Раздел2!D26","v":0}]
[null,"в том числе:\nБобслей","19",0,0,0,0,0,0,null,null,null,null,null,null,null,null,null,null,null,null,null,null,null,null,null,null,null,null,null,null,null,null,null,null,null,{"$f":"Раздел2!D27","v":0}]
[null,"Скелетон","20",0,0,0,0,0,0,null,null,null,null,null,null,null,null,null,null,null,null,null,null,null,null,null,null,null,null,null,null,null,null,null,null,null,{"$f":"Раздел2!D28","v":0}]
[null,"Бодибилдинг","21",0,0,0,0,0,0,null,null,null,null,null,null,null,null,null,null,null,null,null,null,null,null,null,null,null,null,null,null,null,null,null,null,null,{"$f":"Раздел2!D29","v":0}]
[null,"Бокс","22",0,0,0,0,0,0,null,null,null,null,null,null,null,null,null,null,null,null,null,null,null,null,null,null,null,null,null,null,null,null,null,null,null,{"$f":"Раздел2!D30","v":0}]
[null,"Борьба на поясах","23",0,0,0,0,0,0,null,null,null,null,null,null,null,null,null,null,null,null,null,null,null,null,null,null,null,null,null,null,null,null,null,null,null,{"$f":"Раздел2!D31","v":0}]
[null,"Боулинг","24",0,0,0,0,0,0,null,null,null,null,null,null,null,null,null,null,null,null,null,null,null,null,null,null,null,null,null,null,null,null,null,null,null,{"$f":"Раздел2!D32","v":0}]
[null,"Велосипедный спорт - всего","25",0,0,0,0,0,0,{"$f":"SUM(J33:J36)","v":0},{"$f":"SUM(K33:K36)","v":0},0,0,0,0,0,0,0,0,0,0,0,0,0,0,0,0,0,0,0,0,0,0,0,null,null,{"$f":"Раздел2!D33","v":0}]
[null,"в том числе:\nBMX","26",0,0,0,0,0,0,null,null,null,null,null,null,null,null,null,null,null,null,null,null,null,null,null,null,null,null,null,null,null,null,null,null,null,{"$f":"Раздел2!D34","v":0}]
[null,"Маунтинбайк","27",0,0,0,0,0,0,null,null,null,null,null,null,null,null,null,null,null,null,null,null,null,null,null,null,null,null,null,null,null,null,null,null,null,{"$f":"Раздел2!D35","v":0}]
[null,"Трек","28",0,0,0,0,0,0,null,null,null,null,null,null,null,null,null,null,null,null,null,null,null,null,null,null,null,null,null,null,null,null,null,null,null,{"$f":"Раздел2!D36","v":0}]
[null,"Шоссе","29",0,0,0,0,0,0,null,null,null,null,null,null,null,null,null,null,null,null,null,null,null,null,null,null,null,null,null,null,null,null,null,null,null,{"$f":"Раздел2!D37","v":0}]
[null,"Вертолетный спорт","30",0,0,0,0,0,0,null,null,null,null,null,null,null,null,null,null,null,null,null,null,null,null,null,null,null,null,null,null,null,null,null,null,null,{"$f":"Раздел2!D38","v":0}]
[null,"Водно-моторный спорт","31",0,0,0,0,0,0,null,null,null,null,null,null,null,null,null,null,null,null,null,null,null,null,null,null,null,null,null,null,null,null,null,null,null,{"$f":"Раздел2!D39","v":0}]
[null,"Водно-спасательное многоборье","32",0,0,0,0,0,0,null,null,null,null,null,null,null,null,null,null,null,null,null,null,null,null,null,null,null,null,null,null,null,null,null,null,null,{"$f":"Раздел2!D40","v":0}]
[null,"Водное поло - всего ","33",0,0,0,0,0,0,{"$f":"SUM(J41:J42)","v":0},{"$f":"SUM(K41:K42)","v":0},0,0,0,0,0,0,0,0,0,0,0,0,0,0,0,0,0,0,0,0,0,0,0,null,null,{"$f":"Раздел2!D41","v":0}]
[null,"в том числе:\nВодное поло (муж.)","34",0,0,0,0,0,0,null,null,null,null,null,null,null,null,null,null,null,null,null,null,null,null,null,null,null,null,null,null,null,null,null,null,null,{"$f":"Раздел2!D42","v":0}]
[null,"Водное поло (жен.)","35",0,0,0,0,0,0,null,null,null,null,null,null,null,null,null,null,null,null,null,null,null,null,null,null,null,null,null,null,null,null,null,null,null,{"$f":"Раздел2!D43","v":0}]
[null,"Воднолыжный спорт","36",0,0,0,0,0,0,null,null,null,null,null,null,null,null,null,null,null,null,null,null,null,null,null,null,null,null,null,null,null,null,null,null,null,{"$f":"Раздел2!D44","v":0}]
[null,"Воздушно-силовая атлетика","37",0,0,0,0,0,0,null,null,null,null,null,null,null,null,null,null,null,null,null,null,null,null,null,null,null,null,null,null,null,null,null,null,null,{"$f":"Раздел2!D45","v":0}]
[null,"Военно-прикладной спорт","38",0,0,0,0,0,0,null,null,null,null,null,null,null,null,null,null,null,null,null,null,null,null,null,null,null,null,null,null,null,null,null,null,null,{"$f":"Раздел2!D46","v":0}]
[null,"Военно-спортивное многоборье","39",0,0,0,0,0,0,null,null,null,null,null,null,null,null,null,null,null,null,null,null,null,null,null,null,null,null,null,null,null,null,null,null,null,{"$f":"Раздел2!D47","v":0}]
[null,"Воздухоплавательный спорт","40",0,0,0,0,0,0,null,null,null,null,null,null,null,null,null,null,null,null,null,null,null,null,null,null,null,null,null,null,null,null,null,null,null,{"$f":"Раздел2!D48","v":0}]
[null,"Волейбол - всего","41",0,0,0,0,0,0,{"$f":"SUM(J49:J52)","v":0},{"$f":"SUM(K49:K52)","v":0},0,0,0,0,0,0,0,0,0,0,0,0,0,0,0,0,0,0,0,0,0,0,0,null,null,{"$f":"Раздел2!D49","v":1}]
[null,"в том числе:\nВолейбол (муж.)","42",0,0,0,0,0,0,null,null,null,null,null,null,null,null,null,null,null,null,null,null,null,null,null,null,null,null,null,null,null,null,null,null,null,{"$f":"Раздел2!D50","v":1}]
[null,"Волейбол (жен.)","43",0,0,0,0,0,0,null,null,null,null,null,null,null,null,null,null,null,null,null,null,null,null,null,null,null,null,null,null,null,null,null,null,null,{"$f":"Раздел2!D51","v":1}]
[null,"Пляжный волейбол (муж.)","44",0,0,0,0,0,0,null,null,null,null,null,null,null,null,null,null,null,null,null,null,null,null,null,null,null,null,null,null,null,null,null,null,null,{"$f":"Раздел2!D52","v":0}]
[null,"Пляжный волейбол (жен.)","45",0,0,0,0,0,0,null,null,null,null,null,null,null,null,null,null,null,null,null,null,null,null,null,null,null,null,null,null,null,null,null,null,null,{"$f":"Раздел2!D53","v":0}]
[null,"Восточное боевое единоборство","46",0,0,0,0,0,0,null,null,null,null,null,null,null,null,null,null,null,null,null,null,null,null,null,null,null,null,null,null,null,null,null,null,null,{"$f":"Раздел2!D54","v":0}]
[null,"Всестилевое каратэ","47",0,0,0,0,0,0,null,null,null,null,null,null,null,null,null,null,null,null,null,null,null,null,null,null,null,null,null,null,null,null,null,null,null,{"$f":"Раздел2!D55","v":0}]
[null,"Гандбол - всего","48",0,0,0,0,0,0,{"$f":"SUM(J56:J58)","v":0},{"$f":"SUM(K56:K58)","v":0},0,0,0,0,0,0,0,0,0,0,0,0,0,0,0,0,0,0,0,0,0,0,0,null,null,{"$f":"Раздел2!D56","v":0}]
[null,"в том числе:\nГандбол (муж.)","49",0,0,0,0,0,0,null,null,null,null,null,null,null,null,null,null,null,null,null,null,null,null,null,null,null,null,null,null,null,null,null,null,null,{"$f":"Раздел2!D57","v":0}]
[null,"Гандбол (жен.)","50",0,0,0,0,0,0,null,null,null,null,null,null,null,null,null,null,null,null,null,null,null,null,null,null,null,null,null,null,null,null,null,null,null,{"$f":"Раздел2!D58","v":0}]
[null,"Пляжный гандбол","51",0,0,0,0,0,0,null,null,null,null,null,null,null,null,null,null,null,null,null,null,null,null,null,null,null,null,null,null,null,null,null,null,null,{"$f":"Раздел2!D59","v":0}]
[null,"Гиревой спорт","52",0,0,0,0,0,0,null,null,null,null,null,null,null,null,null,null,null,null,null,null,null,null,null,null,null,null,null,null,null,null,null,null,null,{"$f":"Раздел2!D60","v":0}]
[null,"Го","53",0,0,0,0,0,0,null,null,null,null,null,null,null,null,null,null,null,null,null,null,null,null,null,null,null,null,null,null,null,null,null,null,null,{"$f":"Раздел2!D61","v":0}]
[null,"Гольф","54",0,0,0,0,0,0,null,null,null,null,null,null,null,null,null,null,null,null,null,null,null,null,null,null,null,null,null,null,null,null,null,null,null,{"$f":"Раздел2!D62","v":0}]
[null,"Гонки на охотничьих лыжах","55",0,0,0,0,0,0,null,null,null,null,null,null,null,null,null,null,null,null,null,null,null,null,null,null,null,null,null,null,null,null,null,null,null,{"$f":"Раздел2!D63","v":0}]
[null,"Горнолыжный спорт","56",0,0,0,0,0,0,null,null,null,null,null,null,null,null,null,null,null,null,null,null,null,null,null,null,null,null,null,null,null,null,null,null,null,{"$f":"Раздел2!D64","v":0}]
[null,"Городошный спорт","57",0,0,0,0,0,0,null,null,null,null,null,null,null,null,null,null,null,null,null,null,null,null,null,null,null,null,null,null,null,null,null,null,null,{"$f":"Раздел2!D65","v":0}]
[null,"Гребля на байдарках и каноэ","58",0,0,0,0,0,0,null,null,null,null,null,null,null,null,null,null,null,null,null,null,null,null,null,null,null,null,null,null,null,null,null,null,null,{"$f":"Раздел2!D66","v":0}]
[null,"Гребля на шлюпках","59",0,0,0,0,0,0,null,null,null,null,null,null,null,null,null,null,null,null,null,null,null,null,null,null,null,null,null,null,null,null,null,null,null,{"$f":"Раздел2!D67","v":0}]
[null,"Гребной слалом","60",0,0,0,0,0,0,null,null,null,null,null,null,null,null,null,null,null,null,null,null,null,null,null,null,null,null,null,null,null,null,null,null,null,{"$f":"Раздел2!D68","v":0}]
[null,"Гребной спорт - всего","61",0,0,0,0,0,0,{"$f":"SUM(J69:J72)","v":0},{"$f":"SUM(K69:K72)","v":0},0,0,0,0,0,0,0,0,0,0,0,0,0,0,0,0,0,0,0,0,0,0,0,null,null,{"$f":"Раздел2!D69","v":0}]
[null,"в том числе:\nАкадемическая гребля","62",0,0,0,0,0,0,null,null,null,null,null,null,null,null,null,null,null,null,null,null,null,null,null,null,null,null,null,null,null,null,null,null,null,{"$f":"Раздел2!D70","v":0}]
[null,"Гребля-индор","63",0,0,0,0,0,0,null,null,null,null,null,null,null,null,null,null,null,null,null,null,null,null,null,null,null,null,null,null,null,null,null,null,null,{"$f":"Раздел2!D71","v":0}]
[null,"Народная гребля","64",0,0,0,0,0,0,null,null,null,null,null,null,null,null,null,null,null,null,null,null,null,null,null,null,null,null,null,null,null,null,null,null,null,{"$f":"Раздел2!D72","v":0}]
[null,"Прибрежная гребля","65",0,0,0,0,0,0,null,null,null,null,null,null,null,null,null,null,null,null,null,null,null,null,null,null,null,null,null,null,null,null,null,null,null,{"$f":"Раздел2!D73","v":0}]
[null,"Гребно-парусное двоеборье","66",{"$f":"SUM(E73:G73)","v":0},{"$f":"SUM(J73,O73,T73,Y73,AD73)","v":0},{"$f":"SUM(K73,P73,U73,Z73,AE73)","v":0},{"$f":"SUM(L73,Q73,V73,AA73,AF73)","v":0},{"$f":"SUM(M73,R73,W73,AB73,AG73)","v":0},{"$f":"SUM(N73,S73,X73,AC73,AH73)","v":0},null,null,null,null,null,null,null,null,null,null,null,null,null,null,null,null,null,null,null,null,null,null,null,null,null,null,null,{"$f":"Раздел2!D74","v":0}]
[null,"Дартс","67",0,0,0,0,0,0,null,null,null,null,null,null,null,null,null,null,null,null,null,null,null,null,null,null,null,null,null,null,null,null,null,null,null,{"$f":"Раздел2!D75","v":0}]
[null,"Джиу-джитсу","68",0,0,0,0,0,0,null,null,null,null,null,null,null,null,null,null,null,null,null,null,null,null,null,null,null,null,null,null,null,null,null,null,null,{"$f":"Раздел2!D76","v":0}]
[null,"Дзюдо","69",0,0,0,0,0,0,null,null,null,null,null,null,null,null,null,null,null,null,null,null,null,null,null,null,null,null,null,null,null,null,null,null,null,{"$f":"Раздел2!D77","v":0}]
[null,"Ездовой спорт","70",0,0,0,0,0,0,null,null,null,null,null,null,null,null,null,null,null,null,null,null,null,null,null,null,null,null,null,null,null,null,null,null,null,{"$f":"Раздел2!D78","v":0}]
[null,"Капоэйра","71",0,0,0,0,0,0,null,null,null,null,null,null,null,null,null,null,null,null,null,null,null,null,null,null,null,null,null,null,null,null,null,null,null,{"$f":"Раздел2!D79","v":0}]
[null,"Каратэ","72",0,0,0,0,0,0,null,null,null,null,null,null,null,null,null,null,null,null,null,null,null,null,null,null,null,null,null,null,null,null,null,null,null,{"$f":"Раздел2!D80","v":0}]
[null,"Кендо","73",0,0,0,0,0,0,null,null,null,null,null,null,null,null,null,null,null,null,null,null,null,null,null,null,null,null,null,null,null,null,null,null,null,{"$f":"Раздел2!D81","v":0}]
[null,"Керешу","74",0,0,0,0,0,0,null,null,null,null,null,null,null,null,null,null,null,null,null,null,null,null,null,null,null,null,null,null,null,null,null,null,null,{"$f":"Раздел2!D82","v":0}]
[null,"Кёрлинг - всего","75",0,0,0,0,0,0,{"$f":"SUM(J83:J85)","v":0},{"$f":"SUM(K83:K85)","v":0},0,0,0,0,0,0,0,0,0,0,0,0,0,0,0,0,0,0,0,0,0,0,0,null,null,{"$f":"Раздел2!D83","v":0}]
[null,"в том числе:\nКерлинг (муж.)","76",0,0,0,0,0,0,null,null,null,null,null,null,null,null,null,null,null,null,null,null,null,null,null,null,null,null,null,null,null,null,null,null,null,{"$f":"Раздел2!D84","v":0}]
[null,"Керлинг (жен.)","77",0,0,0,0,0,0,null,null,null,null,null,null,null,null,null,null,null,null,null,null,null,null,null,null,null,null,null,null,null,null,null,null,null,{"$f":"Раздел2!D85","v":0}]
[null,"Кёрлинг – смешанные пары","78",0,0,0,0,0,0,null,null,null,null,null,null,null,null,null,null,null,null,null,null,null,null,null,null,null,null,null,null,null,null,null,null,null,{"$f":"Раздел2!D86","v":0}]
[null,"Кикбоксинг","79",0,0,0,0,0,0,null,null,null,null,null,null,null,null,null,null,null,null,null,null,null,null,null,null,null,null,null,null,null,null,null,null,null,{"$f":"Раздел2!D87","v":0}]
[null,"Кинологический спорт","80",0,0,0,0,0,0,null,null,null,null,null,null,null,null,null,null,null,null,null,null,null,null,null,null,null,null,null,null,null,null,null,null,null,{"$f":"Раздел2!D88","v":0}]
[null,"Киокусинкай","81",0,0,0,0,0,0,null,null,null,null,null,null,null,null,null,null,null,null,null,null,null,null,null,null,null,null,null,null,null,null,null,null,null,{"$f":"Раздел2!D89","v":1}]
[null,"Комплексное единоборство","82",0,0,0,0,0,0,null,null,null,null,null,null,null,null,null,null,null,null,null,null,null,null,null,null,null,null,null,null,null,null,null,null,null,{"$f":"Раздел2!D90","v":0}]
[null,"Компьютерный спорт","83",0,0,0,0,0,0,null,null,null,null,null,null,null,null,null,null,null,null,null,null,null,null,null,null,null,null,null,null,null,null,null,null,null,{"$f":"Раздел2!D91","v":0}]
[null,"Конный спорт","84",0,0,0,0,0,0,null,null,null,null,null,null,null,null,null,null,null,null,null,null,null,null,null,null,null,null,null,null,null,null,null,null,null,{"$f":"Раздел2!D92","v":0}]
[null,"Конькобежный спорт - всего","85",0,0,0,0,0,0,{"$f":"SUM(J93:J94)","v":0},{"$f":"SUM(K93:K94)","v":0},0,0,0,0,0,0,0,0,0,0,0,0,0,0,0,0,0,0,0,0,0,0,0,null,null,{"$f":"Раздел2!D93","v":0}]
[null,"в том числе:\nКонькобежный спорт","86",0,0,0,0,0,0,null,null,null,null,null,null,null,null,null,null,null,null,null,null,null,null,null,null,null,null,null,null,null,null,null,null,null,{"$f":"Раздел2!D94","v":0}]
[null,"Шорт-трек","87",0,0,0,0,0,0,null,null,null,null,null,null,null,null,null,null,null,null,null,null,null,null,null,null,null,null,null,null,null,null,null,null,null,{"$f":"Раздел2!D95","v":0}]
[null,"Корэш","88",0,0,0,0,0,0,null,null,null,null,null,null,null,null,null,null,null,null,null,null,null,null,null,null,null,null,null,null,null,null,null,null,null,{"$f":"Раздел2!D96","v":0}]
[null,"Корфбол","89",0,0,0,0,0,0,null,null,null,null,null,null,null,null,null,null,null,null,null,null,null,null,null,null,null,null,null,null,null,null,null,null,null,{"$f":"Раздел2!D97","v":0}]
[null,"Кудо","90",0,0,0,0,0,0,null,null,null,null,null,null,null,null,null,null,null,null,null,null,null,null,null,null,null,null,null,null,null,null,null,null,null,{"$f":"Раздел2!D98","v":0}]
[null,"Лапта","91",0,0,0,0,0,0,null,null,null,null,null,null,null,null,null,null,null,null,null,null,null,null,null,null,null,null,null,null,null,null,null,null,null,{"$f":"Раздел2!D99","v":1}]
[null,"Легкая атлетика - всего","92",0,0,0,0,0,0,{"$f":"SUM(J100:J106)","v":0},{"$f":"SUM(K100:K106)","v":0},0,0,0,0,0,0,0,0,0,0,0,0,0,0,0,0,0,0,0,0,0,0,0,null,null,{"$f":"Раздел2!D100","v":0}]
[null,"в том числе:\nСпринтерский и барьерный бег","93",0,0,0,0,0,0,null,null,null,null,null,null,null,null,null,null,null,null,null,null,null,null,null,null,null,null,null,null,null,null,null,null,null,{"$f":"Раздел2!D101","v":0}]
[null,"Бег на средние дистанции и бег с препятствиями","94",0,0,0,0,0,0,null,null,null,null,null,null,null,null,null,null,null,null,null,null,null,null,null,null,null,null,null,null,null,null,null,null,null,{"$f":"Раздел2!D102","v":0}]
[null,"Бег на длинные и сверхдлинные дистанции","95",0,0,0,0,0,0,null,null,null,null,null,null,null,null,null,null,null,null,null,null,null,null,null,null,null,null,null,null,null,null,null,null,null,{"$f":"Раздел2!D103","v":0}]
[null,"Многоборья","96",0,0,0,0,0,0,null,null,null,null,null,null,null,null,null,null,null,null,null,null,null,null,null,null,null,null,null,null,null,null,null,null,null,{"$f":"Раздел2!D104","v":0}]
[null,"Прыжки","97",0,0,0,0,0,0,null,null,null,null,null,null,null,null,null,null,null,null,null,null,null,null,null,null,null,null,null,null,null,null,null,null,null,{"$f":"Раздел2!D105","v":0}]
[null,"Метания","98",0,0,0,0,0,0,null,null,null,null,null,null,null,null,null,null,null,null,null,null,null,null,null,null,null,null,null,null,null,null,null,null,null,{"$f":"Раздел2!D106","v":0}]
[null,"Спортивная ходьба","99",0,0,0,0,0,0,null,null,null,null,null,null,null,null,null,null,null,null,null,null,null,null,null,null,null,null,null,null,null,null,null,null,null,{"$f":"Раздел2!D107","v":0}]
[null,"Лыжное двоеборье","100",0,0,0,0,0,0,null,null,null,null,null,null,null,null,null,null,null,null,null,null,null,null,null,null,null,null,null,null,null,null,null,null,null,{"$f":"Раздел2!D108","v":0}]
[null,"Лыжные гонки","101",0,0,0,0,0,0,null,null,null,null,null,null,null,null,null,null,null,null,null,null,null,null,null,null,null,null,null,null,null,null,null,null,null,{"$f":"Раздел2!D109","v":0}]
[null,"Мас-рестлинг","102",0,0,0,0,0,0,null,null,null,null,null,null,null,null,null,null,null,null,null,null,null,null,null,null,null,null,null,null,null,null,null,null,null,{"$f":"Раздел2!D110","v":0}]
[null,"Международное военно-спортивное многоборье","103",0,0,0,0,0,0,null,null,null,null,null,null,null,null,null,null,null,null,null,null,null,null,null,null,null,null,null,null,null,null,null,null,null,{"$f":"Раздел2!D111","v":0}]
[null,"Многоборье кинологов","104",0,0,0,0,0,0,null,null,null,null,null,null,null,null,null,null,null,null,null,null,null,null,null,null,null,null,null,null,null,null,null,null,null,{"$f":"Раздел2!D112","v":0}]
[null,"Многоборье спасателей МЧС России","105",0,0,0,0,0,0,null,null,null,null,null,null,null,null,null,null,null,null,null,null,null,null,null,null,null,null,null,null,null,null,null,null,null,{"$f":"Раздел2!D113","v":0}]
[null,"Морское многоборье","106",0,0,0,0,0,0,null,null,null,null,null,null,null,null,null,null,null,null,null,null,null,null,null,null,null,null,null,null,null,null,null,null,null,{"$f":"Раздел2!D114","v":0}]
[null,"Мотоциклетный спорт","107",0,0,0,0,0,0,null,null,null,null,null,null,null,null,null,null,null,null,null,null,null,null,null,null,null,null,null,null,null,null,null,null,null,{"$f":"Раздел2!D115","v":0}]
[null,"Настольный теннис","108",0,0,0,0,0,0,null,null,null,null,null,null,null,null,null,null,null,null,null,null,null,null,null,null,null,null,null,null,null,null,null,null,null,{"$f":"Раздел2!D116","v":1}]
[null,"Парашютный спорт","109",0,0,0,0,0,0,null,null,null,null,null,null,null,null,null,null,null,null,null,null,null,null,null,null,null,null,null,null,null,null,null,null,null,{"$f":"Раздел2!D117","v":0}]
[null,"Парусный спорт","110",0,0,0,0,0,0,null,null,null,null,null,null,null,null,null,null,null,null,null,null,null,null,null,null,null,null,null,null,null,null,null,null,null,{"$f":"Раздел2!D118","v":0}]
[null,"Пауэрлифтинг","111",0,0,0,0,0,0,null,null,null,null,null,null,null,null,null,null,null,null,null,null,null,null,null,null,null,null,null,null,null,null,null,null,null,{"$f":"Раздел2!D119","v":0}]
[null,"Перетягивание каната","112",0,0,0,0,0,0,null,null,null,null,null,null,null,null,null,null,null,null,null,null,null,null,null,null,null,null,null,null,null,null,null,null,null,{"$f":"Раздел2!D120","v":0}]
[null,"Петанк","113",0,0,0,0,0,0,null,null,null,null,null,null,null,null,null,null,null,null,null,null,null,null,null,null,null,null,null,null,null,null,null,null,null,{"$f":"Раздел2!D121","v":0}]
[null,"Плавание - всего","114",0,0,0,0,0,0,{"$f":"SUM(J122:J123)","v":0},{"$f":"SUM(K122:K123)","v":0},0,0,0,0,0,0,0,0,0,0,0,0,0,0,0,0,0,0,0,0,0,0,0,null,null,{"$f":"Раздел2!D122","v":0}]
[null,"в том числе:\nПлавание ","115",0,0,0,0,0,0,null,null,null,null,null,null,null,null,null,null,null,null,null,null,null,null,null,null,null,null,null,null,null,null,null,null,null,{"$f":"Раздел2!D123","v":0}]
[null,"Открытая вода","116",0,0,0,0,0,0,null,null,null,null,null,null,null,null,null,null,null,null,null,null,null,null,null,null,null,null,null,null,null,null,null,null,null,{"$f":"Раздел2!D124","v":0}]
[null,"Планерный спорт","117",0,0,0,0,0,0,null,null,null,null,null,null,null,null,null,null,null,null,null,null,null,null,null,null,null,null,null,null,null,null,null,null,null,{"$f":"Раздел2!D125","v":0}]
[null,"Подводный спорт","118",0,0,0,0,0,0,null,null,null,null,null,null,null,null,null,null,null,null,null,null,null,null,null,null,null,null,null,null,null,null,null,null,null,{"$f":"Раздел2!D126","v":0}]
[null,"Пожарно-спасательный спорт","119",0,0,0,0,0,0,null,null,null,null,null,null,null,null,null,null,null,null,null,null,null,null,null,null,null,null,null,null,null,null,null,null,null,{"$f":"Раздел2!D127","v":0}]
[null,"Полиатлон","120",0,0,0,0,0,0,null,null,null,null,null,null,null,null,null,null,null,null,null,null,null,null,null,null,null,null,null,null,null,null,null,null,null,{"$f":"Раздел2!D128","v":0}]
[null,"Практическая стрельба","121",0,0,0,0,0,0,null,null,null,null,null,null,null,null,null,null,null,null,null,null,null,null,null,null,null,null,null,null,null,null,null,null,null,{"$f":"Раздел2!D129","v":0}]
[null,"Прыжки в воду - всего","122",0,0,0,0,0,0,{"$f":"SUM(J130:J131)","v":0},{"$f":"SUM(K130:K131)","v":0},0,0,0,0,0,0,0,0,0,0,0,0,0,0,0,0,0,0,0,0,0,0,0,null,null,{"$f":"Раздел2!D130","v":0}]
[null,"в том числе:\nПрыжки в воду","123",0,0,0,0,0,0,null,null,null,null,null,null,null,null,null,null,null,null,null,null,null,null,null,null,null,null,null,null,null,null,null,null,null,{"$f":"Раздел2!D131","v":0}]
[null,"Прыжки в открытый водоем","124",0,0,0,0,0,0,null,null,null,null,null,null,null,null,null,null,null,null,null,null,null,null,null,null,null,null,null,null,null,null,null,null,null,{"$f":"Раздел2!D132","v":0}]
[null,"Прыжки на батуте - всего","125",0,0,0,0,0,0,{"$f":"SUM(J133:J136)","v":0},{"$f":"SUM(K133:K136)","v":0},0,0,0,0,0,0,0,0,0,0,0,0,0,0,0,0,0,0,0,0,0,0,0,null,null,{"$f":"Раздел2!D133","v":0}]
[null,"в том числе:\nАкробатическая дорожка","126",0,0,0,0,0,0,null,null,null,null,null,null,null,null,null,null,null,null,null,null,null,null,null,null,null,null,null,null,null,null,null,null,null,{"$f":"Раздел2!D134","v":0}]
[null,"Двойной минитрамп","127",0,0,0,0,0,0,null,null,null,null,null,null,null,null,null,null,null,null,null,null,null,null,null,null,null,null,null,null,null,null,null,null,null,{"$f":"Раздел2!D135","v":0}]
[null,"Индивидуальные прыжки","128",0,0,0,0,0,0,null,null,null,null,null,null,null,null,null,null,null,null,null,null,null,null,null,null,null,null,null,null,null,null,null,null,null,{"$f":"Раздел2!D136","v":0}]
[null,"Синхронные прыжки","129",0,0,0,0,0,0,null,null,null,null,null,null,null,null,null,null,null,null,null,null,null,null,null,null,null,null,null,null,null,null,null,null,null,{"$f":"Раздел2!D137","v":0}]
[null,"Прыжки на лыжах с трамплина","130",{"$f":"SUM(E137:G137)","v":0},{"$f":"SUM(J137,O137,T137,Y137,AD137)","v":0},{"$f":"SUM(K137,P137,U137,Z137,AE137)","v":0},{"$f":"SUM(L137,Q137,V137,AA137,AF137)","v":0},{"$f":"SUM(M137,R137,W137,AB137,AG137)","v":0},{"$f":"SUM(N137,S137,X137,AC137,AH137)","v":0},null,null,null,null,null,null,null,null,null,null,null,null,null,null,null,null,null,null,null,null,null,null,null,null,null,null,null,{"$f":"Раздел2!D138","v":0}]
[null,"Пулевая стрельба - всего","131",0,0,0,0,0,0,{"$f":"SUM(J139:J143)","v":0},{"$f":"SUM(K139:K143)","v":0},0,0,0,0,0,0,0,0,0,0,0,0,0,0,0,0,0,0,0,0,0,0,0,null,null,{"$f":"Раздел2!D139","v":0}]
[null,"в том числе:\nПневматическая винтовка","132",0,0,0,0,0,0,null,null,null,null,null,null,null,null,null,null,null,null,null,null,null,null,null,null,null,null,null,null,null,null,null,null,null,{"$f":"Раздел2!D140","v":0}]
[null,"Пневматический пистолет","133",0,0,0,0,0,0,null,null,null,null,null,null,null,null,null,null,null,null,null,null,null,null,null,null,null,null,null,null,null,null,null,null,null,{"$f":"Раздел2!D141","v":0}]
[null,"Малокалиберная винтовка","134",0,0,0,0,0,0,null,null,null,null,null,null,null,null,null,null,null,null,null,null,null,null,null,null,null,null,null,null,null,null,null,null,null,{"$f":"Раздел2!D142","v":0}]
[null,"Малокалиберный пистолет","135",0,0,0,0,0,0,null,null,null,null,null,null,null,null,null,null,null,null,null,null,null,null,null,null,null,null,null,null,null,null,null,null,null,{"$f":"Раздел2!D143","v":0}]
[null,"Движущаяся мишень","136",0,0,0,0,0,0,null,null,null,null,null,null,null,null,null,null,null,null,null,null,null,null,null,null,null,null,null,null,null,null,null,null,null,{"$f":"Раздел2!D144","v":0}]
[null,"Пэйнтбол","137",0,0,0,0,0,0,null,null,null,null,null,null,null,null,null,null,null,null,null,null,null,null,null,null,null,null,null,null,null,null,null,null,null,{"$f":"Раздел2!D145","v":0}]
[null,"Радиоспорт","138",0,0,0,0,0,0,null,null,null,null,null,null,null,null,null,null,null,null,null,null,null,null,null,null,null,null,null,null,null,null,null,null,null,{"$f":"Раздел2!D146","v":0}]
[null,"Рафтинг","139",0,0,0,0,0,0,null,null,null,null,null,null,null,null,null,null,null,null,null,null,null,null,null,null,null,null,null,null,null,null,null,null,null,{"$f":"Раздел2!D147","v":0}]
[null,"Регби - всего","140",0,0,0,0,0,0,{"$f":"SUM(J148:J151)","v":0},{"$f":"SUM(K148:K151)","v":0},0,0,0,0,0,0,0,0,0,0,0,0,0,0,0,0,0,0,0,0,0,0,0,null,null,{"$f":"Раздел2!D148","v":0}]
[null,"в том числе:\nРегби","141",0,0,0,0,0,0,null,null,null,null,null,null,null,null,null,null,null,null,null,null,null,null,null,null,null,null,null,null,null,null,null,null,null,{"$f":"Раздел2!D149","v":0}]
[null,"Регби 7 (муж.)","142",0,0,0,0,0,0,null,null,null,null,null,null,null,null,null,null,null,null,null,null,null,null,null,null,null,null,null,null,null,null,null,null,null,{"$f":"Раздел2!D150","v":0}]
[null,"Регби 7 (жен.)","143",0,0,0,0,0,0,null,null,null,null,null,null,null,null,null,null,null,null,null,null,null,null,null,null,null,null,null,null,null,null,null,null,null,{"$f":"Раздел2!D151","v":0}]
[null,"Регби - пляжное","144",0,0,0,0,0,0,null,null,null,null,null,null,null,null,null,null,null,null,null,null,null,null,null,null,null,null,null,null,null,null,null,null,null,{"$f":"Раздел2!D152","v":0}]
[null,"Регбол","145",0,0,0,0,0,0,null,null,null,null,null,null,null,null,null,null,null,null,null,null,null,null,null,null,null,null,null,null,null,null,null,null,null,{"$f":"Раздел2!D153","v":0}]
[null,"Роллер спорт","146",0,0,0,0,0,0,null,null,null,null,null,null,null,null,null,null,null,null,null,null,null,null,null,null,null,null,null,null,null,null,null,null,null,{"$f":"Раздел2!D154","v":0}]
[null,"Рукопашный бой","147",0,0,0,0,0,0,null,null,null,null,null,null,null,null,null,null,null,null,null,null,null,null,null,null,null,null,null,null,null,null,null,null,null,{"$f":"Раздел2!D155","v":0}]
[null,"Рыболовный спорт","148",0,0,0,0,0,0,null,null,null,null,null,null,null,null,null,null,null,null,null,null,null,null,null,null,null,null,null,null,null,null,null,null,null,{"$f":"Раздел2!D156","v":0}]
[null,"Сават","149",0,0,0,0,0,0,null,null,null,null,null,null,null,null,null,null,null,null,null,null,null,null,null,null,null,null,null,null,null,null,null,null,null,{"$f":"Раздел2!D157","v":0}]
[null,"Самбо","150",0,0,0,0,0,0,null,null,null,null,null,null,null,null,null,null,null,null,null,null,null,null,null,null,null,null,null,null,null,null,null,null,null,{"$f":"Раздел2!D158","v":0}]
[null,"Самолетный спорт","151",0,0,0,0,0,0,null,null,null,null,null,null,null,null,null,null,null,null,null,null,null,null,null,null,null,null,null,null,null,null,null,null,null,{"$f":"Раздел2!D159","v":0}]
[null,"Санный спорт","152",0,0,0,0,0,0,null,null,null,null,null,null,null,null,null,null,null,null,null,null,null,null,null,null,null,null,null,null,null,null,null,null,null,{"$f":"Раздел2!D160","v":0}]
[null,"Северное многоборье","153",0,0,0,0,0,0,null,null,null,null,null,null,null,null,null,null,null,null,null,null,null,null,null,null,null,null,null,null,null,null,null,null,null,{"$f":"Раздел2!D161","v":0}]
[null,"Серфинг","154",0,0,0,0,0,0,null,null,null,null,null,null,null,null,null,null,null,null,null,null,null,null,null,null,null,null,null,null,null,null,null,null,null,{"$f":"Раздел2!D162","v":0}]
[null,"Синхронное плавание","155",0,0,0,0,0,0,null,null,null,null,null,null,null,null,null,null,null,null,null,null,null,null,null,null,null,null,null,null,null,null,null,null,null,{"$f":"Раздел2!D163","v":0}]
[null,"Скалолазание","156",0,0,0,0,0,0,null,null,null,null,null,null,null,null,null,null,null,null,null,null,null,null,null,null,null,null,null,null,null,null,null,null,null,{"$f":"Раздел2!D164","v":0}]
[null,"Сквош","157",0,0,0,0,0,0,null,null,null,null,null,null,null,null,null,null,null,null,null,null,null,null,null,null,null,null,null,null,null,null,null,null,null,{"$f":"Раздел2!D165","v":0}]
[null,"Скейтбординг","158",0,0,0,0,0,0,null,null,null,null,null,null,null,null,null,null,null,null,null,null,null,null,null,null,null,null,null,null,null,null,null,null,null,{"$f":"Раздел2!D166","v":0}]
[null,"Служебно-боевая стрельба ","159",0,0,0,0,0,0,null,null,null,null,null,null,null,null,null,null,null,null,null,null,null,null,null,null,null,null,null,null,null,null,null,null,null,{"$f":"Раздел2!D167","v":0}]
[null,"Служебно-прикладной спорт","160",0,0,0,0,0,0,null,null,null,null,null,null,null,null,null,null,null,null,null,null,null,null,null,null,null,null,null,null,null,null,null,null,null,{"$f":"Раздел2!D168","v":0}]
[null,"Служебно-прикладной спорт ФСО России","161",0,0,0,0,0,0,null,null,null,null,null,null,null,null,null,null,null,null,null,null,null,null,null,null,null,null,null,null,null,null,null,null,null,{"$f":"Раздел2!D169","v":0}]
[null,"Служебно-прикладной спорт ФТС России","162",0,0,0,0,0,0,null,null,null,null,null,null,null,null,null,null,null,null,null,null,null,null,null,null,null,null,null,null,null,null,null,null,null,{"$f":"Раздел2!D170","v":0}]
[null,"Служебное двоеборье","163",0,0,0,0,0,0,null,null,null,null,null,null,null,null,null,null,null,null,null,null,null,null,null,null,null,null,null,null,null,null,null,null,null,{"$f":"Раздел2!D171","v":0}]
[null,"Служебное единоборство","164",0,0,0,0,0,0,null,null,null,null,null,null,null,null,null,null,null,null,null,null,null,null,null,null,null,null,null,null,null,null,null,null,null,{"$f":"Раздел2!D172","v":0}]
[null,"Служебное многоборье","165",0,0,0,0,0,0,null,null,null,null,null,null,null,null,null,null,null,null,null,null,null,null,null,null,null,null,null,null,null,null,null,null,null,{"$f":"Раздел2!D173","v":0}]
[null,"Служебный биатлон","166",0,0,0,0,0,0,null,null,null,null,null,null,null,null,null,null,null,null,null,null,null,null,null,null,null,null,null,null,null,null,null,null,null,{"$f":"Раздел2!D174","v":0}]
[null,"Спасательный спорт","167",0,0,0,0,0,0,null,null,null,null,null,null,null,null,null,null,null,null,null,null,null,null,null,null,null,null,null,null,null,null,null,null,null,{"$f":"Раздел2!D175","v":0}]
[null,"Стрельба из боевого ручного стрелкового оружия","168",0,0,0,0,0,0,null,null,null,null,null,null,null,null,null,null,null,null,null,null,null,null,null,null,null,null,null,null,null,null,null,null,null,{"$f":"Раздел2!D176","v":0}]
[null,"Стрельба из штатного или табельного оружия","169",0,0,0,0,0,0,null,null,null,null,null,null,null,null,null,null,null,null,null,null,null,null,null,null,null,null,null,null,null,null,null,null,null,{"$f":"Раздел2!D177","v":0}]
[null,"Смешанное боевое единоборство (ММА)","170",0,0,0,0,0,0,null,null,null,null,null,null,null,null,null,null,null,null,null,null,null,null,null,null,null,null,null,null,null,null,null,null,null,{"$f":"Раздел2!D178","v":0}]
[null,"Сноуборд","171",0,0,0,0,0,0,null,null,null,null,null,null,null,null,null,null,null,null,null,null,null,null,null,null,null,null,null,null,null,null,null,null,null,{"$f":"Раздел2!D179","v":0}]
[null,"Современное пятиборье","172",0,0,0,0,0,0,null,null,null,null,null,null,null,null,null,null,null,null,null,null,null,null,null,null,null,null,null,null,null,null,null,null,null,{"$f":"Раздел2!D180","v":0}]
[null,"Софтбол","173",0,0,0,0,0,0,null,null,null,null,null,null,null,null,null,null,null,null,null,null,null,null,null,null,null,null,null,null,null,null,null,null,null,{"$f":"Раздел2!D181","v":0}]
[null,"Спорт сверхлегкой авиации","174",0,0,0,0,0,0,null,null,null,null,null,null,null,null,null,null,null,null,null,null,null,null,null,null,null,null,null,null,null,null,null,null,null,{"$f":"Раздел2!D182","v":0}]
[null,"Спортивная акробатика","175",0,0,0,0,0,0,null,null,null,null,null,null,null,null,null,null,null,null,null,null,null,null,null,null,null,null,null,null,null,null,null,null,null,{"$f":"Раздел2!D183","v":0}]
[null,"Спортивная аэробика","176",0,0,0,0,0,0,null,null,null,null,null,null,null,null,null,null,null,null,null,null,null,null,null,null,null,null,null,null,null,null,null,null,null,{"$f":"Раздел2!D184","v":0}]
[null,"Спортивная борьба - всего","177",2,1,1,0,1,0,{"$f":"SUM(J185:J189)","v":0},{"$f":"SUM(K185:K189)","v":0},0,0,0,0,0,0,0,0,0,0,0,0,0,0,0,0,0,0,1,1,0,1,0,null,null,{"$f":"Раздел2!D185","v":1}]
[null,"в том числе:\nВольная борьба","178",2,1,1,0,1,0,null,null,null,null,null,null,null,null,null,null,null,null,null,null,null,null,null,null,null,null,1,1,null,1,null,null,null,{"$f":"Раздел2!D186","v":1}]
[null,"Греко-римская борьба","179",0,0,0,0,0,0,null,null,null,null,null,null,null,null,null,null,null,null,null,null,null,null,null,null,null,null,null,null,null,null,null,null,null,{"$f":"Раздел2!D187","v":0}]
[null,"Грэпплинг","180",0,0,0,0,0,0,null,null,null,null,null,null,null,null,null,null,null,null,null,null,null,null,null,null,null,null,null,null,null,null,null,null,null,{"$f":"Раздел2!D188","v":0}]
[null,"Грэпплинг-ги","181",0,0,0,0,0,0,null,null,null,null,null,null,null,null,null,null,null,null,null,null,null,null,null,null,null,null,null,null,null,null,null,null,null,{"$f":"Раздел2!D189","v":0}]
[null,"Панкратион","182",0,0,0,0,0,0,null,null,null,null,null,null,null,null,null,null,null,null,null,null,null,null,null,null,null,null,null,null,null,null,null,null,null,{"$f":"Раздел2!D190","v":0}]
[null,"Спортивная гимнастика","183",0,0,0,0,0,0,null,null,null,null,null,null,null,null,null,null,null,null,null,null,null,null,null,null,null,null,null,null,null,null,null,null,null,{"$f":"Раздел2!D191","v":0}]
[null,"Спортивная йога","184",0,0,0,0,0,0,null,null,null,null,null,null,null,null,null,null,null,null,null,null,null,null,null,null,null,null,null,null,null,null,null,null,null,{"$f":"Раздел2!D192","v":0}]
[null,"Спортивно-прикладное собаководство","185",0,0,0,0,0,0,null,null,null,null,null,null,null,null,null,null,null,null,null,null,null,null,null,null,null,null,null,null,null,null,null,null,null,{"$f":"Раздел2!D193","v":0}]
[null,"Спортивное ориентирование","186",0,0,0,0,0,0,null,null,null,null,null,null,null,null,null,null,null,null,null,null,null,null,null,null,null,null,null,null,null,null,null,null,null,{"$f":"Раздел2!D194","v":0}]
[null,"Спортивный бридж","187",0,0,0,0,0,0,null,null,null,null,null,null,null,null,null,null,null,null,null,null,null,null,null,null,null,null,null,null,null,null,null,null,null,{"$f":"Раздел2!D195","v":0}]
[null,"Спортивный туризм","188",0,0,0,0,0,0,null,null,null,null,null,null,null,null,null,null,null,null,null,null,null,null,null,null,null,null,null,null,null,null,null,null,null,{"$f":"Раздел2!D196","v":0}]
[null,"Стендовая стрельба - всего","189",0,0,0,0,0,0,{"$f":"SUM(J197:J200)","v":0},{"$f":"SUM(K197:K200)","v":0},0,0,0,0,0,0,0,0,0,0,0,0,0,0,0,0,0,0,0,0,0,0,0,null,null,{"$f":"Раздел2!D197","v":0}]
[null,"в том числе:\nТрап","190",0,0,0,0,0,0,null,null,null,null,null,null,null,null,null,null,null,null,null,null,null,null,null,null,null,null,null,null,null,null,null,null,null,{"$f":"Раздел2!D198","v":0}]
[null,"Скит","191",0,0,0,0,0,0,null,null,null,null,null,null,null,null,null,null,null,null,null,null,null,null,null,null,null,null,null,null,null,null,null,null,null,{"$f":"Раздел2!D199","v":0}]
[null,"Дубль-трап","192",0,0,0,0,0,0,null,null,null,null,null,null,null,null,null,null,null,null,null,null,null,null,null,null,null,null,null,null,null,null,null,null,null,{"$f":"Раздел2!D200","v":0}]
[null,"Спортинг","193",0,0,0,0,0,0,null,null,null,null,null,null,null,null,null,null,null,null,null,null,null,null,null,null,null,null,null,null,null,null,null,null,null,{"$f":"Раздел2!D201","v":0}]
[null,"Страйкбол","194",{"$f":"SUM(E201:G201)","v":0},{"$f":"SUM(J201,O201,T201,Y201,AD201)","v":0},{"$f":"SUM(K201,P201,U201,Z201,AE201)","v":0},{"$f":"SUM(L201,Q201,V201,AA201,AF201)","v":0},{"$f":"SUM(M201,R201,W201,AB201,AG201)","v":0},{"$f":"SUM(N201,S201,X201,AC201,AH201)","v":0},null,null,null,null,null,null,null,null,null,null,null,null,null,null,null,null,null,null,null,null,null,null,null,null,null,null,null,{"$f":"Раздел2!D202","v":0}]
[null,"Стрельба из арбалета","195",0,0,0,0,0,0,null,null,null,null,null,null,null,null,null,null,null,null,null,null,null,null,null,null,null,null,null,null,null,null,null,null,null,{"$f":"Раздел2!D203","v":0}]
[null,"Стрельба из лука - всего","196",0,0,0,0,0,0,{"$f":"SUM(J204:J206)","v":0},{"$f":"SUM(K204:K206)","v":0},0,0,0,0,0,0,0,0,0,0,0,0,0,0,0,0,0,0,0,0,0,0,0,null,null,{"$f":"Раздел2!D204","v":0}]
[null,"в том числе:\nКлассический лук","197",0,0,0,0,0,0,null,null,null,null,null,null,null,null,null,null,null,null,null,null,null,null,null,null,null,null,null,null,null,null,null,null,null,{"$f":"Раздел2!D205","v":0}]
[null,"   Блочный лук","198",0,0,0,0,0,0,null,null,null,null,null,null,null,null,null,null,null,null,null,null,null,null,null,null,null,null,null,null,null,null,null,null,null,{"$f":"Раздел2!D206","v":0}]
[null,"   Ачери ","199",0,0,0,0,0,0,null,null,null,null,null,null,null,null,null,null,null,null,null,null,null,null,null,null,null,null,null,null,null,null,null,null,null,{"$f":"Раздел2!D207","v":0}]
[null,"Судомодельный спорт","200",0,0,0,0,0,0,null,null,null,null,null,null,null,null,null,null,null,null,null,null,null,null,null,null,null,null,null,null,null,null,null,null,null,{"$f":"Раздел2!D208","v":0}]
[null,"Сумо","201",0,0,0,0,0,0,null,null,null,null,null,null,null,null,null,null,null,null,null,null,null,null,null,null,null,null,null,null,null,null,null,null,null,{"$f":"Раздел2!D209","v":0}]
[null,"Таврели","202",0,0,0,0,0,0,null,null,null,null,null,null,null,null,null,null,null,null,null,null,null,null,null,null,null,null,null,null,null,null,null,null,null,{"$f":"Раздел2!D210","v":0}]
[null,"Тайский бокс","203",0,0,0,0,0,0,null,null,null,null,null,null,null,null,null,null,null,null,null,null,null,null,null,null,null,null,null,null,null,null,null,null,null,{"$f":"Раздел2!D211","v":0}]
[null,"Танцевальный спорт","204",0,0,0,0,0,0,null,null,null,null,null,null,null,null,null,null,null,null,null,null,null,null,null,null,null,null,null,null,null,null,null,null,null,{"$f":"Раздел2!D212","v":0}]
[null,"Теннис","205",0,0,0,0,0,0,null,null,null,null,null,null,null,null,null,null,null,null,null,null,null,null,null,null,null,null,null,null,null,null,null,null,null,{"$f":"Раздел2!D213","v":0}]
[null,"Триатлон","206",0,0,0,0,0,0,null,null,null,null,null,null,null,null,null,null,null,null,null,null,null,null,null,null,null,null,null,null,null,null,null,null,null,{"$f":"Раздел2!D214","v":0}]
[null,"Тхэквондо - всего","207",0,0,0,0,0,0,{"$f":"SUM(J215:J216)","v":0},{"$f":"SUM(K215:K216)","v":0},0,0,0,0,0,0,0,0,0,0,0,0,0,0,0,0,0,0,0,0,0,0,0,null,null,{"$f":"Раздел2!D215","v":0}]
[null,"в том числе:\nТхэквондо (ВТФ)","208",0,0,0,0,0,0,null,null,null,null,null,null,null,null,null,null,null,null,null,null,null,null,null,null,null,null,null,null,null,null,null,null,null,{"$f":"Раздел2!D216","v":0}]
[null,"Тхэквондо (ГТФ, МФТ)","209",0,0,0,0,0,0,null,null,null,null,null,null,null,null,null,null,null,null,null,null,null,null,null,null,null,null,null,null,null,null,null,null,null,{"$f":"Раздел2!D217","v":0}]
[null,"Тхэквондо ИТФ","210",0,0,0,0,0,0,null,null,null,null,null,null,null,null,null,null,null,null,null,null,null,null,null,null,null,null,null,null,null,null,null,null,null,{"$f":"Раздел2!D218","v":0}]
[null,"Тяжелая атлетика","211",0,0,0,0,0,0,null,null,null,null,null,null,null,null,null,null,null,null,null,null,null,null,null,null,null,null,null,null,null,null,null,null,null,{"$f":"Раздел2!D219","v":0}]
[null,"Универсальный бой","212",0,0,0,0,0,0,null,null,null,null,null,null,null,null,null,null,null,null,null,null,null,null,null,null,null,null,null,null,null,null,null,null,null,{"$f":"Раздел2!D220","v":0}]
[null,"Ушу","213",0,0,0,0,0,0,null,null,null,null,null,null,null,null,null,null,null,null,null,null,null,null,null,null,null,null,null,null,null,null,null,null,null,{"$f":"Раздел2!D221","v":0}]
[null,"Фехтование - всего","214",0,0,0,0,0,0,{"$f":"SUM(J222:J225)","v":0},{"$f":"SUM(K222:K225)","v":0},0,0,0,0,0,0,0,0,0,0,0,0,0,0,0,0,0,0,0,0,0,0,0,null,null,{"$f":"Раздел2!D222","v":0}]
[null,"в том числе:\nРапира","215",0,0,0,0,0,0,null,null,null,null,null,null,null,null,null,null,null,null,null,null,null,null,null,null,null,null,null,null,null,null,null,null,null,{"$f":"Раздел2!D223","v":0}]
[null,"Сабля","216",0,0,0,0,0,0,null,null,null,null,null,null,null,null,null,null,null,null,null,null,null,null,null,null,null,null,null,null,null,null,null,null,null,{"$f":"Раздел2!D224","v":0}]
[null,"Шпага","217",0,0,0,0,0,0,null,null,null,null,null,null,null,null,null,null,null,null,null,null,null,null,null,null,null,null,null,null,null,null,null,null,null,{"$f":"Раздел2!D225","v":0}]
[null,"Арт-фехтование","218",0,0,0,0,0,0,null,null,null,null,null,null,null,null,null,null,null,null,null,null,null,null,null,null,null,null,null,null,null,null,null,null,null,{"$f":"Раздел2!D226","v":0}]
[null,"Фигурное катание на коньках","219",0,0,0,0,0,0,null,null,null,null,null,null,null,null,null,null,null,null,null,null,null,null,null,null,null,null,null,null,null,null,null,null,null,{"$f":"Раздел2!D227","v":0}]
[null,"Фитнес-аэробика","220",0,0,0,0,0,0,null,null,null,null,null,null,null,null,null,null,null,null,null,null,null,null,null,null,null,null,null,null,null,null,null,null,null,{"$f":"Раздел2!D228","v":0}]
[null,"Флаинг диск","221",0,0,0,0,0,0,null,null,null,null,null,null,null,null,null,null,null,null,null,null,null,null,null,null,null,null,null,null,null,null,null,null,null,{"$f":"Раздел2!D229","v":0}]
[null,"Флорбол","222",0,0,0,0,0,0,null,null,null,null,null,null,null,null,null,null,null,null,null,null,null,null,null,null,null,null,null,null,null,null,null,null,null,{"$f":"Раздел2!D230","v":0}]
[null,"Фристайл - всего","223",0,0,0,0,0,0,{"$f":"SUM(J231:J236)","v":0},{"$f":"SUM(K231:K236)","v":0},0,0,0,0,0,0,0,0,0,0,0,0,0,0,0,0,0,0,0,0,0,0,0,null,null,{"$f":"Раздел2!D231","v":0}]
[null,"в том числе:\nАкробатика","224",0,0,0,0,0,0,null,null,null,null,null,null,null,null,null,null,null,null,null,null,null,null,null,null,null,null,null,null,null,null,null,null,null,{"$f":"Раздел2!D232","v":0}]
[null,"Биг-эйр","225",0,0,0,0,0,0,null,null,null,null,null,null,null,null,null,null,null,null,null,null,null,null,null,null,null,null,null,null,null,null,null,null,null,{"$f":"Раздел2!D233","v":0}]
[null,"Могул","226",0,0,0,0,0,0,null,null,null,null,null,null,null,null,null,null,null,null,null,null,null,null,null,null,null,null,null,null,null,null,null,null,null,{"$f":"Раздел2!D234","v":0}]
[null,"Ски-кросс","227",0,0,0,0,0,0,null,null,null,null,null,null,null,null,null,null,null,null,null,null,null,null,null,null,null,null,null,null,null,null,null,null,null,{"$f":"Раздел2!D235","v":0}]
[null,"Хаф-пайп","228",0,0,0,0,0,0,null,null,null,null,null,null,null,null,null,null,null,null,null,null,null,null,null,null,null,null,null,null,null,null,null,null,null,{"$f":"Раздел2!D236","v":0}]
[null,"Слоуп-стайл","229",0,0,0,0,0,0,null,null,null,null,null,null,null,null,null,null,null,null,null,null,null,null,null,null,null,null,null,null,null,null,null,null,null,{"$f":"Раздел2!D237","v":0}]
[null,"Функциональное многоборье","230",0,0,0,0,0,0,null,null,null,null,null,null,null,null,null,null,null,null,null,null,null,null,null,null,null,null,null,null,null,null,null,null,null,{"$f":"Раздел2!D238","v":0}]
[null,"Футбол - всего","231",0,0,0,0,0,0,{"$f":"SUM(J239:J242)","v":0},{"$f":"SUM(K239:K242)","v":0},0,0,0,0,0,0,0,0,0,0,0,0,0,0,0,0,0,0,0,0,0,0,0,null,null,{"$f":"Раздел2!D239","v":1}]
[null,"в том числе:\nФутбол (муж.)","232",0,0,0,0,0,0,null,null,null,null,null,null,null,null,null,null,null,null,null,null,null,null,null,null,null,null,null,null,null,null,null,null,null,{"$f":"Раздел2!D240","v":1}]
[null,"Футбол (жен.)","233",0,0,0,0,0,0,null,null,null,null,null,null,null,null,null,null,null,null,null,null,null,null,null,null,null,null,null,null,null,null,null,null,null,{"$f":"Раздел2!D241","v":0}]
[null,"Мини-футбол (футзал)","234",0,0,0,0,0,0,null,null,null,null,null,null,null,null,null,null,null,null,null,null,null,null,null,null,null,null,null,null,null,null,null,null,null,{"$f":"Раздел2!D242","v":0}]
[null,"Пляжный футбол","235",0,0,0,0,0,0,null,null,null,null,null,null,null,null,null,null,null,null,null,null,null,null,null,null,null,null,null,null,null,null,null,null,null,{"$f":"Раздел2!D243","v":0}]
[null,"Футгольф","236",0,0,0,0,0,0,null,null,null,null,null,null,null,null,null,null,null,null,null,null,null,null,null,null,null,null,null,null,null,null,null,null,null,{"$f":"Раздел2!D244","v":0}]
[null,"Хапкидо","237",0,0,0,0,0,0,null,null,null,null,null,null,null,null,null,null,null,null,null,null,null,null,null,null,null,null,null,null,null,null,null,null,null,{"$f":"Раздел2!D245","v":0}]
[null,"Хапсагай","238",0,0,0,0,0,0,null,null,null,null,null,null,null,null,null,null,null,null,null,null,null,null,null,null,null,null,null,null,null,null,null,null,null,{"$f":"Раздел2!D246","v":0}]
[null,"Хоккей - всего","239",0,0,0,0,0,0,{"$f":"SUM(J247:J248)","v":0},{"$f":"SUM(K247:K248)","v":0},0,0,0,0,0,0,0,0,0,0,0,0,0,0,0,0,0,0,0,0,0,0,0,null,null,{"$f":"Раздел2!D247","v":0}]
[null,"в том числе:\nХоккей (муж.)","240",0,0,0,0,0,0,null,null,null,null,null,null,null,null,null,null,null,null,null,null,null,null,null,null,null,null,null,null,null,null,null,null,null,{"$f":"Раздел2!D248","v":0}]
[null,"Хоккей (жен.)","241",0,0,0,0,0,0,null,null,null,null,null,null,null,null,null,null,null,null,null,null,null,null,null,null,null,null,null,null,null,null,null,null,null,{"$f":"Раздел2!D249","v":0}]
[null,"Хоккей на траве - всего","242",0,0,0,0,0,0,{"$f":"SUM(J250:J252)","v":0},{"$f":"SUM(K250:K252)","v":0},0,0,0,0,0,0,0,0,0,0,0,0,0,0,0,0,0,0,0,0,0,0,0,null,null,{"$f":"Раздел2!D250","v":0}]
[null,"в том числе:\nХоккей на траве (муж.)","243",0,0,0,0,0,0,null,null,null,null,null,null,null,null,null,null,null,null,null,null,null,null,null,null,null,null,null,null,null,null,null,null,null,{"$f":"Раздел2!D251","v":0}]
[null,"Хоккей на траве (жен.)","244",0,0,0,0,0,0,null,null,null,null,null,null,null,null,null,null,null,null,null,null,null,null,null,null,null,null,null,null,null,null,null,null,null,{"$f":"Раздел2!D252","v":0}]
[null,"Индорхоккей","245",0,0,0,0,0,0,null,null,null,null,null,null,null,null,null,null,null,null,null,null,null,null,null,null,null,null,null,null,null,null,null,null,null,{"$f":"Раздел2!D253","v":0}]
[null,"Хоккей с мячом","246",0,0,0,0,0,0,null,null,null,null,null,null,null,null,null,null,null,null,null,null,null,null,null,null,null,null,null,null,null,null,null,null,null,{"$f":"Раздел2!D254","v":0}]
[null,"Художественная гимнастика","247",0,0,0,0,0,0,null,null,null,null,null,null,null,null,null,null,null,null,null,null,null,null,null,null,null,null,null,null,null,null,null,null,null,{"$f":"Раздел2!D255","v":0}]
[null,"Хуреш","248",0,0,0,0,0,0,null,null,null,null,null,null,null,null,null,null,null,null,null,null,null,null,null,null,null,null,null,null,null,null,null,null,null,{"$f":"Раздел2!D256","v":0}]
[null,"Чир спорт","249",0,0,0,0,0,0,null,null,null,null,null,null,null,null,null,null,null,null,null,null,null,null,null,null,null,null,null,null,null,null,null,null,null,{"$f":"Раздел2!D257","v":0}]
[null,"Шахматы","250",0,0,0,0,0,0,null,null,null,null,null,null,null,null,null,null,null,null,null,null,null,null,null,null,null,null,null,null,null,null,null,null,null,{"$f":"Раздел2!D258","v":1}]
[null,"Шашки","251",0,0,0,0,0,0,null,null,null,null,null,null,null,null,null,null,null,null,null,null,null,null,null,null,null,null,null,null,null,null,null,null,null,{"$f":"Раздел2!D259","v":0}]
[null,"Шодсанлат","252",0,0,0,0,0,0,null,null,null,null,null,null,null,null,null,null,null,null,null,null,null,null,null,null,null,null,null,null,null,null,null,null,null,{"$f":"Раздел2!D260","v":0}]
[null,"Эстетическая гимнастика","253",0,0,0,0,0,0,null,null,null,null,null,null,null,null,null,null,null,null,null,null,null,null,null,null,null,null,null,null,null,null,null,null,null,{"$f":"Раздел2!D261","v":0}]
[null,"Якутские национальные прыжки","254",0,0,0,0,0,0,null,null,null,null,null,null,null,null,null,null,null,null,null,null,null,null,null,null,null,null,null,null,null,null,null,null,null,{"$f":"Раздел2!D262","v":0}]
[null,"ИТОГО","255",3,1,2,0,2,0,{"$f":"SUM(J8:J19,J22:J25,J28:J32,J37:J40,J43:J48,J53:J55,J59:J68,J73:J82,J86:J92,J95:J99,J107:J121,J124:J129,J132,J137:J138,J144:J147,J152:J184,J190:J196,J201:J203,J207:J214,J217:J221,J226:J230,J237:J238,J243:J246,J249,J253:J261)","v":0},{"$f":"SUM(K8:K19,K22:K25,K28:K32,K37:K40,K43:K48,K53:K55,K59:K68,K73:K82,K86:K92,K95:K99,K107:K121,K124:K129,K132,K137:K138,K144:K147,K152:K184,K190:K196,K201:K203,K207:K214,K217:K221,K226:K230,K237:K238,K243:K246,K249,K253:K261)","v":0},0,0,0,0,0,0,0,0,0,0,0,0,0,0,0,0,0,0,1,2,0,2,0,null,null,{"$f":"Раздел2!D263","v":8}]

{"sheet":"Раздел8","index":8,"n_rows":262,"n_cols":62,"rows_kept":262,"cut":false,"hidden":false,"merged":[[0,59,122,59],[2,61,5,61],[3,9,4,13],[3,19,4,23],[3,24,4,28],[3,29,4,33],[3,34,4,38],[3,39,4,43],[3,44,4,48],[3,49,4,53],[3,54,4,58],[1,51,1,58],[2,34,2,58],[2,3,2,33],[3,3,4,8],[0,0,122,0],[2,1,5,1],[2,2,5,2],[0,1,0,33],[1,24,1,33],[3,14,4,18]]}
[null,"Раздел VIII. Международные спортивные соревнования"]
[null,null,null,null,null,null,null,null,null,null,null,null,null,null,null,null,null,null,null,null,null,null,null,null,null,null,null,null,null,null,null,null,null,null,null,null,null,null,null,null,null,null,null,null,null,null,null,null,null,null,null,"Коды по ОКЕИ: единица - 642"]
[null,"Виды спорта","№ строки","Результаты выступлений на соревнованиях",null,null,null,null,null,null,null,null,null,null,null,null,null,null,null,null,null,null,null,null,null,null,null,null,null,null,null,null,null,null,"Результаты выступлений на соревнованиях",null,null,null,null,null,null,null,null,null,null,null,null,null,null,null,null,null,null,null,null,null,null,null,null,null,null,"Раздел2 графа3\nЧисло отделений"]
[null,null,null,"Всего",null,null,null,null,null,"Олимпийские игры",null,null,null,null,"Чемпионат мира",null,null,null,null,"Юношеские Олимпийские игры",null,null,null,null,"Первенство мира",null,null,null,null,"Кубок мира",null,null,null,null,"Этапы Кубка мира",null,null,null,null,"Чемпионат Европы",null,null,null,null,"Первенство Европы",null,null,null,null,"Кубок Европы",null,null,null,null,"Прочие официальные между-народные соревнования"]
[]
[null,null,null,"медали \n(1-3 место)",1,2,3,"4-6","учас-тие",1,2,3,"4-6","учас-тие",1,2,3,"4-6","учас-тие",1,2,3,"4-6","учас-тие",1,2,3,"4-6","учас-тие",1,2,3,"4-6","учас-тие",1,2,3,"4-6","учас-тие",1,2,3,"4-6","учас-тие",1,2,3,"4-6","учас-тие",1,2,3,"4-6","учас-тие",1,2,3,"4-6","учас-тие"]
[null,1,2,3,4,5,6,7,8,9,10,11,12,13,14,15,16,17,18,19,20,21,22,23,24,25,26,27,28,29,30,31,32,33,34,35,36,37,38,39,40,41,42,43,44,45,46,47,48,49,50,51,52,53,54,55,56,57,58]
[null,"Авиамодельный спорт","01",{"$f":"SUM(E8:G8)","v":0},{"$f":"SUM(J8,O8,T8,Y8,AD8,AI8,AN8,AS8,AX8,BC8)","v":0},{"$f":"SUM(K8,P8,U8,Z8,AE8,AJ8,AO8,AT8,AY8,BD8)","v":0},{"$f":"SUM(L8,Q8,V8,AA8,AF8,AK8,AP8,AU8,AZ8,BE8)","v":0},0,{"$f":"SUM(N8,S8,X8,AC8,AH8,AM8,AR8,AW8,BB8,BG8)","v":0},null,null,null,null,null,null,null,null,null,null,null,null,null,null,null,null,null,null,null,null,null,null,null,null,null,null,null,null,null,null,null,null,null,null,null,null,null,null,null,null,null,null,null,null,null,null,null,null,null,null,null,null,{"$f":"Раздел2!D9","v":0}]
[null,"Автомобильный спорт","02",{"$f":"SUM(E9:G9)","v":0},{"$f":"SUM(J9,O9,T9,Y9,AD9,AI9,AN9,AS9,AX9,BC9)","v":0},{"$f":"SUM(K9,P9,U9,Z9,AE9,AJ9,AO9,AT9,AY9,BD9)","v":0},0,0,{"$f":"SUM(N9,S9,X9,AC9,AH9,AM9,AR9,AW9,BB9,BG9)","v":0},null,null,null,null,null,null,null,null,null,null,null,null,null,null,null,null,null,null,null,null,null,null,null,null,null,null,null,null,null,null,null,null,null,null,null,null,null,null,null,null,null,null,null,null,null,null,null,null,null,null,null,null,{"$f":"Раздел2!D10","v":0}]
[null,"Автомодельный спорт","03",0,0,0,0,0,0,null,null,null,null,null,null,null,null,null,null,null,null,null,null,null,null,null,null,null,null,null,null,null,null,null,null,null,null,null,null,null,null,null,null,null,null,null,null,null,null,null,null,null,null,null,null,null,null,null,null,null,null,{"$f":"Раздел2!D11","v":0}]
[null,"Айкидо","04",0,0,0,0,0,0,null,null,null,null,null,null,null,null,null,null,null,null,null,null,null,null,null,null,null,null,null,null,null,null,null,null,null,null,null,null,null,null,null,null,null,null,null,null,null,null,null,null,null,null,null,null,null,null,null,null,null,null,{"$f":"Раздел2!D12","v":0}]
[null,"Айсшток","05",0,0,0,0,0,0,null,null,null,null,null,null,null,null,null,null,null,null,null,null,null,null,null,null,null,null,null,null,null,null,null,null,null,null,null,null,null,null,null,null,null,null,null,null,null,null,null,null,null,null,null,null,null,null,null,null,null,null,{"$f":"Раздел2!D13","v":0}]
[null,"Акробатический рок-н-ролл","06",0,0,0,0,0,0,null,null,null,null,null,null,null,null,null,null,null,null,null,null,null,null,null,null,null,null,null,null,null,null,null,null,null,null,null,null,null,null,null,null,null,null,null,null,null,null,null,null,null,null,null,null,null,null,null,null,null,null,{"$f":"Раздел2!D14","v":0}]
[null,"Альпинизм","07",0,0,0,0,0,0,null,null,null,null,null,null,null,null,null,null,null,null,null,null,null,null,null,null,null,null,null,null,null,null,null,null,null,null,null,null,null,null,null,null,null,null,null,null,null,null,null,null,null,null,null,null,null,null,null,null,null,null,{"$f":"Раздел2!D15","v":0}]
[null,"Американский футбол","08",0,0,0,0,0,0,null,null,null,null,null,null,null,null,null,null,null,null,null,null,null,null,null,null,null,null,null,null,null,null,null,null,null,null,null,null,null,null,null,null,null,null,null,null,null,null,null,null,null,null,null,null,null,null,null,null,null,null,{"$f":"Раздел2!D16","v":0}]
[null,"Армейский рукопашный бой","09",0,0,0,0,0,0,null,null,null,null,null,null,null,null,null,null,null,null,null,null,null,null,null,null,null,null,null,null,null,null,null,null,null,null,null,null,null,null,null,null,null,null,null,null,null,null,null,null,null,null,null,null,null,null,null,null,null,null,{"$f":"Раздел2!D17","v":0}]
[null,"Армрестлинг","10",0,0,0,0,0,0,null,null,null,null,null,null,null,null,null,null,null,null,null,null,null,null,null,null,null,null,null,null,null,null,null,null,null,null,null,null,null,null,null,null,null,null,null,null,null,null,null,null,null,null,null,null,null,null,null,null,null,null,{"$f":"Раздел2!D18","v":0}]
[null,"Бадминтон","11",0,0,0,0,0,0,null,null,null,null,null,null,null,null,null,null,null,null,null,null,null,null,null,null,null,null,null,null,null,null,null,null,null,null,null,null,null,null,null,null,null,null,null,null,null,null,null,null,null,null,null,null,null,null,null,null,null,null,{"$f":"Раздел2!D19","v":0}]
[null,"Баскетбол - всего","12",0,0,0,0,0,0,{"$f":"SUM(J20:J21)","v":0},{"$f":"SUM(K20:K21)","v":0},0,0,0,0,0,0,0,0,0,0,0,0,0,0,0,0,0,0,0,0,0,0,0,0,0,0,0,0,0,0,0,0,0,0,0,0,0,0,0,0,0,0,0,0,0,0,0,0,null,null,{"$f":"Раздел2!D20","v":1}]
[null,"в том числе:\nБаскетбол (муж.)","13",0,0,0,0,0,0,null,null,null,null,null,null,null,null,null,null,null,null,null,null,null,null,null,null,null,null,null,null,null,null,null,null,null,null,null,null,null,null,null,null,null,null,null,null,null,null,null,null,null,null,null,null,null,null,null,null,null,null,{"$f":"Раздел2!D21","v":1}]
[null,"Баскетбол (жен.)","14",0,0,0,0,0,0,null,null,null,null,null,null,null,null,null,null,null,null,null,null,null,null,null,null,null,null,null,null,null,null,null,null,null,null,null,null,null,null,null,null,null,null,null,null,null,null,null,null,null,null,null,null,null,null,null,null,null,null,{"$f":"Раздел2!D22","v":1}]
[null,"Бейсбол","15",0,0,0,0,0,0,null,null,null,null,null,null,null,null,null,null,null,null,null,null,null,null,null,null,null,null,null,null,null,null,null,null,null,null,null,null,null,null,null,null,null,null,null,null,null,null,null,null,null,null,null,null,null,null,null,null,null,null,{"$f":"Раздел2!D23","v":0}]
[null,"Биатлон","16",0,0,0,0,0,0,null,null,null,null,null,null,null,null,null,null,null,null,null,null,null,null,null,null,null,null,null,null,null,null,null,null,null,null,null,null,null,null,null,null,null,null,null,null,null,null,null,null,null,null,null,null,null,null,null,null,null,null,{"$f":"Раздел2!D24","v":0}]
[null,"Бильярдный спорт","17",0,0,0,0,0,0,null,null,null,null,null,null,null,null,null,null,null,null,null,null,null,null,null,null,null,null,null,null,null,null,null,null,null,null,null,null,null,null,null,null,null,null,null,null,null,null,null,null,null,null,null,null,null,null,null,null,null,null,{"$f":"Раздел2!D25","v":0}]
[null,"Бобслей - всего","18",0,0,0,0,0,0,{"$f":"SUM(J26:J27)","v":0},{"$f":"SUM(K26:K27)","v":0},0,0,0,0,0,0,0,0,0,0,0,0,0,0,0,0,0,0,0,0,0,0,0,0,0,0,0,0,0,0,0,0,0,0,0,0,0,0,0,0,0,0,0,0,0,0,0,0,null,null,{"$f":"Раздел2!D26","v":0}]
[null,"в том числе:\nБобслей","19",0,0,0,0,0,0,null,null,null,null,null,null,null,null,null,null,null,null,null,null,null,null,null,null,null,null,null,null,null,null,null,null,null,null,null,null,null,null,null,null,null,null,null,null,null,null,null,null,null,null,null,null,null,null,null,null,null,null,{"$f":"Раздел2!D27","v":0}]
[null,"Скелетон","20",0,0,0,0,0,0,null,null,null,null,null,null,null,null,null,null,null,null,null,null,null,null,null,null,null,null,null,null,null,null,null,null,null,null,null,null,null,null,null,null,null,null,null,null,null,null,null,null,null,null,null,null,null,null,null,null,null,null,{"$f":"Раздел2!D28","v":0}]
[null,"Бодибилдинг","21",0,0,0,0,0,0,null,null,null,null,null,null,null,null,null,null,null,null,null,null,null,null,null,null,null,null,null,null,null,null,null,null,null,null,null,null,null,null,null,null,null,null,null,null,null,null,null,null,null,null,null,null,null,null,null,null,null,null,{"$f":"Раздел2!D29","v":0}]
[null,"Бокс","22",0,0,0,0,0,0,null,null,null,null,null,null,null,null,null,null,null,null,null,null,null,null,null,null,null,null,null,null,null,null,null,null,null,null,null,null,null,null,null,null,null,null,null,null,null,null,null,null,null,null,null,null,null,null,null,null,null,null,{"$f":"Раздел2!D30","v":0}]
[null,"Борьба на поясах","23",0,0,0,0,0,0,null,null,null,null,null,null,null,null,null,null,null,null,null,null,null,null,null,null,null,null,null,null,null,null,null,null,null,null,null,null,null,null,null,null,null,null,null,null,null,null,null,null,null,null,null,null,null,null,null,null,null,null,{"$f":"Раздел2!D31","v":0}]
[null,"Боулинг","24",0,0,0,0,0,0,null,null,null,null,null,null,null,null,null,null,null,null,null,null,null,null,null,null,null,null,null,null,null,null,null,null,null,null,null,null,null,null,null,null,null,null,null,null,null,null,null,null,null,null,null,null,null,null,null,null,null,null,{"$f":"Раздел2!D32","v":0}]
[null,"Велосипедный спорт - всего","25",0,0,0,0,0,0,{"$f":"SUM(J33:J36)","v":0},{"$f":"SUM(K33:K36)","v":0},0,0,0,0,0,0,0,0,0,0,0,0,0,0,0,0,0,0,0,0,0,0,0,0,0,0,0,0,0,0,0,0,0,0,0,0,0,0,0,0,0,0,0,0,0,0,0,0,null,null,{"$f":"Раздел2!D33","v":0}]
[null,"в том числе:\nBMX","26",0,0,0,0,0,0,null,null,null,null,null,null,null,null,null,null,null,null,null,null,null,null,null,null,null,null,null,null,null,null,null,null,null,null,null,null,null,null,null,null,null,null,null,null,null,null,null,null,null,null,null,null,null,null,null,null,null,null,{"$f":"Раздел2!D34","v":0}]
[null,"Маунтинбайк","27",0,0,0,0,0,0,null,null,null,null,null,null,null,null,null,null,null,null,null,null,null,null,null,null,null,null,null,null,null,null,null,null,null,null,null,null,null,null,null,null,null,null,null,null,null,null,null,null,null,null,null,null,null,null,null,null,null,null,{"$f":"Раздел2!D35","v":0}]
[null,"Трек","28",0,0,0,0,0,0,null,null,null,null,null,null,null,null,null,null,null,null,null,null,null,null,null,null,null,null,null,null,null,null,null,null,null,null,null,null,null,null,null,null,null,null,null,null,null,null,null,null,null,null,null,null,null,null,null,null,null,null,{"$f":"Раздел2!D36","v":0}]
[null,"Шоссе","29",0,0,0,0,0,0,null,null,null,null,null,null,null,null,null,null,null,null,null,null,null,null,null,null,null,null,null,null,null,null,null,null,null,null,null,null,null,null,null,null,null,null,null,null,null,null,null,null,null,null,null,null,null,null,null,null,null,null,{"$f":"Раздел2!D37","v":0}]
[null,"Вертолетный спорт","30",0,0,0,0,0,0,null,null,null,null,null,null,null,null,null,null,null,null,null,null,null,null,null,null,null,null,null,null,null,null,null,null,null,null,null,null,null,null,null,null,null,null,null,null,null,null,null,null,null,null,null,null,null,null,null,null,null,null,{"$f":"Раздел2!D38","v":0}]
[null,"Водно-моторный спорт","31",0,0,0,0,0,0,null,null,null,null,null,null,null,null,null,null,null,null,null,null,null,null,null,null,null,null,null,null,null,null,null,null,null,null,null,null,null,null,null,null,null,null,null,null,null,null,null,null,null,null,null,null,null,null,null,null,null,null,{"$f":"Раздел2!D39","v":0}]
[null,"Водно-спасательное многоборье","32",0,0,0,0,0,0,null,null,null,null,null,null,null,null,null,null,null,null,null,null,null,null,null,null,null,null,null,null,null,null,null,null,null,null,null,null,null,null,null,null,null,null,null,null,null,null,null,null,null,null,null,null,null,null,null,null,null,null,{"$f":"Раздел2!D40","v":0}]
[null,"Водное поло - всего ","33",0,0,0,0,0,0,{"$f":"SUM(J41:J42)","v":0},{"$f":"SUM(K41:K42)","v":0},0,0,0,0,0,0,0,0,0,0,0,0,0,0,0,0,0,0,0,0,0,0,0,0,0,0,0,0,0,0,0,0,0,0,0,0,0,0,0,0,0,0,0,0,0,0,0,0,null,null,{"$f":"Раздел2!D41","v":0}]
[null,"в том числе:\nВодное поло (муж.)","34",0,0,0,0,0,0,null,null,null,null,null,null,null,null,null,null,null,null,null,null,null,null,null,null,null,null,null,null,null,null,null,null,null,null,null,null,null,null,null,null,null,null,null,null,null,null,null,null,null,null,null,null,null,null,null,null,null,null,{"$f":"Раздел2!D42","v":0}]
[null,"Водное поло (жен.)","35",0,0,0,0,0,0,null,null,null,null,null,null,null,null,null,null,null,null,null,null,null,null,null,null,null,null,null,null,null,null,null,null,null,null,null,null,null,null,null,null,null,null,null,null,null,null,null,null,null,null,null,null,null,null,null,null,null,null,{"$f":"Раздел2!D43","v":0}]
[null,"Воднолыжный спорт","36",0,0,0,0,0,0,null,null,null,null,null,null,null,null,null,null,null,null,null,null,null,null,null,null,null,null,null,null,null,null,null,null,null,null,null,null,null,null,null,null,null,null,null,null,null,null,null,null,null,null,null,null,null,null,null,null,null,null,{"$f":"Раздел2!D44","v":0}]
[null,"Воздушно-силовая атлетика","37",0,0,0,0,0,0,null,null,null,null,null,null,null,null,null,null,null,null,null,null,null,null,null,null,null,null,null,null,null,null,null,null,null,null,null,null,null,null,null,null,null,null,null,null,null,null,null,null,null,null,null,null,null,null,null,null,null,null,{"$f":"Раздел2!D45","v":0}]
[null,"Военно-прикладной спорт","38",0,0,0,0,0,0,null,null,null,null,null,null,null,null,null,null,null,null,null,null,null,null,null,null,null,null,null,null,null,null,null,null,null,null,null,null,null,null,null,null,null,null,null,null,null,null,null,null,null,null,null,null,null,null,null,null,null,null,{"$f":"Раздел2!D46","v":0}]
[null,"Военно-спортивное многоборье","39",0,0,0,0,0,0,null,null,null,null,null,null,null,null,null,null,null,null,null,null,null,null,null,null,null,null,null,null,null,null,null,null,null,null,null,null,null,null,null,null,null,null,null,null,null,null,null,null,null,null,null,null,null,null,null,null,null,null,{"$f":"Раздел2!D47","v":0}]
[null,"Воздухоплавательный спорт","40",0,0,0,0,0,0,null,null,null,null,null,null,null,null,null,null,null,null,null,null,null,null,null,null,null,null,null,null,null,null,null,null,null,null,null,null,null,null,null,null,null,null,null,null,null,null,null,null,null,null,null,null,null,null,null,null,null,null,{"$f":"Раздел2!D48","v":0}]
[null,"Волейбол - всего","41",0,0,0,0,0,0,{"$f":"SUM(J49:J52)","v":0},{"$f":"SUM(K49:K52)","v":0},0,0,0,0,0,0,0,0,0,0,0,0,0,0,0,0,0,0,0,0,0,0,0,0,0,0,0,0,0,0,0,0,0,0,0,0,0,0,0,0,0,0,0,0,0,0,0,0,null,null,{"$f":"Раздел2!D49","v":1}]
[null,"в том числе:\nВолейбол (муж.)","42",0,0,0,0,0,0,null,null,null,null,null,null,null,null,null,null,null,null,null,null,null,null,null,null,null,null,null,null,null,null,null,null,null,null,null,null,null,null,null,null,null,null,null,null,null,null,null,null,null,null,null,null,null,null,null,null,null,null,{"$f":"Раздел2!D50","v":1}]
[null,"Волейбол (жен.)","43",0,0,0,0,0,0,null,null,null,null,null,null,null,null,null,null,null,null,null,null,null,null,null,null,null,null,null,null,null,null,null,null,null,null,null,null,null,null,null,null,null,null,null,null,null,null,null,null,null,null,null,null,null,null,null,null,null,null,{"$f":"Раздел2!D51","v":1}]
[null,"Пляжный волейбол (муж.)","44",0,0,0,0,0,0,null,null,null,null,null,null,null,null,null,null,null,null,null,null,null,null,null,null,null,null,null,null,null,null,null,null,null,null,null,null,null,null,null,null,null,null,null,null,null,null,null,null,null,null,null,null,null,null,null,null,null,null,{"$f":"Раздел2!D52","v":0}]
[null,"Пляжный волейбол (жен.)","45",0,0,0,0,0,0,null,null,null,null,null,null,null,null,null,null,null,null,null,null,null,null,null,null,null,null,null,null,null,null,null,null,null,null,null,null,null,null,null,null,null,null,null,null,null,null,null,null,null,null,null,null,null,null,null,null,null,null,{"$f":"Раздел2!D53","v":0}]
[null,"Восточное боевое единоборство","46",0,0,0,0,0,0,null,null,null,null,null,null,null,null,null,null,null,null,null,null,null,null,null,null,null,null,null,null,null,null,null,null,null,null,null,null,null,null,null,null,null,null,null,null,null,null,null,null,null,null,null,null,null,null,null,null,null,null,{"$f":"Раздел2!D54","v":0}]
[null,"Всестилевое каратэ","47",0,0,0,0,0,0,null,null,null,null,null,null,null,null,null,null,null,null,null,null,null,null,null,null,null,null,null,null,null,null,null,null,null,null,null,null,null,null,null,null,null,null,null,null,null,null,null,null,null,null,null,null,null,null,null,null,null,null,{"$f":"Раздел2!D55","v":0}]
[null,"Гандбол - всего","48",0,0,0,0,0,0,{"$f":"SUM(J56:J58)","v":0},{"$f":"SUM(K56:K58)","v":0},0,0,0,0,0,0,0,0,0,0,0,0,0,0,0,0,0,0,0,0,0,0,0,0,0,0,0,0,0,0,0,0,0,0,0,0,0,0,0,0,0,0,0,0,0,0,0,0,null,null,{"$f":"Раздел2!D56","v":0}]
[null,"в том числе:\nГандбол (муж.)","49",0,0,0,0,0,0,null,null,null,null,null,null,null,null,null,null,null,null,null,null,null,null,null,null,null,null,null,null,null,null,null,null,null,null,null,null,null,null,null,null,null,null,null,null,null,null,null,null,null,null,null,null,null,null,null,null,null,null,{"$f":"Раздел2!D57","v":0}]
[null,"Гандбол (жен.)","50",0,0,0,0,0,0,null,null,null,null,null,null,null,null,null,null,null,null,null,null,null,null,null,null,null,null,null,null,null,null,null,null,null,null,null,null,null,null,null,null,null,null,null,null,null,null,null,null,null,null,null,null,null,null,null,null,null,null,{"$f":"Раздел2!D58","v":0}]
[null,"Пляжный гандбол","51",0,0,0,0,0,0,null,null,null,null,null,null,null,null,null,null,null,null,null,null,null,null,null,null,null,null,null,null,null,null,null,null,null,null,null,null,null,null,null,null,null,null,null,null,null,null,null,null,null,null,null,null,null,null,null,null,null,null,{"$f":"Раздел2!D59","v":0}]
[null,"Гиревой спорт","52",0,0,0,0,0,0,null,null,null,null,null,null,null,null,null,null,null,null,null,null,null,null,null,null,null,null,null,null,null,null,null,null,null,null,null,null,null,null,null,null,null,null,null,null,null,null,null,null,null,null,null,null,null,null,null,null,null,null,{"$f":"Раздел2!D60","v":0}]
[null,"Го","53",0,0,0,0,0,0,null,null,null,null,null,null,null,null,null,null,null,null,null,null,null,null,null,null,null,null,null,null,null,null,null,null,null,null,null,null,null,null,null,null,null,null,null,null,null,null,null,null,null,null,null,null,null,null,null,null,null,null,{"$f":"Раздел2!D61","v":0}]
[null,"Гольф","54",0,0,0,0,0,0,null,null,null,null,null,null,null,null,null,null,null,null,null,null,null,null,null,null,null,null,null,null,null,null,null,null,null,null,null,null,null,null,null,null,null,null,null,null,null,null,null,null,null,null,null,null,null,null,null,null,null,null,{"$f":"Раздел2!D62","v":0}]
[null,"Гонки на охотничьих лыжах","55",0,0,0,0,0,0,null,null,null,null,null,null,null,null,null,null,null,null,null,null,null,null,null,null,null,null,null,null,null,null,null,null,null,null,null,null,null,null,null,null,null,null,null,null,null,null,null,null,null,null,null,null,null,null,null,null,null,null,{"$f":"Раздел2!D63","v":0}]
[null,"Горнолыжный спорт","56",0,0,0,0,0,0,null,null,null,null,null,null,null,null,null,null,null,null,null,null,null,null,null,null,null,null,null,null,null,null,null,null,null,null,null,null,null,null,null,null,null,null,null,null,null,null,null,null,null,null,null,null,null,null,null,null,null,null,{"$f":"Раздел2!D64","v":0}]
[null,"Городошный спорт","57",0,0,0,0,0,0,null,null,null,null,null,null,null,null,null,null,null,null,null,null,null,null,null,null,null,null,null,null,null,null,null,null,null,null,null,null,null,null,null,null,null,null,null,null,null,null,null,null,null,null,null,null,null,null,null,null,null,null,{"$f":"Раздел2!D65","v":0}]
[null,"Гребля на байдарках и каноэ","58",0,0,0,0,0,0,null,null,null,null,null,null,null,null,null,null,null,null,null,null,null,null,null,null,null,null,null,null,null,null,null,null,null,null,null,null,null,null,null,null,null,null,null,null,null,null,null,null,null,null,null,null,null,null,null,null,null,null,{"$f":"Раздел2!D66","v":0}]
[null,"Гребля на шлюпках","59",0,0,0,0,0,0,null,null,null,null,null,null,null,null,null,null,null,null,null,null,null,null,null,null,null,null,null,null,null,null,null,null,null,null,null,null,null,null,null,null,null,null,null,null,null,null,null,null,null,null,null,null,null,null,null,null,null,null,{"$f":"Раздел2!D67","v":0}]
[null,"Гребной слалом","60",0,0,0,0,0,0,null,null,null,null,null,null,null,null,null,null,null,null,null,null,null,null,null,null,null,null,null,null,null,null,null,null,null,null,null,null,null,null,null,null,null,null,null,null,null,null,null,null,null,null,null,null,null,null,null,null,null,null,{"$f":"Раздел2!D68","v":0}]
[null,"Гребной спорт - всего","61",0,0,0,0,0,0,{"$f":"SUM(J69:J72)","v":0},{"$f":"SUM(K69:K72)","v":0},0,0,0,0,0,0,0,0,0,0,0,0,0,0,0,0,0,0,0,0,0,0,0,0,0,0,0,0,0,0,0,0,0,0,0,0,0,0,0,0,0,0,0,0,0,0,0,0,null,null,{"$f":"Раздел2!D69","v":0}]
[null,"в том числе:\nАкадемическая гребля","62",0,0,0,0,0,0,null,null,null,null,null,null,null,null,null,null,null,null,null,null,null,null,null,null,null,null,null,null,null,null,null,null,null,null,null,null,null,null,null,null,null,null,null,null,null,null,null,null,null,null,null,null,null,null,null,null,null,null,{"$f":"Раздел2!D70","v":0}]
[null,"Гребля-индор","63",0,0,0,0,0,0,null,null,null,null,null,null,null,null,null,null,null,null,null,null,null,null,null,null,null,null,null,null,null,null,null,null,null,null,null,null,null,null,null,null,null,null,null,null,null,null,null,null,null,null,null,null,null,null,null,null,null,null,{"$f":"Раздел2!D71","v":0}]
[null,"Народная гребля","64",0,0,0,0,0,0,null,null,null,null,null,null,null,null,null,null,null,null,null,null,null,null,null,null,null,null,null,null,null,null,null,null,null,null,null,null,null,null,null,null,null,null,null,null,null,null,null,null,null,null,null,null,null,null,null,null,null,null,{"$f":"Раздел2!D72","v":0}]
[null,"Прибрежная гребля","65",0,0,0,0,0,0,null,null,null,null,null,null,null,null,null,null,null,null,null,null,null,null,null,null,null,null,null,null,null,null,null,null,null,null,null,null,null,null,null,null,null,null,null,null,null,null,null,null,null,null,null,null,null,null,null,null,null,null,{"$f":"Раздел2!D73","v":0}]
[null,"Гребно-парусное двоеборье","66",{"$f":"SUM(E73:G73)","v":0},{"$f":"SUM(J73,O73,T73,Y73,AD73,AI73,AN73,AS73,AX73,BC73)","v":0},{"$f":"SUM(K73,P73,U73,Z73,AE73,AJ73,AO73,AT73,AY73,BD73)","v":0},0,0,{"$f":"SUM(N73,S73,X73,AC73,AH73,AM73,AR73,AW73,BB73,BG73)","v":0},null,null,null,null,null,null,null,null,null,null,null,null,null,null,null,null,null,null,null,null,null,null,null,null,null,null,null,null,null,null,null,null,null,null,null,null,null,null,null,null,null,null,null,null,null,null,null,null,null,null,null,null,{"$f":"Раздел2!D74","v":0}]
[null,"Дартс","67",0,0,0,0,0,0,null,null,null,null,null,null,null,null,null,null,null,null,null,null,null,null,null,null,null,null,null,null,null,null,null,null,null,null,null,null,null,null,null,null,null,null,null,null,null,null,null,null,null,null,null,null,null,null,null,null,null,null,{"$f":"Раздел2!D75","v":0}]
[null,"Джиу-джитсу","68",0,0,0,0,0,0,null,null,null,null,null,null,null,null,null,null,null,null,null,null,null,null,null,null,null,null,null,null,null,null,null,null,null,null,null,null,null,null,null,null,null,null,null,null,null,null,null,null,null,null,null,null,null,null,null,null,null,null,{"$f":"Раздел2!D76","v":0}]
[null,"Дзюдо","69",0,0,0,0,0,0,null,null,null,null,null,null,null,null,null,null,null,null,null,null,null,null,null,null,null,null,null,null,null,null,null,null,null,null,null,null,null,null,null,null,null,null,null,null,null,null,null,null,null,null,null,null,null,null,null,null,null,null,{"$f":"Раздел2!D77","v":0}]
[null,"Ездовой спорт","70",0,0,0,0,0,0,null,null,null,null,null,null,null,null,null,null,null,null,null,null,null,null,null,null,null,null,null,null,null,null,null,null,null,null,null,null,null,null,null,null,null,null,null,null,null,null,null,null,null,null,null,null,null,null,null,null,null,null,{"$f":"Раздел2!D78","v":0}]
[null,"Капоэйра","71",0,0,0,0,0,0,null,null,null,null,null,null,null,null,null,null,null,null,null,null,null,null,null,null,null,null,null,null,null,null,null,null,null,null,null,null,null,null,null,null,null,null,null,null,null,null,null,null,null,null,null,null,null,null,null,null,null,null,{"$f":"Раздел2!D79","v":0}]
[null,"Каратэ","72",0,0,0,0,0,0,null,null,null,null,null,null,null,null,null,null,null,null,null,null,null,null,null,null,null,null,null,null,null,null,null,null,null,null,null,null,null,null,null,null,null,null,null,null,null,null,null,null,null,null,null,null,null,null,null,null,null,null,{"$f":"Раздел2!D80","v":0}]
[null,"Кендо","73",0,0,0,0,0,0,null,null,null,null,null,null,null,null,null,null,null,null,null,null,null,null,null,null,null,null,null,null,null,null,null,null,null,null,null,null,null,null,null,null,null,null,null,null,null,null,null,null,null,null,null,null,null,null,null,null,null,null,{"$f":"Раздел2!D81","v":0}]
[null,"Керешу","74",0,0,0,0,0,0,null,null,null,null,null,null,null,null,null,null,null,null,null,null,null,null,null,null,null,null,null,null,null,null,null,null,null,null,null,null,null,null,null,null,null,null,null,null,null,null,null,null,null,null,null,null,null,null,null,null,null,null,{"$f":"Раздел2!D82","v":0}]
[null,"Кёрлинг - всего","75",0,0,0,0,0,0,{"$f":"SUM(J83:J85)","v":0},{"$f":"SUM(K83:K85)","v":0},0,0,0,0,0,0,0,0,0,0,0,0,0,0,0,0,0,0,0,0,0,0,0,0,0,0,0,0,0,0,0,0,0,0,0,0,0,0,0,0,0,0,0,0,0,0,0,0,null,null,{"$f":"Раздел2!D83","v":0}]
[null,"в том числе:\nКерлинг (муж.)","76",0,0,0,0,0,0,null,null,null,null,null,null,null,null,null,null,null,null,null,null,null,null,null,null,null,null,null,null,null,null,null,null,null,null,null,null,null,null,null,null,null,null,null,null,null,null,null,null,null,null,null,null,null,null,null,null,null,null,{"$f":"Раздел2!D84","v":0}]
[null,"Керлинг (жен.)","77",0,0,0,0,0,0,null,null,null,null,null,null,null,null,null,null,null,null,null,null,null,null,null,null,null,null,null,null,null,null,null,null,null,null,null,null,null,null,null,null,null,null,null,null,null,null,null,null,null,null,null,null,null,null,null,null,null,null,{"$f":"Раздел2!D85","v":0}]
[null,"Кёрлинг – смешанные пары","78",0,0,0,0,0,0,null,null,null,null,null,null,null,null,null,null,null,null,null,null,null,null,null,null,null,null,null,null,null,null,null,null,null,null,null,null,null,null,null,null,null,null,null,null,null,null,null,null,null,null,null,null,null,null,null,null,null,null,{"$f":"Раздел2!D86","v":0}]
[null,"Кикбоксинг","79",0,0,0,0,0,0,null,null,null,null,null,null,null,null,null,null,null,null,null,null,null,null,null,null,null,null,null,null,null,null,null,null,null,null,null,null,null,null,null,null,null,null,null,null,null,null,null,null,null,null,null,null,null,null,null,null,null,null,{"$f":"Раздел2!D87","v":0}]
[null,"Кинологический спорт","80",0,0,0,0,0,0,null,null,null,null,null,null,null,null,null,null,null,null,null,null,null,null,null,null,null,null,null,null,null,null,null,null,null,null,null,null,null,null,null,null,null,null,null,null,null,null,null,null,null,null,null,null,null,null,null,null,null,null,{"$f":"Раздел2!D88","v":0}]
[null,"Киокусинкай","81",0,0,0,0,0,0,null,null,null,null,null,null,null,null,null,null,null,null,null,null,null,null,null,null,null,null,null,null,null,null,null,null,null,null,null,null,null,null,null,null,null,null,null,null,null,null,null,null,null,null,null,null,null,null,null,null,null,null,{"$f":"Раздел2!D89","v":1}]
[null,"Комплексное единоборство","82",0,0,0,0,0,0,null,null,null,null,null,null,null,null,null,null,null,null,null,null,null,null,null,null,null,null,null,null,null,null,null,null,null,null,null,null,null,null,null,null,null,null,null,null,null,null,null,null,null,null,null,null,null,null,null,null,null,null,{"$f":"Раздел2!D90","v":0}]
[null,"Компьютерный спорт","83",0,0,0,0,0,0,null,null,null,null,null,null,null,null,null,null,null,null,null,null,null,null,null,null,null,null,null,null,null,null,null,null,null,null,null,null,null,null,null,null,null,null,null,null,null,null,null,null,null,null,null,null,null,null,null,null,null,null,{"$f":"Раздел2!D91","v":0}]
[null,"Конный спорт","84",0,0,0,0,0,0,null,null,null,null,null,null,null,null,null,null,null,null,null,null,null,null,null,null,null,null,null,null,null,null,null,null,null,null,null,null,null,null,null,null,null,null,null,null,null,null,null,null,null,null,null,null,null,null,null,null,null,null,{"$f":"Раздел2!D92","v":0}]
[null,"Конькобежный спорт - всего","85",0,0,0,0,0,0,{"$f":"SUM(J93:J94)","v":0},{"$f":"SUM(K93:K94)","v":0},0,0,0,0,0,0,0,0,0,0,0,0,0,0,0,0,0,0,0,0,0,0,0,0,0,0,0,0,0,0,0,0,0,0,0,0,0,0,0,0,0,0,0,0,0,0,0,0,null,null,{"$f":"Раздел2!D93","v":0}]
[null,"в том числе:\nКонькобежный спорт","86",0,0,0,0,0,0,null,null,null,null,null,null,null,null,null,null,null,null,null,null,null,null,null,null,null,null,null,null,null,null,null,null,null,null,null,null,null,null,null,null,null,null,null,null,null,null,null,null,null,null,null,null,null,null,null,null,null,null,{"$f":"Раздел2!D94","v":0}]
[null,"Шорт-трек","87",0,0,0,0,0,0,null,null,null,null,null,null,null,null,null,null,null,null,null,null,null,null,null,null,null,null,null,null,null,null,null,null,null,null,null,null,null,null,null,null,null,null,null,null,null,null,null,null,null,null,null,null,null,null,null,null,null,null,{"$f":"Раздел2!D95","v":0}]
[null,"Корэш","88",0,0,0,0,0,0,null,null,null,null,null,null,null,null,null,null,null,null,null,null,null,null,null,null,null,null,null,null,null,null,null,null,null,null,null,null,null,null,null,null,null,null,null,null,null,null,null,null,null,null,null,null,null,null,null,null,null,null,{"$f":"Раздел2!D96","v":0}]
[null,"Корфбол","89",0,0,0,0,0,0,null,null,null,null,null,null,null,null,null,null,null,null,null,null,null,null,null,null,null,null,null,null,null,null,null,null,null,null,null,null,null,null,null,null,null,null,null,null,null,null,null,null,null,null,null,null,null,null,null,null,null,null,{"$f":"Раздел2!D97","v":0}]
[null,"Кудо","90",0,0,0,0,0,0,null,null,null,null,null,null,null,null,null,null,null,null,null,null,null,null,null,null,null,null,null,null,null,null,null,null,null,null,null,null,null,null,null,null,null,null,null,null,null,null,null,null,null,null,null,null,null,null,null,null,null,null,{"$f":"Раздел2!D98","v":0}]
[null,"Лапта","91",0,0,0,0,0,0,null,null,null,null,null,null,null,null,null,null,null,null,null,null,null,null,null,null,null,null,null,null,null,null,null,null,null,null,null,null,null,null,null,null,null,null,null,null,null,null,null,null,null,null,null,null,null,null,null,null,null,null,{"$f":"Раздел2!D99","v":1}]
[null,"Легкая атлетика - всего","92",0,0,0,0,0,0,{"$f":"SUM(J100:J106)","v":0},{"$f":"SUM(K100:K106)","v":0},0,0,0,0,0,0,0,0,0,0,0,0,0,0,0,0,0,0,0,0,0,0,0,0,0,0,0,0,0,0,0,0,0,0,0,0,0,0,0,0,0,0,0,0,0,0,0,0,null,null,{"$f":"Раздел2!D100","v":0}]
[null,"в том числе:\nСпринтерский и барьерный бег","93",0,0,0,0,0,0,null,null,null,null,null,null,null,null,null,null,null,null,null,null,null,null,null,null,null,null,null,null,null,null,null,null,null,null,null,null,null,null,null,null,null,null,null,null,null,null,null,null,null,null,null,null,null,null,null,null,null,null,{"$f":"Раздел2!D101","v":0}]
[null,"Бег на средние дистанции и бег с препятствиями","94",0,0,0,0,0,0,null,null,null,null,null,null,null,null,null,null,null,null,null,null,null,null,null,null,null,null,null,null,null,null,null,null,null,null,null,null,null,null,null,null,null,null,null,null,null,null,null,null,null,null,null,null,null,null,null,null,null,null,{"$f":"Раздел2!D102","v":0}]
[null,"Бег на длинные и сверхдлинные дистанции","95",0,0,0,0,0,0,null,null,null,null,null,null,null,null,null,null,null,null,null,null,null,null,null,null,null,null,null,null,null,null,null,null,null,null,null,null,null,null,null,null,null,null,null,null,null,null,null,null,null,null,null,null,null,null,null,null,null,null,{"$f":"Раздел2!D103","v":0}]
[null,"Многоборья","96",0,0,0,0,0,0,null,null,null,null,null,null,null,null,null,null,null,null,null,null,null,null,null,null,null,null,null,null,null,null,null,null,null,null,null,null,null,null,null,null,null,null,null,null,null,null,null,null,null,null,null,null,null,null,null,null,null,null,{"$f":"Раздел2!D104","v":0}]
[null,"Прыжки","97",0,0,0,0,0,0,null,null,null,null,null,null,null,null,null,null,null,null,null,null,null,null,null,null,null,null,null,null,null,null,null,null,null,null,null,null,null,null,null,null,null,null,null,null,null,null,null,null,null,null,null,null,null,null,null,null,null,null,{"$f":"Раздел2!D105","v":0}]
[null,"Метания","98",0,0,0,0,0,0,null,null,null,null,null,null,null,null,null,null,null,null,null,null,null,null,null,null,null,null,null,null,null,null,null,null,null,null,null,null,null,null,null,null,null,null,null,null,null,null,null,null,null,null,null,null,null,null,null,null,null,null,{"$f":"Раздел2!D106","v":0}]
[null,"Спортивная ходьба","99",0,0,0,0,0,0,null,null,null,null,null,null,null,null,null,null,null,null,null,null,null,null,null,null,null,null,null,null,null,null,null,null,null,null,null,null,null,null,null,null,null,null,null,null,null,null,null,null,null,null,null,null,null,null,null,null,null,null,{"$f":"Раздел2!D107","v":0}]
[null,"Лыжное двоеборье","100",0,0,0,0,0,0,null,null,null,null,null,null,null,null,null,null,null,null,null,null,null,null,null,null,null,null,null,null,null,null,null,null,null,null,null,null,null,null,null,null,null,null,null,null,null,null,null,null,null,null,null,null,null,null,null,null,null,null,{"$f":"Раздел2!D108","v":0}]
[null,"Лыжные гонки","101",0,0,0,0,0,0,null,null,null,null,null,null,null,null,null,null,null,null,null,null,null,null,null,null,null,null,null,null,null,null,null,null,null,null,null,null,null,null,null,null,null,null,null,null,null,null,null,null,null,null,null,null,null,null,null,null,null,null,{"$f":"Раздел2!D109","v":0}]
[null,"Мас-рестлинг","102",0,0,0,0,0,0,null,null,null,null,null,null,null,null,null,null,null,null,null,null,null,null,null,null,null,null,null,null,null,null,null,null,null,null,null,null,null,null,null,null,null,null,null,null,null,null,null,null,null,null,null,null,null,null,null,null,null,null,{"$f":"Раздел2!D110","v":0}]
[null,"Международное военно-спортивное многоборье","103",0,0,0,0,0,0,null,null,null,null,null,null,null,null,null,null,null,null,null,null,null,null,null,null,null,null,null,null,null,null,null,null,null,null,null,null,null,null,null,null,null,null,null,null,null,null,null,null,null,null,null,null,null,null,null,null,null,null,{"$f":"Раздел2!D111","v":0}]
[null,"Многоборье кинологов","104",0,0,0,0,0,0,null,null,null,null,null,null,null,null,null,null,null,null,null,null,null,null,null,null,null,null,null,null,null,null,null,null,null,null,null,null,null,null,null,null,null,null,null,null,null,null,null,null,null,null,null,null,null,null,null,null,null,null,{"$f":"Раздел2!D112","v":0}]
[null,"Многоборье спасателей МЧС России","105",0,0,0,0,0,0,null,null,null,null,null,null,null,null,null,null,null,null,null,null,null,null,null,null,null,null,null,null,null,null,null,null,null,null,null,null,null,null,null,null,null,null,null,null,null,null,null,null,null,null,null,null,null,null,null,null,null,null,{"$f":"Раздел2!D113","v":0}]
[null,"Морское многоборье","106",0,0,0,0,0,0,null,null,null,null,null,null,null,null,null,null,null,null,null,null,null,null,null,null,null,null,null,null,null,null,null,null,null,null,null,null,null,null,null,null,null,null,null,null,null,null,null,null,null,null,null,null,null,null,null,null,null,null,{"$f":"Раздел2!D114","v":0}]
[null,"Мотоциклетный спорт","107",0,0,0,0,0,0,null,null,null,null,null,null,null,null,null,null,null,null,null,null,null,null,null,null,null,null,null,null,null,null,null,null,null,null,null,null,null,null,null,null,null,null,null,null,null,null,null,null,null,null,null,null,null,null,null,null,null,null,{"$f":"Раздел2!D115","v":0}]
[null,"Настольный теннис","108",0,0,0,0,0,0,null,null,null,null,null,null,null,null,null,null,null,null,null,null,null,null,null,null,null,null,null,null,null,null,null,null,null,null,null,null,null,null,null,null,null,null,null,null,null,null,null,null,null,null,null,null,null,null,null,null,null,null,{"$f":"Раздел2!D116","v":1}]
[null,"Парашютный спорт","109",0,0,0,0,0,0,null,null,null,null,null,null,null,null,null,null,null,null,null,null,null,null,null,null,null,null,null,null,null,null,null,null,null,null,null,null,null,null,null,null,null,null,null,null,null,null,null,null,null,null,null,null,null,null,null,null,null,null,{"$f":"Раздел2!D117","v":0}]
[null,"Парусный спорт","110",0,0,0,0,0,0,null,null,null,null,null,null,null,null,null,null,null,null,null,null,null,null,null,null,null,null,null,null,null,null,null,null,null,null,null,null,null,null,null,null,null,null,null,null,null,null,null,null,null,null,null,null,null,null,null,null,null,null,{"$f":"Раздел2!D118","v":0}]
[null,"Пауэрлифтинг","111",0,0,0,0,0,0,null,null,null,null,null,null,null,null,null,null,null,null,null,null,null,null,null,null,null,null,null,null,null,null,null,null,null,null,null,null,null,null,null,null,null,null,null,null,null,null,null,null,null,null,null,null,null,null,null,null,null,null,{"$f":"Раздел2!D119","v":0}]
[null,"Перетягивание каната","112",0,0,0,0,0,0,null,null,null,null,null,null,null,null,null,null,null,null,null,null,null,null,null,null,null,null,null,null,null,null,null,null,null,null,null,null,null,null,null,null,null,null,null,null,null,null,null,null,null,null,null,null,null,null,null,null,null,null,{"$f":"Раздел2!D120","v":0}]
[null,"Петанк","113",0,0,0,0,0,0,null,null,null,null,null,null,null,null,null,null,null,null,null,null,null,null,null,null,null,null,null,null,null,null,null,null,null,null,null,null,null,null,null,null,null,null,null,null,null,null,null,null,null,null,null,null,null,null,null,null,null,null,{"$f":"Раздел2!D121","v":0}]
[null,"Плавание - всего","114",0,0,0,0,0,0,{"$f":"SUM(J122:J123)","v":0},{"$f":"SUM(K122:K123)","v":0},0,0,0,0,0,0,0,0,0,0,0,0,0,0,0,0,0,0,0,0,0,0,0,0,0,0,0,0,0,0,0,0,0,0,0,0,0,0,0,0,0,0,0,0,0,0,0,0,null,null,{"$f":"Раздел2!D122","v":0}]
[null,"в том числе:\nПлавание ","115",0,0,0,0,0,0,null,null,null,null,null,null,null,null,null,null,null,null,null,null,null,null,null,null,null,null,null,null,null,null,null,null,null,null,null,null,null,null,null,null,null,null,null,null,null,null,null,null,null,null,null,null,null,null,null,null,null,null,{"$f":"Раздел2!D123","v":0}]
[null,"Открытая вода","116",0,0,0,0,0,0,null,null,null,null,null,null,null,null,null,null,null,null,null,null,null,null,null,null,null,null,null,null,null,null,null,null,null,null,null,null,null,null,null,null,null,null,null,null,null,null,null,null,null,null,null,null,null,null,null,null,null,null,{"$f":"Раздел2!D124","v":0}]
[null,"Планерный спорт","117",0,0,0,0,0,0,null,null,null,null,null,null,null,null,null,null,null,null,null,null,null,null,null,null,null,null,null,null,null,null,null,null,null,null,null,null,null,null,null,null,null,null,null,null,null,null,null,null,null,null,null,null,null,null,null,null,null,null,{"$f":"Раздел2!D125","v":0}]
[null,"Подводный спорт","118",0,0,0,0,0,0,null,null,null,null,null,null,null,null,null,null,null,null,null,null,null,null,null,null,null,null,null,null,null,null,null,null,null,null,null,null,null,null,null,null,null,null,null,null,null,null,null,null,null,null,null,null,null,null,null,null,null,null,{"$f":"Раздел2!D126","v":0}]
[null,"Пожарно-спасательный спорт","119",0,0,0,0,0,0,null,null,null,null,null,null,null,null,null,null,null,null,null,null,null,null,null,null,null,null,null,null,null,null,null,null,null,null,null,null,null,null,null,null,null,null,null,null,null,null,null,null,null,null,null,null,null,null,null,null,null,null,{"$f":"Раздел2!D127","v":0}]
[null,"Полиатлон","120",0,0,0,0,0,0,null,null,null,null,null,null,null,null,null,null,null,null,null,null,null,null,null,null,null,null,null,null,null,null,null,null,null,null,null,null,null,null,null,null,null,null,null,null,null,null,null,null,null,null,null,null,null,null,null,null,null,null,{"$f":"Раздел2!D128","v":0}]
[null,"Практическая стрельба","121",0,0,0,0,0,0,null,null,null,null,null,null,null,null,null,null,null,null,null,null,null,null,null,null,null,null,null,null,null,null,null,null,null,null,null,null,null,null,null,null,null,null,null,null,null,null,null,null,null,null,null,null,null,null,null,null,null,null,{"$f":"Раздел2!D129","v":0}]
[null,"Прыжки в воду - всего","122",0,0,0,0,0,0,{"$f":"SUM(J130:J131)","v":0},{"$f":"SUM(K130:K131)","v":0},0,0,0,0,0,0,0,0,0,0,0,0,0,0,0,0,0,0,0,0,0,0,0,0,0,0,0,0,0,0,0,0,0,0,0,0,0,0,0,0,0,0,0,0,0,0,0,{"$f":"SUM(BG130:BG131)","v":0},null,null,{"$f":"Раздел2!D130","v":0}]
[null,"в том числе:\nПрыжки в воду","123",0,0,0,0,0,0,null,null,null,null,null,null,null,null,null,null,null,null,null,null,null,null,null,null,null,null,null,null,null,null,null,null,null,null,null,null,null,null,null,null,null,null,null,null,null,null,null,null,null,null,null,null,null,null,null,null,null,null,{"$f":"Раздел2!D131","v":0}]
[null,"Прыжки в открытый водоем","124",0,0,0,0,0,0,null,null,null,null,null,null,null,null,null,null,null,null,null,null,null,null,null,null,null,null,null,null,null,null,null,null,null,null,null,null,null,null,null,null,null,null,null,null,null,null,null,null,null,null,null,null,null,null,null,null,null,null,{"$f":"Раздел2!D132","v":0}]
[null,"Прыжки на батуте - всего","125",0,0,0,0,0,0,{"$f":"SUM(J133:J136)","v":0},{"$f":"SUM(K133:K136)","v":0},0,0,0,0,0,0,0,0,0,0,0,0,0,0,0,0,0,0,0,0,0,0,0,0,0,0,0,0,0,0,0,0,0,0,0,0,0,0,0,0,0,0,0,0,0,0,0,0,null,null,{"$f":"Раздел2!D133","v":0}]
[null,"в том числе:\nАкробатическая дорожка","126",0,0,0,0,0,0,null,null,null,null,null,null,null,null,null,null,null,null,null,null,null,null,null,null,null,null,null,null,null,null,null,null,null,null,null,null,null,null,null,null,null,null,null,null,null,null,null,null,null,null,null,null,null,null,null,null,null,null,{"$f":"Раздел2!D134","v":0}]
[null,"Двойной минитрамп","127",0,0,0,0,0,0,null,null,null,null,null,null,null,null,null,null,null,null,null,null,null,null,null,null,null,null,null,null,null,null,null,null,null,null,null,null,null,null,null,null,null,null,null,null,null,null,null,null,null,null,null,null,null,null,null,null,null,null,{"$f":"Раздел2!D135","v":0}]
[null,"Индивидуальные прыжки","128",0,0,0,0,0,0,null,null,null,null,null,null,null,null,null,null,null,null,null,null,null,null,null,null,null,null,null,null,null,null,null,null,null,null,null,null,null,null,null,null,null,null,null,null,null,null,null,null,null,null,null,null,null,null,null,null,null,null,{"$f":"Раздел2!D136","v":0}]
[null,"Синхронные прыжки","129",0,0,0,0,0,0,null,null,null,null,null,null,null,null,null,null,null,null,null,null,null,null,null,null,null,null,null,null,null,null,null,null,null,null,null,null,null,null,null,null,null,null,null,null,null,null,null,null,null,null,null,null,null,null,null,null,null,null,{"$f":"Раздел2!D137","v":0}]
[null,"Прыжки на лыжах с трамплина","130",{"$f":"SUM(E137:G137)","v":0},{"$f":"SUM(J137,O137,T137,Y137,AD137,AI137,AN137,AS137,AX137,BC137)","v":0},{"$f":"SUM(K137,P137,U137,Z137,AE137,AJ137,AO137,AT137,AY137,BD137)","v":0},0,0,{"$f":"SUM(N137,S137,X137,AC137,AH137,AM137,AR137,AW137,BB137,BG137)","v":0},null,null,null,null,null,null,null,null,null,null,null,null,null,null,null,null,null,null,null,null,null,null,null,null,null,null,null,null,null,null,null,null,null,null,null,null,null,null,null,null,null,null,null,null,null,null,null,null,null,null,null,null,{"$f":"Раздел2!D138","v":0}]
[null,"Пулевая стрельба - всего","131",0,0,0,0,0,0,{"$f":"SUM(J139:J143)","v":0},{"$f":"SUM(K139:K143)","v":0},0,0,0,0,0,0,0,0,0,0,0,0,0,0,0,0,0,0,0,0,0,0,0,0,0,0,0,0,0,0,0,0,0,0,0,0,0,0,0,0,0,0,0,0,0,0,0,0,null,null,{"$f":"Раздел2!D139","v":0}]
[null,"в том числе:\nПневматическая винтовка","132",0,0,0,0,0,0,null,null,null,null,null,null,null,null,null,null,null,null,null,null,null,null,null,null,null,null,null,null,null,null,null,null,null,null,null,null,null,null,null,null,null,null,null,null,null,null,null,null,null,null,null,null,null,null,null,null,null,null,{"$f":"Раздел2!D140","v":0}]
[null,"Пневматический пистолет","133",0,0,0,0,0,0,null,null,null,null,null,null,null,null,null,null,null,null,null,null,null,null,null,null,null,null,null,null,null,null,null,null,null,null,null,null,null,null,null,null,null,null,null,null,null,null,null,null,null,null,null,null,null,null,null,null,null,null,{"$f":"Раздел2!D141","v":0}]
[null,"Малокалиберная винтовка","134",0,0,0,0,0,0,null,null,null,null,null,null,null,null,null,null,null,null,null,null,null,null,null,null,null,null,null,null,null,null,null,null,null,null,null,null,null,null,null,null,null,null,null,null,null,null,null,null,null,null,null,null,null,null,null,null,null,null,{"$f":"Раздел2!D142","v":0}]
[null,"Малокалиберный пистолет","135",0,0,0,0,0,0,null,null,null,null,null,null,null,null,null,null,null,null,null,null,null,null,null,null,null,null,null,null,null,null,null,null,null,null,null,null,null,null,null,null,null,null,null,null,null,null,null,null,null,null,null,null,null,null,null,null,null,null,{"$f":"Раздел2!D143","v":0}]
[null,"Движущаяся мишень","136",0,0,0,0,0,0,null,null,null,null,null,null,null,null,null,null,null,null,null,null,null,null,null,null,null,null,null,null,null,null,null,null,null,null,null,null,null,null,null,null,null,null,null,null,null,null,null,null,null,null,null,null,null,null,null,null,null,null,{"$f":"Раздел2!D144","v":0}]
[null,"Пэйнтбол","137",0,0,0,0,0,0,null,null,null,null,null,null,null,null,null,null,null,null,null,null,null,null,null,null,null,null,null,null,null,null,null,null,null,null,null,null,null,null,null,null,null,null,null,null,null,null,null,null,null,null,null,null,null,null,null,null,null,null,{"$f":"Раздел2!D145","v":0}]
[null,"Радиоспорт","138",0,0,0,0,0,0,null,null,null,null,null,null,null,null,null,null,null,null,null,null,null,null,null,null,null,null,null,null,null,null,null,null,null,null,null,null,null,null,null,null,null,null,null,null,null,null,null,null,null,null,null,null,null,null,null,null,null,null,{"$f":"Раздел2!D146","v":0}]
[null,"Рафтинг","139",0,0,0,0,0,0,null,null,null,null,null,null,null,null,null,null,null,null,null,null,null,null,null,null,null,null,null,null,null,null,null,null,null,null,null,null,null,null,null,null,null,null,null,null,null,null,null,null,null,null,null,null,null,null,null,null,null,null,{"$f":"Раздел2!D147","v":0}]
[null,"Регби - всего","140",0,0,0,0,0,0,{"$f":"SUM(J148:J151)","v":0},{"$f":"SUM(K148:K151)","v":0},0,0,0,0,0,0,0,0,0,0,0,0,0,0,0,0,0,0,0,0,0,0,0,0,0,0,0,0,0,0,0,0,0,0,0,0,0,0,0,0,0,0,0,0,0,0,0,0,null,null,{"$f":"Раздел2!D148","v":0}]
[null,"в том числе:\nРегби","141",0,0,0,0,0,0,null,null,null,null,null,null,null,null,null,null,null,null,null,null,null,null,null,null,null,null,null,null,null,null,null,null,null,null,null,null,null,null,null,null,null,null,null,null,null,null,null,null,null,null,null,null,null,null,null,null,null,null,{"$f":"Раздел2!D149","v":0}]
[null,"Регби 7 (муж.)","142",0,0,0,0,0,0,null,null,null,null,null,null,null,null,null,null,null,null,null,null,null,null,null,null,null,null,null,null,null,null,null,null,null,null,null,null,null,null,null,null,null,null,null,null,null,null,null,null,null,null,null,null,null,null,null,null,null,null,{"$f":"Раздел2!D150","v":0}]
[null,"Регби 7 (жен.)","143",0,0,0,0,0,0,null,null,null,null,null,null,null,null,null,null,null,null,null,null,null,null,null,null,null,null,null,null,null,null,null,null,null,null,null,null,null,null,null,null,null,null,null,null,null,null,null,null,null,null,null,null,null,null,null,null,null,null,{"$f":"Раздел2!D151","v":0}]
[null,"Регби - пляжное","144",0,0,0,0,0,0,null,null,null,null,null,null,null,null,null,null,null,null,null,null,null,null,null,null,null,null,null,null,null,null,null,null,null,null,null,null,null,null,null,null,null,null,null,null,null,null,null,null,null,null,null,null,null,null,null,null,null,null,{"$f":"Раздел2!D152","v":0}]
[null,"Регбол","145",0,0,0,0,0,0,null,null,null,null,null,null,null,null,null,null,null,null,null,null,null,null,null,null,null,null,null,null,null,null,null,null,null,null,null,null,null,null,null,null,null,null,null,null,null,null,null,null,null,null,null,null,null,null,null,null,null,null,{"$f":"Раздел2!D153","v":0}]
[null,"Роллер спорт","146",0,0,0,0,0,0,null,null,null,null,null,null,null,null,null,null,null,null,null,null,null,null,null,null,null,null,null,null,null,null,null,null,null,null,null,null,null,null,null,null,null,null,null,null,null,null,null,null,null,null,null,null,null,null,null,null,null,null,{"$f":"Раздел2!D154","v":0}]
[null,"Рукопашный бой","147",0,0,0,0,0,0,null,null,null,null,null,null,null,null,null,null,null,null,null,null,null,null,null,null,null,null,null,null,null,null,null,null,null,null,null,null,null,null,null,null,null,null,null,null,null,null,null,null,null,null,null,null,null,null,null,null,null,null,{"$f":"Раздел2!D155","v":0}]
[null,"Рыболовный спорт","148",0,0,0,0,0,0,null,null,null,null,null,null,null,null,null,null,null,null,null,null,null,null,null,null,null,null,null,null,null,null,null,null,null,null,null,null,null,null,null,null,null,null,null,null,null,null,null,null,null,null,null,null,null,null,null,null,null,null,{"$f":"Раздел2!D156","v":0}]
[null,"Сават","149",0,0,0,0,0,0,null,null,null,null,null,null,null,null,null,null,null,null,null,null,null,null,null,null,null,null,null,null,null,null,null,null,null,null,null,null,null,null,null,null,null,null,null,null,null,null,null,null,null,null,null,null,null,null,null,null,null,null,{"$f":"Раздел2!D157","v":0}]
[null,"Самбо","150",0,0,0,0,0,0,null,null,null,null,null,null,null,null,null,null,null,null,null,null,null,null,null,null,null,null,null,null,null,null,null,null,null,null,null,null,null,null,null,null,null,null,null,null,null,null,null,null,null,null,null,null,null,null,null,null,null,null,{"$f":"Раздел2!D158","v":0}]
[null,"Самолетный спорт","151",0,0,0,0,0,0,null,null,null,null,null,null,null,null,null,null,null,null,null,null,null,null,null,null,null,null,null,null,null,null,null,null,null,null,null,null,null,null,null,null,null,null,null,null,null,null,null,null,null,null,null,null,null,null,null,null,null,null,{"$f":"Раздел2!D159","v":0}]
[null,"Санный спорт","152",0,0,0,0,0,0,null,null,null,null,null,null,null,null,null,null,null,null,null,null,null,null,null,null,null,null,null,null,null,null,null,null,null,null,null,null,null,null,null,null,null,null,null,null,null,null,null,null,null,null,null,null,null,null,null,null,null,null,{"$f":"Раздел2!D160","v":0}]
[null,"Северное многоборье","153",0,0,0,0,0,0,null,null,null,null,null,null,null,null,null,null,null,null,null,null,null,null,null,null,null,null,null,null,null,null,null,null,null,null,null,null,null,null,null,null,null,null,null,null,null,null,null,null,null,null,null,null,null,null,null,null,null,null,{"$f":"Раздел2!D161","v":0}]
[null,"Серфинг","154",0,0,0,0,0,0,null,null,null,null,null,null,null,null,null,null,null,null,null,null,null,null,null,null,null,null,null,null,null,null,null,null,null,null,null,null,null,null,null,null,null,null,null,null,null,null,null,null,null,null,null,null,null,null,null,null,null,null,{"$f":"Раздел2!D162","v":0}]
[null,"Синхронное плавание","155",0,0,0,0,0,0,null,null,null,null,null,null,null,null,null,null,null,null,null,null,null,null,null,null,null,null,null,null,null,null,null,null,null,null,null,null,null,null,null,null,null,null,null,null,null,null,null,null,null,null,null,null,null,null,null,null,null,null,{"$f":"Раздел2!D163","v":0}]
[null,"Скалолазание","156",0,0,0,0,0,0,null,null,null,null,null,null,null,null,null,null,null,null,null,null,null,null,null,null,null,null,null,null,null,null,null,null,null,null,null,null,null,null,null,null,null,null,null,null,null,null,null,null,null,null,null,null,null,null,null,null,null,null,{"$f":"Раздел2!D164","v":0}]
[null,"Сквош","157",0,0,0,0,0,0,null,null,null,null,null,null,null,null,null,null,null,null,null,null,null,null,null,null,null,null,null,null,null,null,null,null,null,null,null,null,null,null,null,null,null,null,null,null,null,null,null,null,null,null,null,null,null,null,null,null,null,null,{"$f":"Раздел2!D165","v":0}]
[null,"Скейтбординг","158",0,0,0,0,0,0,null,null,null,null,null,null,null,null,null,null,null,null,null,null,null,null,null,null,null,null,null,null,null,null,null,null,null,null,null,null,null,null,null,null,null,null,null,null,null,null,null,null,null,null,null,null,null,null,null,null,null,null,{"$f":"Раздел2!D166","v":0}]
[null,"Служебно-боевая стрельба ","159",0,0,0,0,0,0,null,null,null,null,null,null,null,null,null,null,null,null,null,null,null,null,null,null,null,null,null,null,null,null,null,null,null,null,null,null,null,null,null,null,null,null,null,null,null,null,null,null,null,null,null,null,null,null,null,null,null,null,{"$f":"Раздел2!D167","v":0}]
[null,"Служебно-прикладной спорт","160",0,0,0,0,0,0,null,null,null,null,null,null,null,null,null,null,null,null,null,null,null,null,null,null,null,null,null,null,null,null,null,null,null,null,null,null,null,null,null,null,null,null,null,null,null,null,null,null,null,null,null,null,null,null,null,null,null,null,{"$f":"Раздел2!D168","v":0}]
[null,"Служебно-прикладной спорт ФСО России","161",0,0,0,0,0,0,null,null,null,null,null,null,null,null,null,null,null,null,null,null,null,null,null,null,null,null,null,null,null,null,null,null,null,null,null,null,null,null,null,null,null,null,null,null,null,null,null,null,null,null,null,null,null,null,null,null,null,null,{"$f":"Раздел2!D169","v":0}]
[null,"Служебно-прикладной спорт ФТС России","162",0,0,0,0,0,0,null,null,null,null,null,null,null,null,null,null,null,null,null,null,null,null,null,null,null,null,null,null,null,null,null,null,null,null,null,null,null,null,null,null,null,null,null,null,null,null,null,null,null,null,null,null,null,null,null,null,null,null,{"$f":"Раздел2!D170","v":0}]
[null,"Служебное двоеборье","163",0,0,0,0,0,0,null,null,null,null,null,null,null,null,null,null,null,null,null,null,null,null,null,null,null,null,null,null,null,null,null,null,null,null,null,null,null,null,null,null,null,null,null,null,null,null,null,null,null,null,null,null,null,null,null,null,null,null,{"$f":"Раздел2!D171","v":0}]
[null,"Служебное единоборство","164",0,0,0,0,0,0,null,null,null,null,null,null,null,null,null,null,null,null,null,null,null,null,null,null,null,null,null,null,null,null,null,null,null,null,null,null,null,null,null,null,null,null,null,null,null,null,null,null,null,null,null,null,null,null,null,null,null,null,{"$f":"Раздел2!D172","v":0}]
[null,"Служебное многоборье","165",0,0,0,0,0,0,null,null,null,null,null,null,null,null,null,null,null,null,null,null,null,null,null,null,null,null,null,null,null,null,null,null,null,null,null,null,null,null,null,null,null,null,null,null,null,null,null,null,null,null,null,null,null,null,null,null,null,null,{"$f":"Раздел2!D173","v":0}]
[null,"Служебный биатлон","166",0,0,0,0,0,0,null,null,null,null,null,null,null,null,null,null,null,null,null,null,null,null,null,null,null,null,null,null,null,null,null,null,null,null,null,null,null,null,null,null,null,null,null,null,null,null,null,null,null,null,null,null,null,null,null,null,null,null,{"$f":"Раздел2!D174","v":0}]
[null,"Спасательный спорт","167",0,0,0,0,0,0,null,null,null,null,null,null,null,null,null,null,null,null,null,null,null,null,null,null,null,null,null,null,null,null,null,null,null,null,null,null,null,null,null,null,null,null,null,null,null,null,null,null,null,null,null,null,null,null,null,null,null,null,{"$f":"Раздел2!D175","v":0}]
[null,"Стрельба из боевого ручного стрелкового оружия","168",0,0,0,0,0,0,null,null,null,null,null,null,null,null,null,null,null,null,null,null,null,null,null,null,null,null,null,null,null,null,null,null,null,null,null,null,null,null,null,null,null,null,null,null,null,null,null,null,null,null,null,null,null,null,null,null,null,null,{"$f":"Раздел2!D176","v":0}]
[null,"Стрельба из штатного или табельного оружия","169",0,0,0,0,0,0,null,null,null,null,null,null,null,null,null,null,null,null,null,null,null,null,null,null,null,null,null,null,null,null,null,null,null,null,null,null,null,null,null,null,null,null,null,null,null,null,null,null,null,null,null,null,null,null,null,null,null,null,{"$f":"Раздел2!D177","v":0}]
[null,"Смешанное боевое единоборство (ММА)","170",0,0,0,0,0,0,null,null,null,null,null,null,null,null,null,null,null,null,null,null,null,null,null,null,null,null,null,null,null,null,null,null,null,null,null,null,null,null,null,null,null,null,null,null,null,null,null,null,null,null,null,null,null,null,null,null,null,null,{"$f":"Раздел2!D178","v":0}]
[null,"Сноуборд","171",0,0,0,0,0,0,null,null,null,null,null,null,null,null,null,null,null,null,null,null,null,null,null,null,null,null,null,null,null,null,null,null,null,null,null,null,null,null,null,null,null,null,null,null,null,null,null,null,null,null,null,null,null,null,null,null,null,null,{"$f":"Раздел2!D179","v":0}]
[null,"Современное пятиборье","172",0,0,0,0,0,0,null,null,null,null,null,null,null,null,null,null,null,null,null,null,null,null,null,null,null,null,null,null,null,null,null,null,null,null,null,null,null,null,null,null,null,null,null,null,null,null,null,null,null,null,null,null,null,null,null,null,null,null,{"$f":"Раздел2!D180","v":0}]
[null,"Софтбол","173",0,0,0,0,0,0,null,null,null,null,null,null,null,null,null,null,null,null,null,null,null,null,null,null,null,null,null,null,null,null,null,null,null,null,null,null,null,null,null,null,null,null,null,null,null,null,null,null,null,null,null,null,null,null,null,null,null,null,{"$f":"Раздел2!D181","v":0}]
[null,"Спорт сверхлегкой авиации","174",0,0,0,0,0,0,null,null,null,null,null,null,null,null,null,null,null,null,null,null,null,null,null,null,null,null,null,null,null,null,null,null,null,null,null,null,null,null,null,null,null,null,null,null,null,null,null,null,null,null,null,null,null,null,null,null,null,null,{"$f":"Раздел2!D182","v":0}]
[null,"Спортивная акробатика","175",0,0,0,0,0,0,null,null,null,null,null,null,null,null,null,null,null,null,null,null,null,null,null,null,null,null,null,null,null,null,null,null,null,null,null,null,null,null,null,null,null,null,null,null,null,null,null,null,null,null,null,null,null,null,null,null,null,null,{"$f":"Раздел2!D183","v":0}]
[null,"Спортивная аэробика","176",0,0,0,0,0,0,null,null,null,null,null,null,null,null,null,null,null,null,null,null,null,null,null,null,null,null,null,null,null,null,null,null,null,null,null,null,null,null,null,null,null,null,null,null,null,null,null,null,null,null,null,null,null,null,null,null,null,null,{"$f":"Раздел2!D184","v":0}]
[null,"Спортивная борьба - всего","177",0,0,0,0,0,0,{"$f":"SUM(J185:J189)","v":0},{"$f":"SUM(K185:K189)","v":0},0,0,0,0,0,0,0,0,0,0,0,0,0,0,0,0,0,0,0,0,0,0,0,0,0,0,0,0,0,0,0,0,0,0,0,0,0,0,0,0,0,0,0,0,0,0,0,0,null,null,{"$f":"Раздел2!D185","v":1}]
[null,"в том числе:\nВольная борьба","178",0,0,0,0,0,0,null,null,null,null,null,null,null,null,null,null,null,null,null,null,null,null,null,null,null,null,null,null,null,null,null,null,null,null,null,null,null,null,null,null,null,null,null,null,null,null,null,null,null,null,null,null,null,null,null,null,null,null,{"$f":"Раздел2!D186","v":1}]
[null,"Греко-римская борьба","179",0,0,0,0,0,0,null,null,null,null,null,null,null,null,null,null,null,null,null,null,null,null,null,null,null,null,null,null,null,null,null,null,null,null,null,null,null,null,null,null,null,null,null,null,null,null,null,null,null,null,null,null,null,null,null,null,null,null,{"$f":"Раздел2!D187","v":0}]
[null,"Грэпплинг","180",0,0,0,0,0,0,null,null,null,null,null,null,null,null,null,null,null,null,null,null,null,null,null,null,null,null,null,null,null,null,null,null,null,null,null,null,null,null,null,null,null,null,null,null,null,null,null,null,null,null,null,null,null,null,null,null,null,null,{"$f":"Раздел2!D188","v":0}]
[null,"Грэпплинг-ги","181",0,0,0,0,0,0,null,null,null,null,null,null,null,null,null,null,null,null,null,null,null,null,null,null,null,null,null,null,null,null,null,null,null,null,null,null,null,null,null,null,null,null,null,null,null,null,null,null,null,null,null,null,null,null,null,null,null,null,{"$f":"Раздел2!D189","v":0}]
[null,"Панкратион","182",0,0,0,0,0,0,null,null,null,null,null,null,null,null,null,null,null,null,null,null,null,null,null,null,null,null,null,null,null,null,null,null,null,null,null,null,null,null,null,null,null,null,null,null,null,null,null,null,null,null,null,null,null,null,null,null,null,null,{"$f":"Раздел2!D190","v":0}]
[null,"Спортивная гимнастика","183",0,0,0,0,0,0,null,null,null,null,null,null,null,null,null,null,null,null,null,null,null,null,null,null,null,null,null,null,null,null,null,null,null,null,null,null,null,null,null,null,null,null,null,null,null,null,null,null,null,null,null,null,null,null,null,null,null,null,{"$f":"Раздел2!D191","v":0}]
[null,"Спортивная йога","184",0,0,0,0,0,0,null,null,null,null,null,null,null,null,null,null,null,null,null,null,null,null,null,null,null,null,null,null,null,null,null,null,null,null,null,null,null,null,null,null,null,null,null,null,null,null,null,null,null,null,null,null,null,null,null,null,null,null,{"$f":"Раздел2!D192","v":0}]
[null,"Спортивно-прикладное собаководство","185",0,0,0,0,0,0,null,null,null,null,null,null,null,null,null,null,null,null,null,null,null,null,null,null,null,null,null,null,null,null,null,null,null,null,null,null,null,null,null,null,null,null,null,null,null,null,null,null,null,null,null,null,null,null,null,null,null,null,{"$f":"Раздел2!D193","v":0}]
[null,"Спортивное ориентирование","186",0,0,0,0,0,0,null,null,null,null,null,null,null,null,null,null,null,null,null,null,null,null,null,null,null,null,null,null,null,null,null,null,null,null,null,null,null,null,null,null,null,null,null,null,null,null,null,null,null,null,null,null,null,null,null,null,null,null,{"$f":"Раздел2!D194","v":0}]
[null,"Спортивный бридж","187",0,0,0,0,0,0,null,null,null,null,null,null,null,null,null,null,null,null,null,null,null,null,null,null,null,null,null,null,null,null,null,null,null,null,null,null,null,null,null,null,null,null,null,null,null,null,null,null,null,null,null,null,null,null,null,null,null,null,{"$f":"Раздел2!D195","v":0}]
[null,"Спортивный туризм","188",0,0,0,0,0,0,null,null,null,null,null,null,null,null,null,null,null,null,null,null,null,null,null,null,null,null,null,null,null,null,null,null,null,null,null,null,null,null,null,null,null,null,null,null,null,null,null,null,null,null,null,null,null,null,null,null,null,null,{"$f":"Раздел2!D196","v":0}]
[null,"Стендовая стрельба - всего","189",0,0,0,0,0,0,{"$f":"SUM(J197:J200)","v":0},{"$f":"SUM(K197:K200)","v":0},0,0,0,0,0,0,0,0,0,0,0,0,0,0,0,0,0,0,0,0,0,0,0,0,0,0,0,0,0,0,0,0,0,0,0,0,0,0,0,0,0,0,0,0,0,0,0,0,null,null,{"$f":"Раздел2!D197","v":0}]
[null,"в том числе:\nТрап","190",0,0,0,0,0,0,null,null,null,null,null,null,null,null,null,null,null,null,null,null,null,null,null,null,null,null,null,null,null,null,null,null,null,null,null,null,null,null,null,null,null,null,null,null,null,null,null,null,null,null,null,null,null,null,null,null,null,null,{"$f":"Раздел2!D198","v":0}]
[null,"Скит","191",0,0,0,0,0,0,null,null,null,null,null,null,null,null,null,null,null,null,null,null,null,null,null,null,null,null,null,null,null,null,null,null,null,null,null,null,null,null,null,null,null,null,null,null,null,null,null,null,null,null,null,null,null,null,null,null,null,null,{"$f":"Раздел2!D199","v":0}]
[null,"Дубль-трап","192",0,0,0,0,0,0,null,null,null,null,null,null,null,null,null,null,null,null,null,null,null,null,null,null,null,null,null,null,null,null,null,null,null,null,null,null,null,null,null,null,null,null,null,null,null,null,null,null,null,null,null,null,null,null,null,null,null,null,{"$f":"Раздел2!D200","v":0}]
[null,"Спортинг","193",0,0,0,0,0,0,null,null,null,null,null,null,null,null,null,null,null,null,null,null,null,null,null,null,null,null,null,null,null,null,null,null,null,null,null,null,null,null,null,null,null,null,null,null,null,null,null,null,null,null,null,null,null,null,null,null,null,null,{"$f":"Раздел2!D201","v":0}]
[null,"Страйкбол","194",{"$f":"SUM(E201:G201)","v":0},{"$f":"SUM(J201,O201,T201,Y201,AD201,AI201,AN201,AS201,AX201,BC201)","v":0},{"$f":"SUM(K201,P201,U201,Z201,AE201,AJ201,AO201,AT201,AY201,BD201)","v":0},0,0,{"$f":"SUM(N201,S201,X201,AC201,AH201,AM201,AR201,AW201,BB201,BG201)","v":0},null,null,null,null,null,null,null,null,null,null,null,null,null,null,null,null,null,null,null,null,null,null,null,null,null,null,null,null,null,null,null,null,null,null,null,null,null,null,null,null,null,null,null,null,null,null,null,null,null,null,null,null,{"$f":"Раздел2!D202","v":0}]
[null,"Стрельба из арбалета","195",0,0,0,0,0,0,null,null,null,null,null,null,null,null,null,null,null,null,null,null,null,null,null,null,null,null,null,null,null,null,null,null,null,null,null,null,null,null,null,null,null,null,null,null,null,null,null,null,null,null,null,null,null,null,null,null,null,null,{"$f":"Раздел2!D203","v":0}]
[null,"Стрельба из лука - всего","196",0,0,0,0,0,0,{"$f":"SUM(J204:J206)","v":0},{"$f":"SUM(K204:K206)","v":0},0,0,0,0,0,0,0,0,0,0,0,0,0,0,0,0,0,0,0,0,0,0,0,0,0,0,0,0,0,0,0,0,0,0,0,0,0,0,0,0,0,0,0,0,0,0,0,0,null,null,{"$f":"Раздел2!D204","v":0}]
[null,"в том числе:\nКлассический лук","197",0,0,0,0,0,0,null,null,null,null,null,null,null,null,null,null,null,null,null,null,null,null,null,null,null,null,null,null,null,null,null,null,null,null,null,null,null,null,null,null,null,null,null,null,null,null,null,null,null,null,null,null,null,null,null,null,null,null,{"$f":"Раздел2!D205","v":0}]
[null,"   Блочный лук","198",0,0,0,0,0,0,null,null,null,null,null,null,null,null,null,null,null,null,null,null,null,null,null,null,null,null,null,null,null,null,null,null,null,null,null,null,null,null,null,null,null,null,null,null,null,null,null,null,null,null,null,null,null,null,null,null,null,null,{"$f":"Раздел2!D206","v":0}]
[null,"   Ачери ","199",0,0,0,0,0,0,null,null,null,null,null,null,null,null,null,null,null,null,null,null,null,null,null,null,null,null,null,null,null,null,null,null,null,null,null,null,null,null,null,null,null,null,null,null,null,null,null,null,null,null,null,null,null,null,null,null,null,null,{"$f":"Раздел2!D207","v":0}]
[null,"Судомодельный спорт","200",0,0,0,0,0,0,null,null,null,null,null,null,null,null,null,null,null,null,null,null,null,null,null,null,null,null,null,null,null,null,null,null,null,null,null,null,null,null,null,null,null,null,null,null,null,null,null,null,null,null,null,null,null,null,null,null,null,null,{"$f":"Раздел2!D208","v":0}]
[null,"Сумо","201",0,0,0,0,0,0,null,null,null,null,null,null,null,null,null,null,null,null,null,null,null,null,null,null,null,null,null,null,null,null,null,null,null,null,null,null,null,null,null,null,null,null,null,null,null,null,null,null,null,null,null,null,null,null,null,null,null,null,{"$f":"Раздел2!D209","v":0}]
[null,"Таврели","202",0,0,0,0,0,0,null,null,null,null,null,null,null,null,null,null,null,null,null,null,null,null,null,null,null,null,null,null,null,null,null,null,null,null,null,null,null,null,null,null,null,null,null,null,null,null,null,null,null,null,null,null,null,null,null,null,null,null,{"$f":"Раздел2!D210","v":0}]
[null,"Тайский бокс","203",0,0,0,0,0,0,null,null,null,null,null,null,null,null,null,null,null,null,null,null,null,null,null,null,null,null,null,null,null,null,null,null,null,null,null,null,null,null,null,null,null,null,null,null,null,null,null,null,null,null,null,null,null,null,null,null,null,null,{"$f":"Раздел2!D211","v":0}]
[null,"Танцевальный спорт","204",0,0,0,0,0,0,null,null,null,null,null,null,null,null,null,null,null,null,null,null,null,null,null,null,null,null,null,null,null,null,null,null,null,null,null,null,null,null,null,null,null,null,null,null,null,null,null,null,null,null,null,null,null,null,null,null,null,null,{"$f":"Раздел2!D212","v":0}]
[null,"Теннис","205",0,0,0,0,0,0,null,null,null,null,null,null,null,null,null,null,null,null,null,null,null,null,null,null,null,null,null,null,null,null,null,null,null,null,null,null,null,null,null,null,null,null,null,null,null,null,null,null,null,null,null,null,null,null,null,null,null,null,{"$f":"Раздел2!D213","v":0}]
[null,"Триатлон","206",0,0,0,0,0,0,null,null,null,null,null,null,null,null,null,null,null,null,null,null,null,null,null,null,null,null,null,null,null,null,null,null,null,null,null,null,null,null,null,null,null,null,null,null,null,null,null,null,null,null,null,null,null,null,null,null,null,null,{"$f":"Раздел2!D214","v":0}]
[null,"Тхэквондо - всего","207",0,0,0,0,0,0,{"$f":"SUM(J215:J216)","v":0},{"$f":"SUM(K215:K216)","v":0},0,0,0,0,0,0,0,0,0,0,0,0,0,0,0,0,0,0,0,0,0,0,0,0,0,0,0,0,0,0,0,0,0,0,0,0,0,0,0,0,0,0,0,0,0,0,0,0,null,null,{"$f":"Раздел2!D215","v":0}]
[null,"в том числе:\nТхэквондо (ВТФ)","208",0,0,0,0,0,0,null,null,null,null,null,null,null,null,null,null,null,null,null,null,null,null,null,null,null,null,null,null,null,null,null,null,null,null,null,null,null,null,null,null,null,null,null,null,null,null,null,null,null,null,null,null,null,null,null,null,null,null,{"$f":"Раздел2!D216","v":0}]
[null,"Тхэквондо (ГТФ, МФТ)","209",0,0,0,0,0,0,null,null,null,null,null,null,null,null,null,null,null,null,null,null,null,null,null,null,null,null,null,null,null,null,null,null,null,null,null,null,null,null,null,null,null,null,null,null,null,null,null,null,null,null,null,null,null,null,null,null,null,null,{"$f":"Раздел2!D217","v":0}]
[null,"Тхэквондо ИТФ","210",0,0,0,0,0,0,null,null,null,null,null,null,null,null,null,null,null,null,null,null,null,null,null,null,null,null,null,null,null,null,null,null,null,null,null,null,null,null,null,null,null,null,null,null,null,null,null,null,null,null,null,null,null,null,null,null,null,null,{"$f":"Раздел2!D218","v":0}]
[null,"Тяжелая атлетика","211",0,0,0,0,0,0,null,null,null,null,null,null,null,null,null,null,null,null,null,null,null,null,null,null,null,null,null,null,null,null,null,null,null,null,null,null,null,null,null,null,null,null,null,null,null,null,null,null,null,null,null,null,null,null,null,null,null,null,{"$f":"Раздел2!D219","v":0}]
[null,"Универсальный бой","212",0,0,0,0,0,0,null,null,null,null,null,null,null,null,null,null,null,null,null,null,null,null,null,null,null,null,null,null,null,null,null,null,null,null,null,null,null,null,null,null,null,null,null,null,null,null,null,null,null,null,null,null,null,null,null,null,null,null,{"$f":"Раздел2!D220","v":0}]
[null,"Ушу","213",0,0,0,0,0,0,null,null,null,null,null,null,null,null,null,null,null,null,null,null,null,null,null,null,null,null,null,null,null,null,null,null,null,null,null,null,null,null,null,null,null,null,null,null,null,null,null,null,null,null,null,null,null,null,null,null,null,null,{"$f":"Раздел2!D221","v":0}]
[null,"Фехтование - всего","214",0,0,0,0,0,0,{"$f":"SUM(J222:J225)","v":0},{"$f":"SUM(K222:K225)","v":0},0,0,0,0,0,0,0,0,0,0,0,0,0,0,0,0,0,0,0,0,0,0,0,0,0,0,0,0,0,0,0,0,0,0,0,0,0,0,0,0,0,0,0,0,0,0,0,0,null,null,{"$f":"Раздел2!D222","v":0}]
[null,"в том числе:\nРапира","215",0,0,0,0,0,0,null,null,null,null,null,null,null,null,null,null,null,null,null,null,null,null,null,null,null,null,null,null,null,null,null,null,null,null,null,null,null,null,null,null,null,null,null,null,null,null,null,null,null,null,null,null,null,null,null,null,null,null,{"$f":"Раздел2!D223","v":0}]
[null,"Сабля","216",0,0,0,0,0,0,null,null,null,null,null,null,null,null,null,null,null,null,null,null,null,null,null,null,null,null,null,null,null,null,null,null,null,null,null,null,null,null,null,null,null,null,null,null,null,null,null,null,null,null,null,null,null,null,null,null,null,null,{"$f":"Раздел2!D224","v":0}]
[null,"Шпага","217",0,0,0,0,0,0,null,null,null,null,null,null,null,null,null,null,null,null,null,null,null,null,null,null,null,null,null,null,null,null,null,null,null,null,null,null,null,null,null,null,null,null,null,null,null,null,null,null,null,null,null,null,null,null,null,null,null,null,{"$f":"Раздел2!D225","v":0}]
[null,"Арт-фехтование","218",0,0,0,0,0,0,null,null,null,null,null,null,null,null,null,null,null,null,null,null,null,null,null,null,null,null,null,null,null,null,null,null,null,null,null,null,null,null,null,null,null,null,null,null,null,null,null,null,null,null,null,null,null,null,null,null,null,null,{"$f":"Раздел2!D226","v":0}]
[null,"Фигурное катание на коньках","219",0,0,0,0,0,0,null,null,null,null,null,null,null,null,null,null,null,null,null,null,null,null,null,null,null,null,null,null,null,null,null,null,null,null,null,null,null,null,null,null,null,null,null,null,null,null,null,null,null,null,null,null,null,null,null,null,null,null,{"$f":"Раздел2!D227","v":0}]
[null,"Фитнес-аэробика","220",0,0,0,0,0,0,null,null,null,null,null,null,null,null,null,null,null,null,null,null,null,null,null,null,null,null,null,null,null,null,null,null,null,null,null,null,null,null,null,null,null,null,null,null,null,null,null,null,null,null,null,null,null,null,null,null,null,null,{"$f":"Раздел2!D228","v":0}]
[null,"Флаинг диск","221",0,0,0,0,0,0,null,null,null,null,null,null,null,null,null,null,null,null,null,null,null,null,null,null,null,null,null,null,null,null,null,null,null,null,null,null,null,null,null,null,null,null,null,null,null,null,null,null,null,null,null,null,null,null,null,null,null,null,{"$f":"Раздел2!D229","v":0}]
[null,"Флорбол","222",0,0,0,0,0,0,null,null,null,null,null,null,null,null,null,null,null,null,null,null,null,null,null,null,null,null,null,null,null,null,null,null,null,null,null,null,null,null,null,null,null,null,null,null,null,null,null,null,null,null,null,null,null,null,null,null,null,null,{"$f":"Раздел2!D230","v":0}]
[null,"Фристайл - всего","223",0,0,0,0,0,0,{"$f":"SUM(J231:J236)","v":0},{"$f":"SUM(K231:K236)","v":0},0,0,0,0,0,0,0,0,0,0,0,0,0,0,0,0,0,0,0,0,0,0,0,0,0,0,0,0,0,0,0,0,0,0,0,0,0,0,0,0,0,0,0,0,0,0,0,0,null,null,{"$f":"Раздел2!D231","v":0}]
[null,"в том числе:\nАкробатика","224",0,0,0,0,0,0,null,null,null,null,null,null,null,null,null,null,null,null,null,null,null,null,null,null,null,null,null,null,null,null,null,null,null,null,null,null,null,null,null,null,null,null,null,null,null,null,null,null,null,null,null,null,null,null,null,null,null,null,{"$f":"Раздел2!D232","v":0}]
[null,"Биг-эйр","225",0,0,0,0,0,0,null,null,null,null,null,null,null,null,null,null,null,null,null,null,null,null,null,null,null,null,null,null,null,null,null,null,null,null,null,null,null,null,null,null,null,null,null,null,null,null,null,null,null,null,null,null,null,null,null,null,null,null,{"$f":"Раздел2!D233","v":0}]
[null,"Могул","226",0,0,0,0,0,0,null,null,null,null,null,null,null,null,null,null,null,null,null,null,null,null,null,null,null,null,null,null,null,null,null,null,null,null,null,null,null,null,null,null,null,null,null,null,null,null,null,null,null,null,null,null,null,null,null,null,null,null,{"$f":"Раздел2!D234","v":0}]
[null,"Ски-кросс","227",0,0,0,0,0,0,null,null,null,null,null,null,null,null,null,null,null,null,null,null,null,null,null,null,null,null,null,null,null,null,null,null,null,null,null,null,null,null,null,null,null,null,null,null,null,null,null,null,null,null,null,null,null,null,null,null,null,null,{"$f":"Раздел2!D235","v":0}]
[null,"Хаф-пайп","228",0,0,0,0,0,0,null,null,null,null,null,null,null,null,null,null,null,null,null,null,null,null,null,null,null,null,null,null,null,null,null,null,null,null,null,null,null,null,null,null,null,null,null,null,null,null,null,null,null,null,null,null,null,null,null,null,null,null,{"$f":"Раздел2!D236","v":0}]
[null,"Слоуп-стайл","229",0,0,0,0,0,0,null,null,null,null,null,null,null,null,null,null,null,null,null,null,null,null,null,null,null,null,null,null,null,null,null,null,null,null,null,null,null,null,null,null,null,null,null,null,null,null,null,null,null,null,null,null,null,null,null,null,null,null,{"$f":"Раздел2!D237","v":0}]
[null,"Функциональное многоборье","230",0,0,0,0,0,0,null,null,null,null,null,null,null,null,null,null,null,null,null,null,null,null,null,null,null,null,null,null,null,null,null,null,null,null,null,null,null,null,null,null,null,null,null,null,null,null,null,null,null,null,null,null,null,null,null,null,null,null,{"$f":"Раздел2!D238","v":0}]
[null,"Футбол - всего","231",0,0,0,0,0,0,{"$f":"SUM(J239:J242)","v":0},{"$f":"SUM(K239:K242)","v":0},0,0,0,0,0,0,0,0,0,0,0,0,0,0,0,0,0,0,0,0,0,0,0,0,0,0,0,0,0,0,0,0,0,0,0,0,0,0,0,0,0,0,0,0,0,0,0,0,null,null,{"$f":"Раздел2!D239","v":1}]
[null,"в том числе:\nФутбол (муж.)","232",0,0,0,0,0,0,null,null,null,null,null,null,null,null,null,null,null,null,null,null,null,null,null,null,null,null,null,null,null,null,null,null,null,null,null,null,null,null,null,null,null,null,null,null,null,null,null,null,null,null,null,null,null,null,null,null,null,null,{"$f":"Раздел2!D240","v":1}]
[null,"Футбол (жен.)","233",0,0,0,0,0,0,null,null,null,null,null,null,null,null,null,null,null,null,null,null,null,null,null,null,null,null,null,null,null,null,null,null,null,null,null,null,null,null,null,null,null,null,null,null,null,null,null,null,null,null,null,null,null,null,null,null,null,null,{"$f":"Раздел2!D241","v":0}]
[null,"Мини-футбол (футзал)","234",0,0,0,0,0,0,null,null,null,null,null,null,null,null,null,null,null,null,null,null,null,null,null,null,null,null,null,null,null,null,null,null,null,null,null,null,null,null,null,null,null,null,null,null,null,null,null,null,null,null,null,null,null,null,null,null,null,null,{"$f":"Раздел2!D242","v":0}]
[null,"Пляжный футбол","235",0,0,0,0,0,0,null,null,null,null,null,null,null,null,null,null,null,null,null,null,null,null,null,null,null,null,null,null,null,null,null,null,null,null,null,null,null,null,null,null,null,null,null,null,null,null,null,null,null,null,null,null,null,null,null,null,null,null,{"$f":"Раздел2!D243","v":0}]
[null,"Футгольф","236",0,0,0,0,0,0,null,null,null,null,null,null,null,null,null,null,null,null,null,null,null,null,null,null,null,null,null,null,null,null,null,null,null,null,null,null,null,null,null,null,null,null,null,null,null,null,null,null,null,null,null,null,null,null,null,null,null,null,{"$f":"Раздел2!D244","v":0}]
[null,"Хапкидо","237",0,0,0,0,0,0,null,null,null,null,null,null,null,null,null,null,null,null,null,null,null,null,null,null,null,null,null,null,null,null,null,null,null,null,null,null,null,null,null,null,null,null,null,null,null,null,null,null,null,null,null,null,null,null,null,null,null,null,{"$f":"Раздел2!D245","v":0}]
[null,"Хапсагай","238",0,0,0,0,0,0,null,null,null,null,null,null,null,null,null,null,null,null,null,null,null,null,null,null,null,null,null,null,null,null,null,null,null,null,null,null,null,null,null,null,null,null,null,null,null,null,null,null,null,null,null,null,null,null,null,null,null,null,{"$f":"Раздел2!D246","v":0}]
[null,"Хоккей - всего","239",0,0,0,0,0,0,{"$f":"SUM(J247:J248)","v":0},{"$f":"SUM(K247:K248)","v":0},0,0,0,0,0,0,0,0,0,0,0,0,0,0,0,0,0,0,0,0,0,0,0,0,0,0,0,0,0,0,0,0,0,0,0,0,0,0,0,0,0,0,0,0,0,0,0,0,null,null,{"$f":"Раздел2!D247","v":0}]
[null,"в том числе:\nХоккей (муж.)","240",0,0,0,0,0,0,null,null,null,null,null,null,null,null,null,null,null,null,null,null,null,null,null,null,null,null,null,null,null,null,null,null,null,null,null,null,null,null,null,null,null,null,null,null,null,null,null,null,null,null,null,null,null,null,null,null,null,null,{"$f":"Раздел2!D248","v":0}]
[null,"Хоккей (жен.)","241",0,0,0,0,0,0,null,null,null,null,null,null,null,null,null,null,null,null,null,null,null,null,null,null,null,null,null,null,null,null,null,null,null,null,null,null,null,null,null,null,null,null,null,null,null,null,null,null,null,null,null,null,null,null,null,null,null,null,{"$f":"Раздел2!D249","v":0}]
[null,"Хоккей на траве - всего","242",0,0,0,0,0,0,{"$f":"SUM(J250:J252)","v":0},{"$f":"SUM(K250:K252)","v":0},0,0,0,0,0,0,0,0,0,0,0,0,0,0,0,0,0,0,0,0,0,0,0,0,0,0,0,0,0,0,0,0,0,0,0,0,0,0,0,0,0,0,0,0,0,0,0,0,null,null,{"$f":"Раздел2!D250","v":0}]
[null,"в том числе:\nХоккей на траве (муж.)","243",0,0,0,0,0,0,null,null,null,null,null,null,null,null,null,null,null,null,null,null,null,null,null,null,null,null,null,null,null,null,null,null,null,null,null,null,null,null,null,null,null,null,null,null,null,null,null,null,null,null,null,null,null,null,null,null,null,null,{"$f":"Раздел2!D251","v":0}]
[null,"Хоккей на траве (жен.)","244",0,0,0,0,0,0,null,null,null,null,null,null,null,null,null,null,null,null,null,null,null,null,null,null,null,null,null,null,null,null,null,null,null,null,null,null,null,null,null,null,null,null,null,null,null,null,null,null,null,null,null,null,null,null,null,null,null,null,{"$f":"Раздел2!D252","v":0}]
[null,"Индорхоккей","245",0,0,0,0,0,0,null,null,null,null,null,null,null,null,null,null,null,null,null,null,null,null,null,null,null,null,null,null,null,null,null,null,null,null,null,null,null,null,null,null,null,null,null,null,null,null,null,null,null,null,null,null,null,null,null,null,null,null,{"$f":"Раздел2!D253","v":0}]
[null,"Хоккей с мячом","246",0,0,0,0,0,0,null,null,null,null,null,null,null,null,null,null,null,null,null,null,null,null,null,null,null,null,null,null,null,null,null,null,null,null,null,null,null,null,null,null,null,null,null,null,null,null,null,null,null,null,null,null,null,null,null,null,null,null,{"$f":"Раздел2!D254","v":0}]
[null,"Художественная гимнастика","247",0,0,0,0,0,0,null,null,null,null,null,null,null,null,null,null,null,null,null,null,null,null,null,null,null,null,null,null,null,null,null,null,null,null,null,null,null,null,null,null,null,null,null,null,null,null,null,null,null,null,null,null,null,null,null,null,null,null,{"$f":"Раздел2!D255","v":0}]
[null,"Хуреш","248",0,0,0,0,0,0,null,null,null,null,null,null,null,null,null,null,null,null,null,null,null,null,null,null,null,null,null,null,null,null,null,null,null,null,null,null,null,null,null,null,null,null,null,null,null,null,null,null,null,null,null,null,null,null,null,null,null,null,{"$f":"Раздел2!D256","v":0}]
[null,"Чир спорт","249",0,0,0,0,0,0,null,null,null,null,null,null,null,null,null,null,null,null,null,null,null,null,null,null,null,null,null,null,null,null,null,null,null,null,null,null,null,null,null,null,null,null,null,null,null,null,null,null,null,null,null,null,null,null,null,null,null,null,{"$f":"Раздел2!D257","v":0}]
[null,"Шахматы","250",0,0,0,0,0,0,null,null,null,null,null,null,null,null,null,null,null,null,null,null,null,null,null,null,null,null,null,null,null,null,null,null,null,null,null,null,null,null,null,null,null,null,null,null,null,null,null,null,null,null,null,null,null,null,null,null,null,null,{"$f":"Раздел2!D258","v":1}]
[null,"Шашки","251",0,0,0,0,0,0,null,null,null,null,null,null,null,null,null,null,null,null,null,null,null,null,null,null,null,null,null,null,null,null,null,null,null,null,null,null,null,null,null,null,null,null,null,null,null,null,null,null,null,null,null,null,null,null,null,null,null,null,{"$f":"Раздел2!D259","v":0}]
[null,"Шодсанлат","252",0,0,0,0,0,0,null,null,null,null,null,null,null,null,null,null,null,null,null,null,null,null,null,null,null,null,null,null,null,null,null,null,null,null,null,null,null,null,null,null,null,null,null,null,null,null,null,null,null,null,null,null,null,null,null,null,null,null,{"$f":"Раздел2!D260","v":0}]
[null,"Эстетическая гимнастика","253",0,0,0,0,0,0,null,null,null,null,null,null,null,null,null,null,null,null,null,null,null,null,null,null,null,null,null,null,null,null,null,null,null,null,null,null,null,null,null,null,null,null,null,null,null,null,null,null,null,null,null,null,null,null,null,null,null,null,{"$f":"Раздел2!D261","v":0}]
[null,"Якутские национальные прыжки","254",0,0,0,0,0,0,null,null,null,null,null,null,null,null,null,null,null,null,null,null,null,null,null,null,null,null,null,null,null,null,null,null,null,null,null,null,null,null,null,null,null,null,null,null,null,null,null,null,null,null,null,null,null,null,null,null,null,null,{"$f":"Раздел2!D262","v":0}]
[null,"ИТОГО","255",0,0,0,0,0,0,{"$f":"SUM(J8:J19,J22:J25,J28:J32,J37:J40,J43:J48,J53:J55,J59:J68,J73:J82,J86:J92,J95:J99,J107:J121,J124:J129,J132,J137:J138,J144:J147,J152:J184,J190:J196,J201:J203,J207:J214,J217:J221,J226:J230,J237:J238,J243:J246,J249,J253:J261)","v":0},{"$f":"SUM(K8:K19,K22:K25,K28:K32,K37:K40,K43:K48,K53:K55,K59:K68,K73:K82,K86:K92,K95:K99,K107:K121,K124:K129,K132,K137:K138,K144:K147,K152:K184,K190:K196,K201:K203,K207:K214,K217:K221,K226:K230,K237:K238,K243:K246,K249,K253:K261)","v":0},0,0,0,0,0,0,0,0,0,0,0,0,0,0,0,0,0,0,0,0,0,0,0,0,0,0,0,0,0,0,0,0,0,0,0,0,0,0,0,0,0,0,0,0,0,0,0,{"$f":"SUM(BG8:BG19,BG22:BG25,BG28:BG32,BG37:BG40,BG43:BG48,BG53:BG55,BG59:BG68,BG73:BG82,BG86:BG92,BG95:BG99,BG107:BG121,BG124:BG129,BG132,BG137:BG138,BG144:BG147,BG152:BG184,BG190:BG196,BG201:BG203,BG207:BG214,BG217:BG221,BG226:BG230,BG237:BG238,BG243:BG246,BG249,BG253:BG261)","v":0},null,null,{"$f":"Раздел2!D263","v":8}]

{"sheet":"Раздел9","index":9,"n_rows":262,"n_cols":20,"rows_kept":262,"cut":false,"hidden":false,"merged":[[4,14,5,14],[4,15,5,15],[3,12,3,15],[4,9,5,9],[4,10,5,10],[4,11,5,11],[4,12,5,12],[4,13,5,13],[0,0,122,0],[0,1,0,16],[1,12,1,17],[2,1,5,1],[2,2,5,2],[2,3,3,4],[2,5,2,16],[2,17,5,17],[3,5,3,8],[3,9,3,11],[3,16,5,16],[4,3,5,3],[4,4,5,4],[4,5,5,5],[4,6,5,6],[4,7,4,8]]}
[null,"Раздел IX. Тренерский состав"]
[null,null,null,null,null,null,null,null,null,null,null,null,"Код по ОКЕИ: человек – 792"]
[null,"Виды спорта","№ строки","Число тренеров",null,"из них (гр. 4) имеют:",null,null,null,null,null,null,null,null,null,null,null,"Число тренеров-преподавателей (из гр. 3)"]
[null,null,null,null,null,"профессиональное образование",null,null,null,"квалификационную категорию",null,null,"в возрасте:",null,null,null,"Звание «Заслуженный тренер России»"]
[null,null,null,"Всего","в том числе штатных","высшее","среднее","в том числе\nфизкультурное",null,"высшую","первую","вторую","до 30 лет","31-45 лет","46-60 лет","старше 60 лет"]
[null,null,null,null,null,null,null,"высшее","среднее"]
[null,1,2,3,4,5,6,7,8,9,10,11,12,13,14,15,16,17]
[null,"Авиамодельный спорт","01",null,null,null,null,null,null,null,null,null,null,null,null,null,null,null,{"$f":"D8","v":0},{"$f":"Раздел2!D9","v":0}]
[null,"Автомобильный спорт","02",null,null,null,null,null,null,null,null,null,null,null,null,null,null,null,{"$f":"D9","v":0},{"$f":"Раздел2!D10","v":0}]
[null,"Автомодельный спорт","03",null,null,null,null,null,null,null,null,null,null,null,null,null,null,null,0,{"$f":"Раздел2!D11","v":0}]
[null,"Айкидо","04",null,null,null,null,null,null,null,null,null,null,null,null,null,null,null,0,{"$f":"Раздел2!D12","v":0}]
[null,"Айсшток","05",null,null,null,null,null,null,null,null,null,null,null,null,null,null,null,0,{"$f":"Раздел2!D13","v":0}]
[null,"Акробатический рок-н-ролл","06",null,null,null,null,null,null,null,null,null,null,null,null,null,null,null,0,{"$f":"Раздел2!D14","v":0}]
[null,"Альпинизм","07",null,null,null,null,null,null,null,null,null,null,null,null,null,null,null,0,{"$f":"Раздел2!D15","v":0}]
[null,"Американский футбол","08",null,null,null,null,null,null,null,null,null,null,null,null,null,null,null,0,{"$f":"Раздел2!D16","v":0}]
[null,"Армейский рукопашный бой","09",null,null,null,null,null,null,null,null,null,null,null,null,null,null,null,0,{"$f":"Раздел2!D17","v":0}]
[null,"Армрестлинг","10",null,null,null,null,null,null,null,null,null,null,null,null,null,null,null,0,{"$f":"Раздел2!D18","v":0}]
[null,"Бадминтон","11",null,null,null,null,null,null,null,null,null,null,null,null,null,null,null,0,{"$f":"Раздел2!D19","v":0}]
[null,"Баскетбол - всего","12",{"$f":"SUM(D20:D21)","v":6},{"$f":"SUM(E20:E21)","v":1},1,0,1,0,1,0,0,0,0,1,0,0,6,6,{"$f":"Раздел2!D20","v":1}]
[null,"в том числе:\nБаскетбол (муж.)","13",3,null,null,null,null,null,null,null,null,null,null,null,null,null,3,3,{"$f":"Раздел2!D21","v":1}]
[null,"Баскетбол (жен.)","14",3,1,1,null,1,null,1,null,null,null,null,1,null,null,3,3,{"$f":"Раздел2!D22","v":1}]
[null,"Бейсбол","15",null,null,null,null,null,null,null,null,null,null,null,null,null,null,null,0,{"$f":"Раздел2!D23","v":0}]
[null,"Биатлон","16",null,null,null,null,null,null,null,null,null,null,null,null,null,null,null,0,{"$f":"Раздел2!D24","v":0}]
[null,"Бильярдный спорт","17",null,null,null,null,null,null,null,null,null,null,null,null,null,null,null,0,{"$f":"Раздел2!D25","v":0}]
[null,"Бобслей - всего","18",{"$f":"SUM(D26:D27)","v":0},{"$f":"SUM(E26:E27)","v":0},0,0,0,0,0,0,0,0,0,0,0,0,0,0,{"$f":"Раздел2!D26","v":0}]
[null,"в том числе:\nБобслей","19",null,null,null,null,null,null,null,null,null,null,null,null,null,null,null,0,{"$f":"Раздел2!D27","v":0}]
[null,"Скелетон","20",null,null,null,null,null,null,null,null,null,null,null,null,null,null,null,0,{"$f":"Раздел2!D28","v":0}]
[null,"Бодибилдинг","21",null,null,null,null,null,null,null,null,null,null,null,null,null,null,null,0,{"$f":"Раздел2!D29","v":0}]
[null,"Бокс","22",null,null,null,null,null,null,null,null,null,null,null,null,null,null,null,0,{"$f":"Раздел2!D30","v":0}]
[null,"Борьба на поясах","23",null,null,null,null,null,null,null,null,null,null,null,null,null,null,null,0,{"$f":"Раздел2!D31","v":0}]
[null,"Боулинг","24",null,null,null,null,null,null,null,null,null,null,null,null,null,null,null,0,{"$f":"Раздел2!D32","v":0}]
[null,"Велосипедный спорт - всего","25",{"$f":"SUM(D33:D36)","v":0},{"$f":"SUM(E33:E36)","v":0},0,0,0,0,0,0,0,0,0,0,0,0,0,0,{"$f":"Раздел2!D33","v":0}]
[null,"в том числе:\nBMX","26",null,null,null,null,null,null,null,null,null,null,null,null,null,null,null,0,{"$f":"Раздел2!D34","v":0}]
[null,"Маунтинбайк","27",null,null,null,null,null,null,null,null,null,null,null,null,null,null,null,0,{"$f":"Раздел2!D35","v":0}]
[null,"Трек","28",null,null,null,null,null,null,null,null,null,null,null,null,null,null,null,0,{"$f":"Раздел2!D36","v":0}]
[null,"Шоссе","29",null,null,null,null,null,null,null,null,null,null,null,null,null,null,null,0,{"$f":"Раздел2!D37","v":0}]
[null,"Вертолетный спорт","30",null,null,null,null,null,null,null,null,null,null,null,null,null,null,null,0,{"$f":"Раздел2!D38","v":0}]
[null,"Водно-моторный спорт","31",null,null,null,null,null,null,null,null,null,null,null,null,null,null,null,0,{"$f":"Раздел2!D39","v":0}]
[null,"Водно-спасательное многоборье","32",null,null,null,null,null,null,null,null,null,null,null,null,null,null,null,0,{"$f":"Раздел2!D40","v":0}]
[null,"Водное поло - всего ","33",{"$f":"SUM(D41:D42)","v":0},{"$f":"SUM(E41:E42)","v":0},0,0,0,0,0,0,0,0,0,0,0,0,0,0,{"$f":"Раздел2!D41","v":0}]
[null,"в том числе:\nВодное поло (муж.)","34",null,null,null,null,null,null,null,null,null,null,null,null,null,null,null,0,{"$f":"Раздел2!D42","v":0}]
[null,"Водное поло (жен.)","35",null,null,null,null,null,null,null,null,null,null,null,null,null,null,null,0,{"$f":"Раздел2!D43","v":0}]
[null,"Воднолыжный спорт","36",null,null,null,null,null,null,null,null,null,null,null,null,null,null,null,0,{"$f":"Раздел2!D44","v":0}]
[null,"Воздушно-силовая атлетика","37",null,null,null,null,null,null,null,null,null,null,null,null,null,null,null,0,{"$f":"Раздел2!D45","v":0}]
[null,"Военно-прикладной спорт","38",null,null,null,null,null,null,null,null,null,null,null,null,null,null,null,0,{"$f":"Раздел2!D46","v":0}]
[null,"Военно-спортивное многоборье","39",null,null,null,null,null,null,null,null,null,null,null,null,null,null,null,0,{"$f":"Раздел2!D47","v":0}]
[null,"Воздухоплавательный спорт","40",null,null,null,null,null,null,null,null,null,null,null,null,null,null,null,0,{"$f":"Раздел2!D48","v":0}]
[null,"Волейбол - всего","41",{"$f":"SUM(D49:D52)","v":5},{"$f":"SUM(E49:E52)","v":0},0,0,0,0,0,0,0,0,0,0,0,0,5,5,{"$f":"Раздел2!D49","v":1}]
[null,"в том числе:\nВолейбол (муж.)","42",3,null,null,null,null,null,null,null,null,null,null,null,null,null,3,3,{"$f":"Раздел2!D50","v":1}]
[null,"Волейбол (жен.)","43",2,null,null,null,null,null,null,null,null,null,null,null,null,null,2,2,{"$f":"Раздел2!D51","v":1}]
[null,"Пляжный волейбол (муж.)","44",null,null,null,null,null,null,null,null,null,null,null,null,null,null,null,0,{"$f":"Раздел2!D52","v":0}]
[null,"Пляжный волейбол (жен.)","45",null,null,null,null,null,null,null,null,null,null,null,null,null,null,null,0,{"$f":"Раздел2!D53","v":0}]
[null,"Восточное боевое единоборство","46",null,null,null,null,null,null,null,null,null,null,null,null,null,null,null,0,{"$f":"Раздел2!D54","v":0}]
[null,"Всестилевое каратэ","47",null,null,null,null,null,null,null,null,null,null,null,null,null,null,null,0,{"$f":"Раздел2!D55","v":0}]
[null,"Гандбол - всего","48",{"$f":"SUM(D56:D58)","v":0},{"$f":"SUM(E56:E58)","v":0},0,0,0,0,0,0,0,0,0,0,0,0,0,0,{"$f":"Раздел2!D56","v":0}]
[null,"в том числе:\nГандбол (муж.)","49",null,null,null,null,null,null,null,null,null,null,null,null,null,null,null,0,{"$f":"Раздел2!D57","v":0}]
[null,"Гандбол (жен.)","50",null,null,null,null,null,null,null,null,null,null,null,null,null,null,null,0,{"$f":"Раздел2!D58","v":0}]
[null,"Пляжный гандбол","51",null,null,null,null,null,null,null,null,null,null,null,null,null,null,null,0,{"$f":"Раздел2!D59","v":0}]
[null,"Гиревой спорт","52",null,null,null,null,null,null,null,null,null,null,null,null,null,null,null,0,{"$f":"Раздел2!D60","v":0}]
[null,"Го","53",null,null,null,null,null,null,null,null,null,null,null,null,null,null,null,0,{"$f":"Раздел2!D61","v":0}]
[null,"Гольф","54",null,null,null,null,null,null,null,null,null,null,null,null,null,null,null,0,{"$f":"Раздел2!D62","v":0}]
[null,"Гонки на охотничьих лыжах","55",null,null,null,null,null,null,null,null,null,null,null,null,null,null,null,0,{"$f":"Раздел2!D63","v":0}]
[null,"Горнолыжный спорт","56",null,null,null,null,null,null,null,null,null,null,null,null,null,null,null,0,{"$f":"Раздел2!D64","v":0}]
[null,"Городошный спорт","57",null,null,null,null,null,null,null,null,null,null,null,null,null,null,null,0,{"$f":"Раздел2!D65","v":0}]
[null,"Гребля на байдарках и каноэ","58",null,null,null,null,null,null,null,null,null,null,null,null,null,null,null,0,{"$f":"Раздел2!D66","v":0}]
[null,"Гребля на шлюпках","59",null,null,null,null,null,null,null,null,null,null,null,null,null,null,null,0,{"$f":"Раздел2!D67","v":0}]
[null,"Гребной слалом","60",null,null,null,null,null,null,null,null,null,null,null,null,null,null,null,0,{"$f":"Раздел2!D68","v":0}]
[null,"Гребной спорт - всего","61",{"$f":"SUM(D69:D72)","v":0},{"$f":"SUM(E69:E72)","v":0},0,0,0,0,0,0,0,0,0,0,0,0,0,0,{"$f":"Раздел2!D69","v":0}]
[null,"в том числе:\nАкадемическая гребля","62",null,null,null,null,null,null,null,null,null,null,null,null,null,null,null,0,{"$f":"Раздел2!D70","v":0}]
[null,"Гребля-индор","63",null,null,null,null,null,null,null,null,null,null,null,null,null,null,null,0,{"$f":"Раздел2!D71","v":0}]
[null,"Народная гребля","64",null,null,null,null,null,null,null,null,null,null,null,null,null,null,null,0,{"$f":"Раздел2!D72","v":0}]
[null,"Прибрежная гребля","65",null,null,null,null,null,null,null,null,null,null,null,null,null,null,null,0,{"$f":"Раздел2!D73","v":0}]
[null,"Гребно-парусное двоеборье","66",null,null,null,null,null,null,null,null,null,null,null,null,null,null,null,{"$f":"D73","v":0},{"$f":"Раздел2!D74","v":0}]
[null,"Дартс","67",null,null,null,null,null,null,null,null,null,null,null,null,null,null,null,0,{"$f":"Раздел2!D75","v":0}]
[null,"Джиу-джитсу","68",null,null,null,null,null,null,null,null,null,null,null,null,null,null,null,0,{"$f":"Раздел2!D76","v":0}]
[null,"Дзюдо","69",null,null,null,null,null,null,null,null,null,null,null,null,null,null,null,0,{"$f":"Раздел2!D77","v":0}]
[null,"Ездовой спорт","70",null,null,null,null,null,null,null,null,null,null,null,null,null,null,null,0,{"$f":"Раздел2!D78","v":0}]
[null,"Капоэйра","71",null,null,null,null,null,null,null,null,null,null,null,null,null,null,null,0,{"$f":"Раздел2!D79","v":0}]
[null,"Каратэ","72",null,null,null,null,null,null,null,null,null,null,null,null,null,null,null,0,{"$f":"Раздел2!D80","v":0}]
[null,"Кендо","73",null,null,null,null,null,null,null,null,null,null,null,null,null,null,null,0,{"$f":"Раздел2!D81","v":0}]
[null,"Керешу","74",null,null,null,null,null,null,null,null,null,null,null,null,null,null,null,0,{"$f":"Раздел2!D82","v":0}]
[null,"Кёрлинг - всего","75",{"$f":"SUM(D83:D85)","v":0},{"$f":"SUM(E83:E85)","v":0},0,0,0,0,0,0,0,0,0,0,0,0,0,0,{"$f":"Раздел2!D83","v":0}]
[null,"в том числе:\nКерлинг (муж.)","76",null,null,null,null,null,null,null,null,null,null,null,null,null,null,null,0,{"$f":"Раздел2!D84","v":0}]
[null,"Керлинг (жен.)","77",null,null,null,null,null,null,null,null,null,null,null,null,null,null,null,0,{"$f":"Раздел2!D85","v":0}]
[null,"Кёрлинг – смешанные пары","78",null,null,null,null,null,null,null,null,null,null,null,null,null,null,null,0,{"$f":"Раздел2!D86","v":0}]
[null,"Кикбоксинг","79",null,null,null,null,null,null,null,null,null,null,null,null,null,null,null,0,{"$f":"Раздел2!D87","v":0}]
[null,"Кинологический спорт","80",null,null,null,null,null,null,null,null,null,null,null,null,null,null,null,0,{"$f":"Раздел2!D88","v":0}]
[null,"Киокусинкай","81",1,1,1,null,1,null,null,1,null,null,null,1,null,null,1,1,{"$f":"Раздел2!D89","v":1}]
[null,"Комплексное единоборство","82",null,null,null,null,null,null,null,null,null,null,null,null,null,null,null,0,{"$f":"Раздел2!D90","v":0}]
[null,"Компьютерный спорт","83",null,null,null,null,null,null,null,null,null,null,null,null,null,null,null,0,{"$f":"Раздел2!D91","v":0}]
[null,"Конный спорт","84",null,null,null,null,null,null,null,null,null,null,null,null,null,null,null,0,{"$f":"Раздел2!D92","v":0}]
[null,"Конькобежный спорт - всего","85",{"$f":"SUM(D93:D94)","v":0},{"$f":"SUM(E93:E94)","v":0},0,0,0,0,0,0,0,0,0,0,0,0,0,0,{"$f":"Раздел2!D93","v":0}]
[null,"в том числе:\nКонькобежный спорт","86",null,null,null,null,null,null,null,null,null,null,null,null,null,null,null,0,{"$f":"Раздел2!D94","v":0}]
[null,"Шорт-трек","87",null,null,null,null,null,null,null,null,null,null,null,null,null,null,null,0,{"$f":"Раздел2!D95","v":0}]
[null,"Корэш","88",null,null,null,null,null,null,null,null,null,null,null,null,null,null,null,0,{"$f":"Раздел2!D96","v":0}]
[null,"Корфбол","89",null,null,null,null,null,null,null,null,null,null,null,null,null,null,null,0,{"$f":"Раздел2!D97","v":0}]
[null,"Кудо","90",null,null,null,null,null,null,null,null,null,null,null,null,null,null,null,0,{"$f":"Раздел2!D98","v":0}]
[null,"Лапта","91",1,null,null,null,null,null,null,null,null,null,null,null,null,null,1,1,{"$f":"Раздел2!D99","v":1}]
[null,"Легкая атлетика - всего","92",{"$f":"SUM(D100:D106)","v":0},{"$f":"SUM(E100:E106)","v":0},0,0,0,0,0,0,0,0,0,0,0,0,0,0,{"$f":"Раздел2!D100","v":0}]
[null,"в том числе:\nСпринтерский и барьерный бег","93",null,null,null,null,null,null,null,null,null,null,null,null,null,null,null,0,{"$f":"Раздел2!D101","v":0}]
[null,"Бег на средние дистанции и бег с препятствиями","94",null,null,null,null,null,null,null,null,null,null,null,null,null,null,null,0,{"$f":"Раздел2!D102","v":0}]
[null,"Бег на длинные и сверхдлинные дистанции","95",null,null,null,null,null,null,null,null,null,null,null,null,null,null,null,0,{"$f":"Раздел2!D103","v":0}]
[null,"Многоборья","96",null,null,null,null,null,null,null,null,null,null,null,null,null,null,null,0,{"$f":"Раздел2!D104","v":0}]
[null,"Прыжки","97",null,null,null,null,null,null,null,null,null,null,null,null,null,null,null,0,{"$f":"Раздел2!D105","v":0}]
[null,"Метания","98",null,null,null,null,null,null,null,null,null,null,null,null,null,null,null,0,{"$f":"Раздел2!D106","v":0}]
[null,"Спортивная ходьба","99",null,null,null,null,null,null,null,null,null,null,null,null,null,null,null,0,{"$f":"Раздел2!D107","v":0}]
[null,"Лыжное двоеборье","100",null,null,null,null,null,null,null,null,null,null,null,null,null,null,null,0,{"$f":"Раздел2!D108","v":0}]
[null,"Лыжные гонки","101",null,null,null,null,null,null,null,null,null,null,null,null,null,null,null,0,{"$f":"Раздел2!D109","v":0}]
[null,"Мас-рестлинг","102",null,null,null,null,null,null,null,null,null,null,null,null,null,null,null,0,{"$f":"Раздел2!D110","v":0}]
[null,"Международное военно-спортивное многоборье","103",null,null,null,null,null,null,null,null,null,null,null,null,null,null,null,0,{"$f":"Раздел2!D111","v":0}]
[null,"Многоборье кинологов","104",null,null,null,null,null,null,null,null,null,null,null,null,null,null,null,0,{"$f":"Раздел2!D112","v":0}]
[null,"Многоборье спасателей МЧС России","105",null,null,null,null,null,null,null,null,null,null,null,null,null,null,null,0,{"$f":"Раздел2!D113","v":0}]
[null,"Морское многоборье","106",null,null,null,null,null,null,null,null,null,null,null,null,null,null,null,0,{"$f":"Раздел2!D114","v":0}]
[null,"Мотоциклетный спорт","107",null,null,null,null,null,null,null,null,null,null,null,null,null,null,null,0,{"$f":"Раздел2!D115","v":0}]
[null,"Настольный теннис","108",1,null,null,null,null,null,null,null,null,null,null,null,null,null,1,1,{"$f":"Раздел2!D116","v":1}]
[null,"Парашютный спорт","109",null,null,null,null,null,null,null,null,null,null,null,null,null,null,null,0,{"$f":"Раздел2!D117","v":0}]
[null,"Парусный спорт","110",null,null,null,null,null,null,null,null,null,null,null,null,null,null,null,0,{"$f":"Раздел2!D118","v":0}]
[null,"Пауэрлифтинг","111",null,null,null,null,null,null,null,null,null,null,null,null,null,null,null,0,{"$f":"Раздел2!D119","v":0}]
[null,"Перетягивание каната","112",null,null,null,null,null,null,null,null,null,null,null,null,null,null,null,0,{"$f":"Раздел2!D120","v":0}]
[null,"Петанк","113",null,null,null,null,null,null,null,null,null,null,null,null,null,null,null,0,{"$f":"Раздел2!D121","v":0}]
[null,"Плавание - всего","114",{"$f":"SUM(D122:D123)","v":0},{"$f":"SUM(E122:E123)","v":0},0,0,0,0,0,0,0,0,0,0,0,0,0,0,{"$f":"Раздел2!D122","v":0}]
[null,"в том числе:\nПлавание ","115",null,null,null,null,null,null,null,null,null,null,null,null,null,null,null,0,{"$f":"Раздел2!D123","v":0}]
[null,"Открытая вода","116",null,null,null,null,null,null,null,null,null,null,null,null,null,null,null,0,{"$f":"Раздел2!D124","v":0}]
[null,"Планерный спорт","117",null,null,null,null,null,null,null,null,null,null,null,null,null,null,null,0,{"$f":"Раздел2!D125","v":0}]
[null,"Подводный спорт","118",null,null,null,null,null,null,null,null,null,null,null,null,null,null,null,0,{"$f":"Раздел2!D126","v":0}]
[null,"Пожарно-спасательный спорт","119",null,null,null,null,null,null,null,null,null,null,null,null,null,null,null,0,{"$f":"Раздел2!D127","v":0}]
[null,"Полиатлон","120",null,null,null,null,null,null,null,null,null,null,null,null,null,null,null,0,{"$f":"Раздел2!D128","v":0}]
[null,"Практическая стрельба","121",null,null,null,null,null,null,null,null,null,null,null,null,null,null,null,0,{"$f":"Раздел2!D129","v":0}]
[null,"Прыжки в воду - всего","122",{"$f":"SUM(D130:D131)","v":0},{"$f":"SUM(E130:E131)","v":0},0,0,0,0,0,0,0,0,0,0,0,0,0,0,{"$f":"Раздел2!D130","v":0}]
[null,"в том числе:\nПрыжки в воду","123",null,null,null,null,null,null,null,null,null,null,null,null,null,null,null,0,{"$f":"Раздел2!D131","v":0}]
[null,"Прыжки в открытый водоем","124",null,null,null,null,null,null,null,null,null,null,null,null,null,null,null,0,{"$f":"Раздел2!D132","v":0}]
[null,"Прыжки на батуте - всего","125",{"$f":"SUM(D133:D136)","v":0},{"$f":"SUM(E133:E136)","v":0},0,0,0,0,0,0,0,0,0,0,0,0,0,0,{"$f":"Раздел2!D133","v":0}]
[null,"в том числе:\nАкробатическая дорожка","126",null,null,null,null,null,null,null,null,null,null,null,null,null,null,null,0,{"$f":"Раздел2!D134","v":0}]
[null,"Двойной минитрамп","127",null,null,null,null,null,null,null,null,null,null,null,null,null,null,null,0,{"$f":"Раздел2!D135","v":0}]
[null,"Индивидуальные прыжки","128",null,null,null,null,null,null,null,null,null,null,null,null,null,null,null,0,{"$f":"Раздел2!D136","v":0}]
[null,"Синхронные прыжки","129",null,null,null,null,null,null,null,null,null,null,null,null,null,null,null,0,{"$f":"Раздел2!D137","v":0}]
[null,"Прыжки на лыжах с трамплина","130",null,null,null,null,null,null,null,null,null,null,null,null,null,null,null,{"$f":"D137","v":0},{"$f":"Раздел2!D138","v":0}]
[null,"Пулевая стрельба - всего","131",{"$f":"SUM(D139:D143)","v":0},{"$f":"SUM(E139:E143)","v":0},0,0,0,0,0,0,0,0,0,0,0,0,0,0,{"$f":"Раздел2!D139","v":0}]
[null,"в том числе:\nПневматическая винтовка","132",null,null,null,null,null,null,null,null,null,null,null,null,null,null,null,0,{"$f":"Раздел2!D140","v":0}]
[null,"Пневматический пистолет","133",null,null,null,null,null,null,null,null,null,null,null,null,null,null,null,0,{"$f":"Раздел2!D141","v":0}]
[null,"Малокалиберная винтовка","134",null,null,null,null,null,null,null,null,null,null,null,null,null,null,null,0,{"$f":"Раздел2!D142","v":0}]
[null,"Малокалиберный пистолет","135",null,null,null,null,null,null,null,null,null,null,null,null,null,null,null,0,{"$f":"Раздел2!D143","v":0}]
[null,"Движущаяся мишень","136",null,null,null,null,null,null,null,null,null,null,null,null,null,null,null,0,{"$f":"Раздел2!D144","v":0}]
[null,"Пэйнтбол","137",null,null,null,null,null,null,null,null,null,null,null,null,null,null,null,0,{"$f":"Раздел2!D145","v":0}]
[null,"Радиоспорт","138",null,null,null,null,null,null,null,null,null,null,null,null,null,null,null,0,{"$f":"Раздел2!D146","v":0}]
[null,"Рафтинг","139",null,null,null,null,null,null,null,null,null,null,null,null,null,null,null,0,{"$f":"Раздел2!D147","v":0}]
[null,"Регби - всего","140",{"$f":"SUM(D148:D151)","v":0},{"$f":"SUM(E148:E151)","v":0},0,0,0,0,0,0,0,0,0,0,0,0,0,0,{"$f":"Раздел2!D148","v":0}]
[null,"в том числе:\nРегби","141",null,null,null,null,null,null,null,null,null,null,null,null,null,null,null,0,{"$f":"Раздел2!D149","v":0}]
[null,"Регби 7 (муж.)","142",null,null,null,null,null,null,null,null,null,null,null,null,null,null,null,0,{"$f":"Раздел2!D150","v":0}]
[null,"Регби 7 (жен.)","143",null,null,null,null,null,null,null,null,null,null,null,null,null,null,null,0,{"$f":"Раздел2!D151","v":0}]
[null,"Регби - пляжное","144",null,null,null,null,null,null,null,null,null,null,null,null,null,null,null,0,{"$f":"Раздел2!D152","v":0}]
[null,"Регбол","145",null,null,null,null,null,null,null,null,null,null,null,null,null,null,null,0,{"$f":"Раздел2!D153","v":0}]
[null,"Роллер спорт","146",null,null,null,null,null,null,null,null,null,null,null,null,null,null,null,0,{"$f":"Раздел2!D154","v":0}]
[null,"Рукопашный бой","147",null,null,null,null,null,null,null,null,null,null,null,null,null,null,null,0,{"$f":"Раздел2!D155","v":0}]
[null,"Рыболовный спорт","148",null,null,null,null,null,null,null,null,null,null,null,null,null,null,null,0,{"$f":"Раздел2!D156","v":0}]
[null,"Сават","149",null,null,null,null,null,null,null,null,null,null,null,null,null,null,null,0,{"$f":"Раздел2!D157","v":0}]
[null,"Самбо","150",null,null,null,null,null,null,null,null,null,null,null,null,null,null,null,0,{"$f":"Раздел2!D158","v":0}]
[null,"Самолетный спорт","151",null,null,null,null,null,null,null,null,null,null,null,null,null,null,null,0,{"$f":"Раздел2!D159","v":0}]
[null,"Санный спорт","152",null,null,null,null,null,null,null,null,null,null,null,null,null,null,null,0,{"$f":"Раздел2!D160","v":0}]
[null,"Северное многоборье","153",null,null,null,null,null,null,null,null,null,null,null,null,null,null,null,0,{"$f":"Раздел2!D161","v":0}]
[null,"Серфинг","154",null,null,null,null,null,null,null,null,null,null,null,null,null,null,null,0,{"$f":"Раздел2!D162","v":0}]
[null,"Синхронное плавание","155",null,null,null,null,null,null,null,null,null,null,null,null,null,null,null,0,{"$f":"Раздел2!D163","v":0}]
[null,"Скалолазание","156",null,null,null,null,null,null,null,null,null,null,null,null,null,null,null,0,{"$f":"Раздел2!D164","v":0}]
[null,"Сквош","157",null,null,null,null,null,null,null,null,null,null,null,null,null,null,null,0,{"$f":"Раздел2!D165","v":0}]
[null,"Скейтбординг","158",null,null,null,null,null,null,null,null,null,null,null,null,null,null,null,0,{"$f":"Раздел2!D166","v":0}]
[null,"Служебно-боевая стрельба ","159",null,null,null,null,null,null,null,null,null,null,null,null,null,null,null,0,{"$f":"Раздел2!D167","v":0}]
[null,"Служебно-прикладной спорт","160",null,null,null,null,null,null,null,null,null,null,null,null,null,null,null,0,{"$f":"Раздел2!D168","v":0}]
[null,"Служебно-прикладной спорт ФСО России","161",null,null,null,null,null,null,null,null,null,null,null,null,null,null,null,0,{"$f":"Раздел2!D169","v":0}]
[null,"Служебно-прикладной спорт ФТС России","162",null,null,null,null,null,null,null,null,null,null,null,null,null,null,null,0,{"$f":"Раздел2!D170","v":0}]
[null,"Служебное двоеборье","163",null,null,null,null,null,null,null,null,null,null,null,null,null,null,null,0,{"$f":"Раздел2!D171","v":0}]
[null,"Служебное единоборство","164",null,null,null,null,null,null,null,null,null,null,null,null,null,null,null,0,{"$f":"Раздел2!D172","v":0}]
[null,"Служебное многоборье","165",null,null,null,null,null,null,null,null,null,null,null,null,null,null,null,0,{"$f":"Раздел2!D173","v":0}]
[null,"Служебный биатлон","166",null,null,null,null,null,null,null,null,null,null,null,null,null,null,null,0,{"$f":"Раздел2!D174","v":0}]
[null,"Спасательный спорт","167",null,null,null,null,null,null,null,null,null,null,null,null,null,null,null,0,{"$f":"Раздел2!D175","v":0}]
[null,"Стрельба из боевого ручного стрелкового оружия","168",null,null,null,null,null,null,null,null,null,null,null,null,null,null,null,0,{"$f":"Раздел2!D176","v":0}]
[null,"Стрельба из штатного или табельного оружия","169",null,null,null,null,null,null,null,null,null,null,null,null,null,null,null,0,{"$f":"Раздел2!D177","v":0}]
[null,"Смешанное боевое единоборство (ММА)","170",null,null,null,null,null,null,null,null,null,null,null,null,null,null,null,0,{"$f":"Раздел2!D178","v":0}]
[null,"Сноуборд","171",null,null,null,null,null,null,null,null,null,null,null,null,null,null,null,0,{"$f":"Раздел2!D179","v":0}]
[null,"Современное пятиборье","172",null,null,null,null,null,null,null,null,null,null,null,null,null,null,null,0,{"$f":"Раздел2!D180","v":0}]
[null,"Софтбол","173",null,null,null,null,null,null,null,null,null,null,null,null,null,null,null,0,{"$f":"Раздел2!D181","v":0}]
[null,"Спорт сверхлегкой авиации","174",null,null,null,null,null,null,null,null,null,null,null,null,null,null,null,0,{"$f":"Раздел2!D182","v":0}]
[null,"Спортивная акробатика","175",null,null,null,null,null,null,null,null,null,null,null,null,null,null,null,0,{"$f":"Раздел2!D183","v":0}]
[null,"Спортивная аэробика","176",null,null,null,null,null,null,null,null,null,null,null,null,null,null,null,0,{"$f":"Раздел2!D184","v":0}]
[null,"Спортивная борьба - всего","177",{"$f":"SUM(D185:D189)","v":5},{"$f":"SUM(E185:E189)","v":2},1,1,1,1,1,1,0,0,0,1,1,0,5,5,{"$f":"Раздел2!D185","v":1}]
[null,"в том числе:\nВольная борьба","178",5,2,1,1,1,1,1,1,null,null,null,1,1,null,5,5,{"$f":"Раздел2!D186","v":1}]
[null,"Греко-римская борьба","179",null,null,null,null,null,null,null,null,null,null,null,null,null,null,null,0,{"$f":"Раздел2!D187","v":0}]
[null,"Грэпплинг","180",null,null,null,null,null,null,null,null,null,null,null,null,null,null,null,0,{"$f":"Раздел2!D188","v":0}]
[null,"Грэпплинг-ги","181",null,null,null,null,null,null,null,null,null,null,null,null,null,null,null,0,{"$f":"Раздел2!D189","v":0}]
[null,"Панкратион","182",null,null,null,null,null,null,null,null,null,null,null,null,null,null,null,0,{"$f":"Раздел2!D190","v":0}]
[null,"Спортивная гимнастика","183",null,null,null,null,null,null,null,null,null,null,null,null,null,null,null,0,{"$f":"Раздел2!D191","v":0}]
[null,"Спортивная йога","184",null,null,null,null,null,null,null,null,null,null,null,null,null,null,null,0,{"$f":"Раздел2!D192","v":0}]
[null,"Спортивно-прикладное собаководство","185",null,null,null,null,null,null,null,null,null,null,null,null,null,null,null,0,{"$f":"Раздел2!D193","v":0}]
[null,"Спортивное ориентирование","186",null,null,null,null,null,null,null,null,null,null,null,null,null,null,null,0,{"$f":"Раздел2!D194","v":0}]
[null,"Спортивный бридж","187",null,null,null,null,null,null,null,null,null,null,null,null,null,null,null,0,{"$f":"Раздел2!D195","v":0}]
[null,"Спортивный туризм","188",null,null,null,null,null,null,null,null,null,null,null,null,null,null,null,0,{"$f":"Раздел2!D196","v":0}]
[null,"Стендовая стрельба - всего","189",{"$f":"SUM(D197:D200)","v":0},{"$f":"SUM(E197:E200)","v":0},0,0,0,0,0,0,0,0,0,0,0,0,0,0,{"$f":"Раздел2!D197","v":0}]
[null,"в том числе:\nТрап","190",null,null,null,null,null,null,null,null,null,null,null,null,null,null,null,0,{"$f":"Раздел2!D198","v":0}]
[null,"Скит","191",null,null,null,null,null,null,null,null,null,null,null,null,null,null,null,0,{"$f":"Раздел2!D199","v":0}]
[null,"Дубль-трап","192",null,null,null,null,null,null,null,null,null,null,null,null,null,null,null,0,{"$f":"Раздел2!D200","v":0}]
[null,"Спортинг","193",null,null,null,null,null,null,null,null,null,null,null,null,null,null,null,0,{"$f":"Раздел2!D201","v":0}]
[null,"Страйкбол","194",null,null,null,null,null,null,null,null,null,null,null,null,null,null,null,{"$f":"D201","v":0},{"$f":"Раздел2!D202","v":0}]
[null,"Стрельба из арбалета","195",null,null,null,null,null,null,null,null,null,null,null,null,null,null,null,0,{"$f":"Раздел2!D203","v":0}]
[null,"Стрельба из лука - всего","196",{"$f":"SUM(D204:D206)","v":0},{"$f":"SUM(E204:E206)","v":0},0,0,0,0,0,0,0,0,0,0,0,0,0,0,{"$f":"Раздел2!D204","v":0}]
[null,"в том числе:\nКлассический лук","197",null,null,null,null,null,null,null,null,null,null,null,null,null,null,null,0,{"$f":"Раздел2!D205","v":0}]
[null,"   Блочный лук","198",null,null,null,null,null,null,null,null,null,null,null,null,null,null,null,0,{"$f":"Раздел2!D206","v":0}]
[null,"   Ачери ","199",null,null,null,null,null,null,null,null,null,null,null,null,null,null,null,0,{"$f":"Раздел2!D207","v":0}]
[null,"Судомодельный спорт","200",null,null,null,null,null,null,null,null,null,null,null,null,null,null,null,0,{"$f":"Раздел2!D208","v":0}]
[null,"Сумо","201",null,null,null,null,null,null,null,null,null,null,null,null,null,null,null,0,{"$f":"Раздел2!D209","v":0}]
[null,"Таврели","202",null,null,null,null,null,null,null,null,null,null,null,null,null,null,null,0,{"$f":"Раздел2!D210","v":0}]
[null,"Тайский бокс","203",null,null,null,null,null,null,null,null,null,null,null,null,null,null,null,0,{"$f":"Раздел2!D211","v":0}]
[null,"Танцевальный спорт","204",null,null,null,null,null,null,null,null,null,null,null,null,null,null,null,0,{"$f":"Раздел2!D212","v":0}]
[null,"Теннис","205",null,null,null,null,null,null,null,null,null,null,null,null,null,null,null,0,{"$f":"Раздел2!D213","v":0}]
[null,"Триатлон","206",null,null,null,null,null,null,null,null,null,null,null,null,null,null,null,0,{"$f":"Раздел2!D214","v":0}]
[null,"Тхэквондо - всего","207",{"$f":"SUM(D215:D216)","v":0},{"$f":"SUM(E215:E216)","v":0},0,0,0,0,0,0,0,0,0,0,0,0,0,0,{"$f":"Раздел2!D215","v":0}]
[null,"в том числе:\nТхэквондо (ВТФ)","208",null,null,null,null,null,null,null,null,null,null,null,null,null,null,null,0,{"$f":"Раздел2!D216","v":0}]
[null,"Тхэквондо (ГТФ, МФТ)","209",null,null,null,null,null,null,null,null,null,null,null,null,null,null,null,0,{"$f":"Раздел2!D217","v":0}]
[null,"Тхэквондо ИТФ","210",null,null,null,null,null,null,null,null,null,null,null,null,null,null,null,0,{"$f":"Раздел2!D218","v":0}]
[null,"Тяжелая атлетика","211",null,null,null,null,null,null,null,null,null,null,null,null,null,null,null,0,{"$f":"Раздел2!D219","v":0}]
[null,"Универсальный бой","212",null,null,null,null,null,null,null,null,null,null,null,null,null,null,null,0,{"$f":"Раздел2!D220","v":0}]
[null,"Ушу","213",null,null,null,null,null,null,null,null,null,null,null,null,null,null,null,0,{"$f":"Раздел2!D221","v":0}]
[null,"Фехтование - всего","214",{"$f":"SUM(D222:D225)","v":0},{"$f":"SUM(E222:E225)","v":0},0,0,0,0,0,0,0,0,0,0,0,0,0,0,{"$f":"Раздел2!D222","v":0}]
[null,"в том числе:\nРапира","215",null,null,null,null,null,null,null,null,null,null,null,null,null,null,null,0,{"$f":"Раздел2!D223","v":0}]
[null,"Сабля","216",null,null,null,null,null,null,null,null,null,null,null,null,null,null,null,0,{"$f":"Раздел2!D224","v":0}]
[null,"Шпага","217",null,null,null,null,null,null,null,null,null,null,null,null,null,null,null,0,{"$f":"Раздел2!D225","v":0}]
[null,"Арт-фехтование","218",null,null,null,null,null,null,null,null,null,null,null,null,null,null,null,0,{"$f":"Раздел2!D226","v":0}]
[null,"Фигурное катание на коньках","219",null,null,null,null,null,null,null,null,null,null,null,null,null,null,null,0,{"$f":"Раздел2!D227","v":0}]
[null,"Фитнес-аэробика","220",null,null,null,null,null,null,null,null,null,null,null,null,null,null,null,0,{"$f":"Раздел2!D228","v":0}]
[null,"Флаинг диск","221",null,null,null,null,null,null,null,null,null,null,null,null,null,null,null,0,{"$f":"Раздел2!D229","v":0}]
[null,"Флорбол","222",null,null,null,null,null,null,null,null,null,null,null,null,null,null,null,0,{"$f":"Раздел2!D230","v":0}]
[null,"Фристайл - всего","223",{"$f":"SUM(D231:D236)","v":0},{"$f":"SUM(E231:E236)","v":0},0,0,0,0,0,0,0,0,0,0,0,0,0,0,{"$f":"Раздел2!D231","v":0}]
[null,"в том числе:\nАкробатика","224",null,null,null,null,null,null,null,null,null,null,null,null,null,null,null,0,{"$f":"Раздел2!D232","v":0}]
[null,"Биг-эйр","225",null,null,null,null,null,null,null,null,null,null,null,null,null,null,null,0,{"$f":"Раздел2!D233","v":0}]
[null,"Могул","226",null,null,null,null,null,null,null,null,null,null,null,null,null,null,null,0,{"$f":"Раздел2!D234","v":0}]
[null,"Ски-кросс","227",null,null,null,null,null,null,null,null,null,null,null,null,null,null,null,0,{"$f":"Раздел2!D235","v":0}]
[null,"Хаф-пайп","228",null,null,null,null,null,null,null,null,null,null,null,null,null,null,null,0,{"$f":"Раздел2!D236","v":0}]
[null,"Слоуп-стайл","229",null,null,null,null,null,null,null,null,null,null,null,null,null,null,null,0,{"$f":"Раздел2!D237","v":0}]
[null,"Функциональное многоборье","230",null,null,null,null,null,null,null,null,null,null,null,null,null,null,null,0,{"$f":"Раздел2!D238","v":0}]
[null,"Футбол - всего","231",{"$f":"SUM(D239:D242)","v":2},{"$f":"SUM(E239:E242)","v":0},0,0,0,0,0,0,0,0,0,0,0,0,2,2,{"$f":"Раздел2!D239","v":1}]
[null,"в том числе:\nФутбол (муж.)","232",2,null,null,null,null,null,null,null,null,null,null,null,null,null,2,2,{"$f":"Раздел2!D240","v":1}]
[null,"Футбол (жен.)","233",null,null,null,null,null,null,null,null,null,null,null,null,null,null,null,0,{"$f":"Раздел2!D241","v":0}]
[null,"Мини-футбол (футзал)","234",null,null,null,null,null,null,null,null,null,null,null,null,null,null,null,0,{"$f":"Раздел2!D242","v":0}]
[null,"Пляжный футбол","235",null,null,null,null,null,null,null,null,null,null,null,null,null,null,null,0,{"$f":"Раздел2!D243","v":0}]
[null,"Футгольф","236",null,null,null,null,null,null,null,null,null,null,null,null,null,null,null,0,{"$f":"Раздел2!D244","v":0}]
[null,"Хапкидо","237",null,null,null,null,null,null,null,null,null,null,null,null,null,null,null,0,{"$f":"Раздел2!D245","v":0}]
[null,"Хапсагай","238",null,null,null,null,null,null,null,null,null,null,null,null,null,null,null,0,{"$f":"Раздел2!D246","v":0}]
[null,"Хоккей - всего","239",{"$f":"SUM(D247:D248)","v":0},{"$f":"SUM(E247:E248)","v":0},0,0,0,0,0,0,0,0,0,0,0,0,0,0,{"$f":"Раздел2!D247","v":0}]
[null,"в том числе:\nХоккей (муж.)","240",null,null,null,null,null,null,null,null,null,null,null,null,null,null,null,0,{"$f":"Раздел2!D248","v":0}]
[null,"Хоккей (жен.)","241",null,null,null,null,null,null,null,null,null,null,null,null,null,null,null,0,{"$f":"Раздел2!D249","v":0}]
[null,"Хоккей на траве - всего","242",{"$f":"SUM(D250:D252)","v":0},{"$f":"SUM(E250:E252)","v":0},0,0,0,0,0,0,0,0,0,0,0,0,0,0,{"$f":"Раздел2!D250","v":0}]
[null,"в том числе:\nХоккей на траве (муж.)","243",null,null,null,null,null,null,null,null,null,null,null,null,null,null,null,0,{"$f":"Раздел2!D251","v":0}]
[null,"Хоккей на траве (жен.)","244",null,null,null,null,null,null,null,null,null,null,null,null,null,null,null,0,{"$f":"Раздел2!D252","v":0}]
[null,"Индорхоккей","245",null,null,null,null,null,null,null,null,null,null,null,null,null,null,null,0,{"$f":"Раздел2!D253","v":0}]
[null,"Хоккей с мячом","246",null,null,null,null,null,null,null,null,null,null,null,null,null,null,null,0,{"$f":"Раздел2!D254","v":0}]
[null,"Художественная гимнастика","247",null,null,null,null,null,null,null,null,null,null,null,null,null,null,null,0,{"$f":"Раздел2!D255","v":0}]
[null,"Хуреш","248",null,null,null,null,null,null,null,null,null,null,null,null,null,null,null,0,{"$f":"Раздел2!D256","v":0}]
[null,"Чир спорт","249",null,null,null,null,null,null,null,null,null,null,null,null,null,null,null,0,{"$f":"Раздел2!D257","v":0}]
[null,"Шахматы","250",3,1,1,null,1,null,null,1,null,null,null,null,1,null,3,3,{"$f":"Раздел2!D258","v":1}]
[null,"Шашки","251",null,null,null,null,null,null,null,null,null,null,null,null,null,null,null,0,{"$f":"Раздел2!D259","v":0}]
[null,"Шодсанлат","252",null,null,null,null,null,null,null,null,null,null,null,null,null,null,null,0,{"$f":"Раздел2!D260","v":0}]
[null,"Эстетическая гимнастика","253",null,null,null,null,null,null,null,null,null,null,null,null,null,null,null,0,{"$f":"Раздел2!D261","v":0}]
[null,"Якутские национальные прыжки","254",null,null,null,null,null,null,null,null,null,null,null,null,null,null,null,0,{"$f":"Раздел2!D262","v":0}]
[null,"ИТОГО","255",{"$f":"SUM(D8:D19,D22:D25,D28:D32,D37:D40,D43:D48,D53:D55,D59:D68,D73:D82,D86:D92,D95:D99,D107:D121,D124:D129,D132,D137:D138,D144:D147,D152:D184,D190:D196,D201:D203,D207:D214,D217:D221,D226:D230,D237:D238,D243:D246,D249,D253:D261)","v":24},{"$f":"SUM(E8:E19,E22:E25,E28:E32,E37:E40,E43:E48,E53:E55,E59:E68,E73:E82,E86:E92,E95:E99,E107:E121,E124:E129,E132,E137:E138,E144:E147,E152:E184,E190:E196,E201:E203,E207:E214,E217:E221,E226:E230,E237:E238,E243:E246,E249,E253:E261)","v":5},4,1,4,1,2,3,0,0,0,3,2,0,24,24,{"$f":"Раздел2!D263","v":8}]

{"sheet":"Раздел10","index":10,"n_rows":29,"n_cols":17,"rows_kept":29,"cut":false,"hidden":false,"merged":[[1,14,28,14],[4,9,4,11],[4,12,4,13],[3,5,3,13],[4,5,4,8],[2,11,2,13],[0,0,0,8],[3,1,6,1],[3,2,6,2],[1,1,1,13],[3,3,4,4],[5,12,6,12],[1,0,28,0],[5,11,6,11],[5,10,6,10],[5,6,6,6],[5,3,6,3],[5,13,6,13],[5,4,6,4],[5,9,6,9],[5,5,6,5],[5,7,5,8]]}
[]
[null,"Раздел X. Административные работники и специалисты"]
[null,null,null,null,null,null,null,null,null,null,null,"Код по ОКЕИ: человек – 792"]
[null,"Наименование должности","№ строки","Число работников",null,"из них имеют (из гр. 4):"]
[null,null,null,null,null,"профессиональное образование",null,null,null,"квалификационную категорию",null,null,"почетные звания"]
[null,null,null,"Всего","в том числе штатные","высшее","среднее","в том числе\nфизкультурное",null,"высшую","первую","вторую","Заслужен-ный тренер России","Заслуженный работник физической культуры Российской Федерации"]
[null,null,null,null,null,null,null,"высшее","среднее"]
[null,1,2,3,4,5,6,7,8,9,10,11,12,13]
[null,"Директор (руководитель)","01",1,1,1,null,1,null,1,null,null,null,null,null,null,{"$f":"#REF!","v":{"$error":"#REF!"}}]
[null,"Заместители директора (руководителя)","02",{"$f":"SUM(D11:D14)","v":1},{"$f":"SUM(E11:E14)","v":1},1,0,0,0,0,0,0,0,0]
[null,"      в том числе:\n   по учебно-спортивной работе","03"]
[null,"   по учебно-воспитательной работе","04",1,1,1]
[null,"   по научно-методической работе","05"]
[null,"   другие","06"]
[null,"Инструктор по спорту","07"]
[null,"Спортсмен, спортсмен-инструктор","08",null,null,null,null,null,null,null,null,null,null,null,null,{"$f":"Раздел2!S226","v":0}]
[null,"Инструктор – методист (включая старшего)","09"]
[null,"Техник (специалист) по эксплуатации и ремонту спортивной техники, инвентаря и снаряжения",10]
[null,"Преподаватель",11]
[null,"Воспитатель (включая старшего)",12]
[null,"Методист (включая старшего)",13]
[null,"Педагог – психолог",14]
[null,"Медицинские работники:",15,{"$f":"SUM(D24:D26)","v":0},{"$f":"SUM(E24:E26)","v":0},0,0,0,0,0,0,0,{"$f":"SUM(M24:M26)","v":0},0]
[null,"   в том числе:\n   врачи",16]
[null,"   средний медицинский персонал",17]
[null,"   младший медицинский персонал",18]
[null,"Специалисты спортсооружений",19]
[null,"Прочий персонал",20,1,1,null,1]
[null,"ИТОГО",21,{"$f":"SUM(D9,D10,D15:D23,D27:D28)","v":3},{"$f":"SUM(E9,E10,E15:E23,E27:E28)","v":3},2,1,1,0,1,0,0,{"$f":"SUM(M9,M10,M15:M23,M27:M28)","v":0},0]

{"sheet":"Раздел11","index":11,"n_rows":42,"n_cols":16,"rows_kept":42,"cut":false,"hidden":false,"merged":[[3,15,5,15],[0,0,0,8],[3,1,5,1],[3,2,5,2],[3,4,3,8],[3,14,5,14],[1,1,1,14],[3,3,5,3],[4,4,5,4],[4,5,4,8],[3,9,3,13],[4,9,5,9],[4,10,4,13],[1,0,41,0],[2,11,2,15]]}
[]
[null,"Раздел XI. Спортивные сооружения"]
[null,null,null,null,null,null,null,null,null,null,null,"Код по ОКЕИ: единица – 642"]
[null,"Наименование спортивного сооружения","№ стро-ки","Число спортивных сооружений – всего","находящихся на балансе (из гр. 3)",null,null,null,null,"арендуемых (из гр. 3)",null,null,null,null,"используемых на безвозмездной основе\n(из гр. 3)","Количество спортсооружений, входящих во Всероссийский реестр объектов спорта (из гр. 3)"]
[null,null,null,null,"всего","в том числе по формам собственности:",null,null,null,"всего","в том числе по формам собственности:"]
[null,null,null,null,null,"федеральной","субъектов Российской Федерации","муници-пальной","другой",null,"федеральной","субъектов Российской Федерации","муници-пальной","другой"]
[null,1,2,3,4,5,6,7,8,9,10,11,12,13,14,15]
[null,"Стадионы с трибунами – всего","01",{"$f":"E8+J8+O8","v":0},{"$f":"SUM(F8:I8)","v":0},null,null,null,null,{"$f":"SUM(K8:N8)","v":0}]
[null,"в том числе на 1500 мест и более","02",{"$f":"E9+J9+O9","v":0},{"$f":"SUM(F9:I9)","v":0},null,null,null,null,{"$f":"SUM(K9:N9)","v":0}]
[null,"Плоскостные спортивные сооружения - всего","03",1,0,{"$f":"F11+F12","v":0},{"$f":"G11+G12","v":0},0,0,0,0,0,0,0,{"$f":"O11+O12","v":1},0]
[null,"в том числе:\nПлоскостные спортивные сооружения","04",0,0,null,null,null,null,0]
[null,"Футбольные поля","05",1,0,null,null,null,null,0,null,null,null,null,1]
[null,"Спортивные залы – всего","06",12,2,{"$f":"SUM(F14:F17)","v":0},{"$f":"SUM(G14:G17)","v":0},2,0,0,0,0,0,0,10,0]
[null,"      в том числе размером:\n     (42 х 24 м)","07",0,0,null,null,null,null,0]
[null,"     (36 х 18 м); (30 х 18 м) и (30 х 15 м)","08",0,0,null,null,null,null,0]
[null,"     (24 х 12 м) и (18 х 9 м)","09",8,0,null,null,null,null,0,null,null,null,null,8]
[null,"     иных размеров",10,4,2,null,null,2,null,0,null,null,null,null,2]
[null,"Манежи легкоатлетические",11,0,0,null,null,null,null,0]
[null,"Манежи футбольные",12,0,0,null,null,null,null,0]
[null,"Велотреки",13,0,0,null,null,null,null,0]
[null,"Велодромы",14,0,0,null,null,null,null,0]
[null,"Бассейны – всего",15,0,0,{"$f":"SUM(F23:F26)","v":0},{"$f":"SUM(G23:G26)","v":0},0,0,0,0,0,0,0,0,0]
[null,"     в том числе: \n     плавательные 50-метровые",16,0,0,null,null,null,null,0]
[null,"     плавательные 25-метровые",17,0,0,null,null,null,null,0]
[null,"     нестандартных размеров",18,0,0,null,null,null,null,0]
[null,"     для прыжков в воду",19,0,0,null,null,null,null,0]
[null,"         из строки 15 - крытые",20,0,0,null,null,null,null,0]
[null,"Гребные базы",21,0,0,null,null,null,null,0]
[null,"Гребные каналы",22,0,0,null,null,null,null,0]
[null,"Крытые спортивные объекты с искусственным льдом – всего",23,0,0,{"$f":"SUM(F31:F32)","v":0},{"$f":"SUM(G31:G32)","v":0},0,0,0,0,0,0,0,0,0]
[null,"  в том числе:\n  крытые спортивные объекты с искусственным     льдом ",24,0,0,null,null,null,null,0]
[null,"     конькобежные",25,0,0,null,null,null,null,0]
[null,"Лыжные базы",26,0,0,null,null,null,null,0]
[null,"Лыжные стадионы",27,0,0,null,null,null,null,0]
[null,"Биатлонные комплексы",28,0,0,null,null,null,null,0]
[null,"Сооружения для стрелковых видов спорта – всего",29,0,0,{"$f":"SUM(F37:F40)","v":0},{"$f":"SUM(G37:G40)","v":0},0,0,0,0,0,0,0,0,0]
[null,"     в том числе: \n     тиры",30,0,0,null,null,null,null,0]
[null,"     стрельбища",31,0,0,null,null,null,null,0]
[null,"     стенды",32,0,0,null,null,null,null,0]
[null,"     лукодромы",33,0,0,null,null,null,null,0]
[null,"Другие спортивные сооружения",34,0,0,null,null,null,null,0]
[null,"ИТОГО",35,13,2,{"$f":"SUM(F8,F10,F13,F18:F22,F28:F30,F33:F36,F41)","v":0},{"$f":"SUM(G8,G10,G13,G18:G22,G28:G30,G33:G36,G41)","v":0},2,0,0,0,0,0,0,{"$f":"SUM(O8,O10,O13,O18:O22,O28:O30,O33:O36,O41)","v":11},0]

{"sheet":"Раздел12","index":12,"n_rows":29,"n_cols":21,"rows_kept":29,"cut":false,"hidden":false,"merged":[[5,8,5,10],[5,11,5,13],[0,0,0,8],[1,0,28,0],[1,1,1,13],[1,14,28,14],[2,11,2,13],[3,1,6,1],[3,2,6,2],[3,3,4,4],[3,5,3,13],[4,5,4,7],[4,8,4,13],[5,3,6,3],[5,4,6,4],[5,5,5,6],[5,7,6,7]]}
[]
[null,"Раздел XII. Сведения о численности и оплате труда работников"]
[null,null,null,null,null,null,null,null,null,null,null,"Коды по ОКЕИ: человек – 792; тысяча рублей – 384"]
[null,"Наименование должности","№ строки","Средняя численность работников, человек",null,"Фонд начисленной заработной платы работников, тыс. руб."]
[null,null,null,null,null,"всего",null,null,"по источникам финансирования"]
[null,null,null,"списочного состава\n(без внеш-них совме-стителей)\n","внешних совме-стителей","списочного состава (без внешних совместителей)",null,"внешних совме-стителей","списочного состава\n(без внешних совместителей)",null,null,"внешних совместителей"]
[null,null,null,null,null,"всего","в том числе по внутреннему совместитель-ству",null,"средства бюджетов всех уровней\n(субсидий)","ОМС","средства от приносящей доход деятельности","средства бюджетов всех уровней\n(субсидий)","ОМС","средства от приносящей доход деятельности"]
[null,1,2,3,4,5,6,7,8,9,10,11,12,13]
[null,"Директор","01",1,null,652.70000000000005,null,null,652.70000000000005,null,null,null,null,null,null,{"$f":"Раздел13!D8","v":652.70000000000005},{"$f":"Раздел13!E8+Раздел13!F8+Раздел13!G8","v":652.70000000000005},{"$f":"Раздел13!H8","v":0},{"$f":"Раздел13!D8","v":652.70000000000005},{"$f":"Раздел13!AU8","v":652.70000000000005},{"$f":"Раздел13!AV8","v":0}]
[null,"Заместители директора, руководители структурных подразделений и их заместители","02",1,null,382.1,null,null,382.1,null,null,null,null,null,null,{"$f":"Раздел13!D9","v":382.1},{"$f":"Раздел13!E9+Раздел13!F9+Раздел13!G9","v":382.1},{"$f":"Раздел13!H9","v":0},{"$f":"Раздел13!D9","v":382.1},{"$f":"Раздел13!AU9","v":382.1},{"$f":"Раздел13!AV9","v":0}]
[null,"Работники учреждений, осуществляющие спортивную подготовку:","03",{"$f":"D12+D19","v":4},{"$f":"E12+E19","v":19},{"$f":"F12+F19","v":1667.3},0,1038.8,{"$f":"I12+I19","v":1667.3},0,0,1038.8,0,0,null,null,null,null,null,{"$f":"Раздел13!AU10","v":2706.1},{"$f":"Раздел13!AV10","v":0}]
[null,"     тренерский персонал - всего:","04",{"$f":"SUM(D13:D15)","v":4},{"$f":"SUM(E13:E15)","v":19},{"$f":"SUM(F13:F15)","v":1667.3},0,1038.8,1667.3,0,0,1038.8,0,0,null,{"$f":"Раздел13!D10","v":2706.1},{"$f":"Раздел13!E10+Раздел13!F10+Раздел13!G10","v":2706.1},{"$f":"Раздел13!H10","v":0},{"$f":"Раздел13!D10","v":2706.1},{"$f":"Раздел13!AU11","v":0},{"$f":"Раздел13!AV10","v":0}]
[null,"   в том числе:\n   главные тренеры по видам спорта","05",null,null,null,null,null,null,null,null,null,null,null,null,null,null,null,null,{"$f":"Раздел13!AU12","v":0},{"$f":"Раздел13!AV12","v":0}]
[null,"      старшие тренеры по видам спорта ","06",null,null,null,null,null,null,null,null,null,null,null,null,null,null,null,null,{"$f":"Раздел13!AU13","v":76.400000000000006},{"$f":"Раздел13!AV13","v":0}]
[null,"тренеры по видам спорта - всего:","07",{"$f":"SUM(D16:D18)","v":4},{"$f":"SUM(E16:E18)","v":19},1667.3,0,1038.8,1667.3,0,0,1038.8,0,0,null,null,null,null,null,{"$f":"Раздел13!AU14","v":1161.4000000000001},{"$f":"Раздел13!AV14","v":0}]
[null,"       в том числе:\n       тренеры","08",null,null,null,null,null,null,null,null,null,null,null,null,null,null,null,null,{"$f":"Раздел13!AU15","v":0},{"$f":"Раздел13!AV15","v":0}]
[null,"          тренеры-преподаватели","09",4,19,1667.3,null,1038.8,1667.3,null,null,1038.8,null,null,null,null,null,null,null,{"$f":"Раздел13!AU16","v":0},{"$f":"Раздел13!AV16","v":0}]
[null,"          хореографы","10"]
[null,"      методический персонал:",11,{"$f":"SUM(D20:D22)","v":0},{"$f":"SUM(E20:E22)","v":0},0,0,0,0,0,0,0,0,0,null,{"$f":"Раздел13!D11","v":0},{"$f":"Раздел13!E11+Раздел13!F11+Раздел13!G11","v":0},{"$f":"Раздел13!H11","v":0},{"$f":"Раздел13!D11","v":0},{"$f":"Раздел13!AU11","v":0},{"$f":"Раздел13!AV11","v":0}]
[null,"      в том числе:\n      инструкторы-методисты;",12]
[null,"      старшие инструкторы-методисты",13]
[null,"      спортсмены, спортсмены- инструкторы",14]
[null,"Медицинские работники - всего:",15,{"$f":"SUM(D24:D26)","v":0},{"$f":"SUM(E24:E26)","v":0},0,0,0,0,0,0,0,0,0,null,{"$f":"Раздел13!D12","v":0},{"$f":"Раздел13!E12+Раздел13!F12+Раздел13!G12","v":0},{"$f":"Раздел13!H12","v":0},{"$f":"Раздел13!D12","v":0},{"$f":"Раздел13!AU12","v":0},{"$f":"Раздел13!AV12","v":0}]
[null,"   в том числе:\n   врачи",16]
[null,"     средний медицинский персонал",17]
[null,"     младший медицинский персонал",18]
[null,"Прочий персонал",19,1,null,76.400000000000006,null,0,76.400000000000006,null,null,null,null,null,null,{"$f":"Раздел13!D13","v":76.400000000000006},{"$f":"Раздел13!E13+Раздел13!F13+Раздел13!G13","v":76.400000000000006},{"$f":"Раздел13!H13","v":0},{"$f":"Раздел13!D13","v":76.400000000000006},{"$f":"Раздел13!AU13","v":76.400000000000006},{"$f":"Раздел13!AV13","v":0}]
[null,"Страховые взносы с заработной платы",20,null,null,847.7,null,313.7,847.7,null,null,313.7,null,null,null,{"$f":"Раздел13!D14","v":1161.4000000000001},{"$f":"Раздел13!E14+Раздел13!F14+Раздел13!G14","v":1161.4000000000001},{"$f":"Раздел13!H14","v":0},{"$f":"Раздел13!D14","v":1161.4000000000001},{"$f":"Раздел13!AU14","v":1161.4000000000001},{"$f":"Раздел13!AV14","v":0}]
[null,"ИТОГО",21,{"$f":"SUM(D9,D10,D11,D23,D27,D28)","v":7},{"$f":"SUM(E9,E10,E11,E23,E27,E28)","v":19},3626.2000000000007,0,1352.5,{"$f":"SUM(I9,I10,I11,I23,I27,I28)","v":3626.2000000000007},0,0,1352.5,0,0,null,{"$f":"Раздел13!D7","v":4978.7000000000007},{"$f":"Раздел13!H7","v":0},{"$f":"Раздел13!E7+Раздел13!F7+Раздел13!G7","v":4978.7000000000007},{"$f":"Раздел13!D7","v":4978.7000000000007},{"$f":"Раздел13!AU7","v":4978.7000000000007},{"$f":"Раздел13!AV7","v":0}]

{"sheet":"Раздел13","index":13,"n_rows":41,"n_cols":49,"rows_kept":41,"cut":false,"hidden":false,"merged":[[1,40,1,42],[40,13,40,14],[40,23,43,24],[36,7,36,16],[37,7,37,15],[39,7,39,16],[36,23,36,24],[1,5,1,7],[2,5,3,5],[2,6,3,6],[2,7,3,7],[0,1,0,7],[37,1,37,4],[37,23,37,24],[39,2,39,3],[0,0,43,0],[31,4,31,6],[36,1,36,4],[40,2,41,3],[2,3,3,3],[2,2,3,2],[2,1,3,1],[2,4,3,4]]}
[null,"Раздел XIII. Финансовая деятельность организаций"]
[null,null,null,null,null,"Код по ОКЕИ: тысяча рублей – 384",null,null,null,null,null,null,null,null,null,null,null,null,null,null,null,null,null,null,null,null,null,null,null,null,null,null,null,null,null,null,null,null,null,null,"Код по ОКЕИ: тысяча рублей – 384"]
[null,"Расходы на содержание организаций \n(в тысячах рублей)","№ строки","ВСЕГО","федеральный бюджет","бюджет субъекта Российской Федерации","муниципальный бюджет","внебюджетные источники"]
[]
[null,1,2,3,4,5,6,7]
[null,"Всего расходов","01",{"$f":"SUM(E6:H6)","v":5231.7000000000007},{"$f":"SUM(E7,E15,E16,E22,E25,E29)","v":0},{"$f":"SUM(F7,F15,F16,F22,F25,F29)","v":0},5231.7000000000007,0]
[null,"в том числе: \nЗаработная плата - всего","02",{"$f":"SUM(E7:H7)","v":4978.7000000000007},{"$f":"SUM(E8:E14)","v":0},{"$f":"SUM(F8:F14)","v":0},4978.7000000000007,0,null,{"$f":"Раздел12!I29+Раздел12!L29","v":4978.7000000000007},{"$f":"Раздел12!K29+Раздел12!N29","v":0},null,null,null,null,null,null,null,null,null,null,null,null,null,null,null,null,null,null,null,null,null,null,null,null,null,null,null,null,null,null,null,null,null,{"$f":"#REF!+#REF!","v":{"$error":"#REF!"}},{"$f":"#REF!+#REF!","v":{"$error":"#REF!"}},{"$f":"SUM(E7:G7,O7:Q7,Y7:AA7,AD7:AF7,AN7:AP7)","v":4978.7000000000007},{"$f":"H7+R7+AB7+AG7+AQ7","v":0},{"$f":"#REF!+#REF!","v":{"$error":"#REF!"}}]
[null,"в том числе:\nдиректор","03",{"$f":"SUM(E8:H8)","v":652.70000000000005},null,null,652.70000000000005,null,null,{"$f":"Раздел12!I9+Раздел12!L9","v":652.70000000000005},{"$f":"Раздел12!K9+Раздел12!N9","v":0},null,null,null,null,null,null,null,null,null,null,null,null,null,null,null,null,null,null,null,null,null,null,null,null,null,null,null,null,null,null,null,null,null,{"$f":"#REF!+#REF!","v":{"$error":"#REF!"}},{"$f":"#REF!+#REF!","v":{"$error":"#REF!"}},{"$f":"SUM(E8:G8,O8:Q8,Y8:AA8,AD8:AF8,AN8:AP8)","v":652.70000000000005},0,{"$f":"#REF!+#REF!","v":{"$error":"#REF!"}}]
[null,"   заместители директора","04",382.1,null,null,382.1,null,null,{"$f":"Раздел12!I10+Раздел12!L10","v":382.1},{"$f":"Раздел12!K10+Раздел12!N10","v":0},null,null,null,null,null,null,null,null,null,null,null,null,null,null,null,null,null,null,null,null,null,null,null,null,null,null,null,null,null,null,null,null,null,{"$f":"#REF!+#REF!","v":{"$error":"#REF!"}},{"$f":"#REF!+#REF!","v":{"$error":"#REF!"}},382.1,0,{"$f":"#REF!+#REF!","v":{"$error":"#REF!"}}]
[null,"   тренерский персонал","05",2706.1,null,null,2706.1,null,null,{"$f":"Раздел12!I12+Раздел12!L12","v":2706.1},{"$f":"Раздел12!K12+Раздел12!N12","v":0},null,null,null,null,null,null,null,null,null,null,null,null,null,null,null,null,null,null,null,null,null,null,null,null,null,null,null,null,null,null,null,null,null,{"$f":"#REF!+#REF!","v":{"$error":"#REF!"}},{"$f":"#REF!+#REF!","v":{"$error":"#REF!"}},2706.1,0,{"$f":"#REF!+#REF!","v":{"$error":"#REF!"}}]
[null,"   методический персонал","06",0,null,null,null,null,null,{"$f":"Раздел12!I19+Раздел12!L19","v":0},{"$f":"Раздел12!K19+Раздел12!N19","v":0},null,null,null,null,null,null,null,null,null,null,null,null,null,null,null,null,null,null,null,null,null,null,null,null,null,null,null,null,null,null,null,null,null,{"$f":"#REF!+#REF!","v":{"$error":"#REF!"}},{"$f":"#REF!+#REF!","v":{"$error":"#REF!"}},0,0,{"$f":"#REF!+#REF!","v":{"$error":"#REF!"}}]
[null,"   медицинские работники","07",0,null,null,null,null,null,{"$f":"Раздел12!I23+Раздел12!L23","v":0},{"$f":"Раздел12!K23+Раздел12!N23","v":0},null,null,null,null,null,null,null,null,null,null,null,null,null,null,null,null,null,null,null,null,null,null,null,null,null,null,null,null,null,null,null,null,null,{"$f":"#REF!+#REF!","v":{"$error":"#REF!"}},{"$f":"#REF!+#REF!","v":{"$error":"#REF!"}},0,0,{"$f":"#REF!+#REF!","v":{"$error":"#REF!"}}]
[null,"   прочий персонал","08",76.400000000000006,null,null,76.400000000000006,null,null,{"$f":"Раздел12!I27+Раздел12!L27","v":76.400000000000006},{"$f":"Раздел12!K27+Раздел12!N27","v":0},null,null,null,null,null,null,null,null,null,null,null,null,null,null,null,null,null,null,null,null,null,null,null,null,null,null,null,null,null,null,null,null,null,{"$f":"#REF!+#REF!","v":{"$error":"#REF!"}},{"$f":"#REF!+#REF!","v":{"$error":"#REF!"}},76.400000000000006,0,{"$f":"#REF!+#REF!","v":{"$error":"#REF!"}}]
[null,"   страховые взносы с заработной платы","09",1161.4000000000001,null,null,1161.4000000000001,null,null,{"$f":"Раздел12!I28+Раздел12!L28","v":1161.4000000000001},{"$f":"Раздел12!K28+Раздел12!N28","v":0},null,null,null,null,null,null,null,null,null,null,null,null,null,null,null,null,null,null,null,null,null,null,null,null,null,null,null,null,null,null,null,null,null,{"$f":"#REF!+#REF!","v":{"$error":"#REF!"}},{"$f":"#REF!+#REF!","v":{"$error":"#REF!"}},1161.4000000000001,0,{"$f":"#REF!+#REF!","v":{"$error":"#REF!"}}]
[null,"Оздоровительная кампания",10,0]
[null,"Участие в соревнованиях и\nтренировочных сборах - всего",11,77.7,{"$f":"SUM(E17:E21)","v":0},{"$f":"SUM(F17:F21)","v":0},77.7,0]
[null,"   в том числе: \n   тренерский состав",12,77.7,null,null,77.7]
[null,"   спортсмены, спортсмены-инструкторы",13,0]
[null,"   медицинский персонал",14,0]
[null,"   прочий персонал",15,0]
[null,"   другие расходы",16,0]
[null,"Материально-техническое обеспечение",17,{"$f":"SUM(E22:H22)","v":149.5},{"$f":"SUM(E23:E24)","v":0},{"$f":"SUM(F23:F24)","v":0},149.5,0]
[null,"   в том числе: \n   экипировка, спортивное оборудование, \n   инвентарь",18,0]
[null,"   прочее",19,149.5,null,null,149.5]
[null,"Содержание спортивных сооружений",20,0,{"$f":"SUM(E26:E28)","v":0},{"$f":"SUM(F26:F28)","v":0},0,0]
[null,"   в том числе: \n   аренда (услуги спортсооружений)",21,0]
[null,"   собственные спортсооружения",22,0]
[null,"   другие расходы на содержание",23,0]
[null,"Прочие расходы",24,{"$f":"SUM(E29:H29)","v":25.8},null,null,25.8]
[null,null,null,{"$f":"Раздел1!G9","v":0}]
[]
[null,"Поступило средств от предоставления платных услуг, тысяча рублей:"]
[]
[null,"Всего (25)"]
[]
[null,"Должностное лицо, ответственное за предоставление первичных статистических данных (лицо, уполномоченное предоставлять первичные статистические данные от имени юридического лица)"]
[null,"ЗД по УВР",null,null,null,null,null,"Т.Н.Черкасова"]
[null,"(должность)",null,null,null,null,null,"(Ф.И.О.)",null,null,null,null,null,null,null,null,null,null,null,null,null,null,null,"(подпись)"]
[]
[null,null,89225466889,null,null,null,"e-mail","dushgai@mail.ru",null,null,null,null,null,null,null,null,null,null,null,null,null,null,null,"«       »                20       год"]
[null,null,"(номер контактного телефона)",null,null,null,null,null,null,null,null,null,null,null,null,null,null,null,null,null,null,null,null,"(дата составления\nдокумента)"]